From mboxrd@z Thu Jan 1 00:00:00 1970 Return-Path: Received: from mails.dpdk.org (mails.dpdk.org [217.70.189.124]) by inbox.dpdk.org (Postfix) with ESMTP id 364014672B for ; Mon, 12 May 2025 21:58:38 +0200 (CEST) Received: from mails.dpdk.org (localhost [127.0.0.1]) by mails.dpdk.org (Postfix) with ESMTP id 087954026C; Mon, 12 May 2025 21:58:38 +0200 (CEST) Received: from mail-io1-f100.google.com (mail-io1-f100.google.com [209.85.166.100]) by mails.dpdk.org (Postfix) with ESMTP id 8B4FA4025F for ; Mon, 12 May 2025 21:58:37 +0200 (CEST) Received: by mail-io1-f100.google.com with SMTP id ca18e2360f4ac-861d7a09c88so81075039f.2 for ; Mon, 12 May 2025 12:58:37 -0700 (PDT) DKIM-Signature: v=1; a=rsa-sha256; c=relaxed/relaxed; d=iol.unh.edu; s=unh-iol; t=1747079917; x=1747684717; darn=dpdk.org; h=references:in-reply-to:cc:to:from:subject:message-id:date:from:to :cc:subject:date:message-id:reply-to; bh=zOdGeiX91iJY6+O2ZxyIta+AqqlAZoY1dIlA+YMb84g=; b=W/qKSJE+K5Acb4xCjvK1foheeNScu7V5coN5QC0KcmxLn0TLCTV9JHOjz6tXG3Frw7 gWbdOilME93jkfoYnDnwvxgQQIMZi/LBMeOYdnCjF7BSRXQxiT6if3BLDhZND2Pzn3Sl a2cBSsx51lLO1VgcVfvjITW1TZV4VJyBBzXjU= X-Google-DKIM-Signature: v=1; a=rsa-sha256; c=relaxed/relaxed; d=1e100.net; s=20230601; t=1747079917; x=1747684717; h=references:in-reply-to:cc:to:from:subject:message-id:date :x-gm-message-state:from:to:cc:subject:date:message-id:reply-to; bh=zOdGeiX91iJY6+O2ZxyIta+AqqlAZoY1dIlA+YMb84g=; b=fvYexec9E7DMXseGnLM1tzSaUfv7ruHkKvlce0xQ5u0hATi87E4Hraco6zCxxNtqma IRKCmJJwDF0GKpd33yDsjDPEQVNXDVEmxUVkA1aPUaYY0ITQruoc6M/xRlVy88sWPkjI J3dPxgNP2TUFVE0s5vaAng/Dvl1L/I3ns3iZNaxO4CSD1LcTjmT8jwt628Y4J6ONWJFK Kb//OZoh/xO3i7W2IQtnB/qroMCtjP9GNP/4V6b9cOdnlvvSwZLTouMyliByUJ6Ktxi1 BQJJwr1xAVS7OOOar94/Cf3jvA4H04yx0lUZNCIKbaSFvHu8+NNx++d8o5J9ytu/Lii5 5NDg== X-Gm-Message-State: AOJu0YxZiu+2qSuKL0cEEBni0R3gXtKMZmwqJbRTrxyvkHLEanhzPBwj SQrpKIr1QjRJqkCNYtSs4N/a73WpetVR8RfD4Aj+QK7+a5r6Pnun+wF9G8cRRoqYwBMK6FYs+71 BrPh8Rq6ozy/p0g43JcG9G8h8efdX/WPVK+Et1biJ X-Gm-Gg: ASbGncv03kIycEmHkqqcPISACU9F6ciW+IF+3ftU1HSaC1JCurIRXSx+sfn/Bsdj7xO /ianSJDYbplLNe1OUn62/TKu1fDKi6GvKdGpAoP0hIClJlsZQB0acvJsmbGUpzzkE+IIJUk+sZx aVSALpB2OOxG+in/DhybRxnvOodowR4T+sCwfh5OiGc7stssm2WP+C5LnpVkT5+6+XZCkeIg7mU NEhQXmJXpGKZb4XyHMCnQhrf2n3ncjYY0t3artaBGDu9Xm7ggW0G2LC+VqMaVGdTS6VKwbx1MqC HOBiBeDgE1uml/ox+BtFhzQ0ldMkDqX4oTc56s+xd3taNwDxGpc5jahkCjc= X-Google-Smtp-Source: AGHT+IHJI86SbgblvzO/VMZwC7UjWXRsVSAnVZt5iwWUK4G5M3Mgoc9gbhNUzoh0t8pgJrBE11yBByPx5bH9 X-Received: by 2002:a05:6602:6d17:b0:864:9cc7:b847 with SMTP id ca18e2360f4ac-867636b841bmr1802407039f.14.1747079916702; Mon, 12 May 2025 12:58:36 -0700 (PDT) Received: from postal.iol.unh.edu (postal.iol.unh.edu. [132.177.123.84]) by smtp-relay.gmail.com with ESMTPS id ca18e2360f4ac-86763779d1csm42013339f.24.2025.05.12.12.58.36 (version=TLS1_2 cipher=ECDHE-ECDSA-AES128-GCM-SHA256 bits=128/128); Mon, 12 May 2025 12:58:36 -0700 (PDT) X-Relaying-Domain: iol.unh.edu Date: Mon, 12 May 2025 12:58:36 -0700 (PDT) Message-ID: <682252ec.050a0220.10a3c4.692cSMTPIN_ADDED_MISSING@mx.google.com> Received: from [172.17.0.2] (unknown [172.18.0.74]) by postal.iol.unh.edu (Postfix) with ESMTP id E4E4E6052471; Mon, 12 May 2025 15:58:35 -0400 (EDT) Subject: |SUCCESS| pw153425 [PATCH] net/tap: fix add qdisc failed when create From: dpdklab@iol.unh.edu To: Test Report Cc: dpdk-test-reports@iol.unh.edu In-Reply-To: References: Content-Type: text/plain X-BeenThere: test-report@dpdk.org X-Mailman-Version: 2.1.29 Precedence: list List-Id: automatic DPDK test reports List-Unsubscribe: , List-Archive: List-Post: List-Help: List-Subscribe: , Errors-To: test-report-bounces@dpdk.org Test-Label: iol-unit-arm64-testing Test-Status: SUCCESS http://dpdk.org/patch/153425 _Testing PASS_ Submitter: luyan <973788536@qq.com> Date: Monday, May 12 2025 08:22:04 DPDK git baseline: Repo:dpdk Branch: master CommitID:ff05ee3e3f8fb4ce958a2ce6461e8141aea959c6 153425 --> testing pass Upstream job id: Generic-Unit-Test-DPDK#337282 Test environment and result as below: +-----------------------------+--------------+------------------------------+---------------------------+----------------+ | Environment | lpm_autotest | cryptodev_sw_snow3g_autotest | cryptodev_sw_zuc_autotest | dpdk_unit_test | +=============================+==============+==============================+===========================+================+ | Ubuntu 20.04 ARM SVE | PASS | SKIPPED | SKIPPED | SKIPPED | +-----------------------------+--------------+------------------------------+---------------------------+----------------+ | Debian 12 (arm) | SKIPPED | PASS | PASS | PASS | +-----------------------------+--------------+------------------------------+---------------------------+----------------+ | CentOS Stream 10 (ARM) | SKIPPED | SKIPPED | SKIPPED | PASS | +-----------------------------+--------------+------------------------------+---------------------------+----------------+ | Fedora 40 (ARM) | SKIPPED | SKIPPED | SKIPPED | PASS | +-----------------------------+--------------+------------------------------+---------------------------+----------------+ | Fedora 40 (ARM Clang) | SKIPPED | SKIPPED | SKIPPED | PASS | +-----------------------------+--------------+------------------------------+---------------------------+----------------+ | Ubuntu 22.04 (ARM) | SKIPPED | SKIPPED | SKIPPED | PASS | +-----------------------------+--------------+------------------------------+---------------------------+----------------+ | Fedora 41 (ARM) | SKIPPED | SKIPPED | SKIPPED | PASS | +-----------------------------+--------------+------------------------------+---------------------------+----------------+ | CentOS Stream 9 (ARM) | SKIPPED | SKIPPED | SKIPPED | PASS | +-----------------------------+--------------+------------------------------+---------------------------+----------------+ | Ubuntu 20.04 (ARM) | SKIPPED | SKIPPED | SKIPPED | PASS | +-----------------------------+--------------+------------------------------+---------------------------+----------------+ | Fedora 41 (ARM Clang) | SKIPPED | SKIPPED | SKIPPED | PASS | +-----------------------------+--------------+------------------------------+---------------------------+----------------+ | Ubuntu 24.04 (ARM) | SKIPPED | SKIPPED | SKIPPED | PASS | +-----------------------------+--------------+------------------------------+---------------------------+----------------+ | RHEL9 (ARM) | SKIPPED | SKIPPED | SKIPPED | PASS | +-----------------------------+--------------+------------------------------+---------------------------+----------------+ | 32-bit Ubuntu 22.04.4 (ARM) | SKIPPED | SKIPPED | SKIPPED | PASS | +-----------------------------+--------------+------------------------------+---------------------------+----------------+ Ubuntu 20.04 ARM SVE Kernel: Depends on container host Compiler: gcc (Ubuntu 10.5.0-1ubuntu1~20.04) 10.5.0 Debian 12 (arm) Kernel: Depends on container host Compiler: gcc (Debian 12.2.0-14) 12.2.0 CentOS Stream 10 (ARM) Kernel: Depends on container host Compiler: gcc 14.2.1 20241104 (Red Hat 14.2.1-6) Fedora 40 (ARM) Kernel: Depends on container host Compiler: gcc 14.2.1 20240912 (Red Hat 14.2.1-3) Fedora 40 (ARM Clang) Kernel: Depends on container host Compiler: clang 18.1.8 (Fedora 18.1.8-1.fc40) Ubuntu 22.04 (ARM) Kernel: Depends on container host Compiler: gcc (Ubuntu 11.4.0-1ubuntu1~22.04) 11.4.0 Fedora 41 (ARM) Kernel: Depends on container host Compiler: gcc 14.2.1 20240912 (Red Hat 14.2.1-3) CentOS Stream 9 (ARM) Kernel: Depends on container host Compiler: gcc 11.5.0 20240719 (Red Hat 11.5.0-2) Ubuntu 20.04 (ARM) Kernel: Depends on container host Compiler: gcc (Ubuntu 9.4.0-1ubuntu1~20.04.2) 9.4.0 Fedora 41 (ARM Clang) Kernel: Depends on container host Compiler: clang 19.1.5 (Fedora 19.1.5-1.fc41) Ubuntu 24.04 (ARM) Kernel: Depends on container host Compiler: gcc (Ubuntu 13.3.0-6ubuntu2~24.04) 13.3.0 RHEL9 (ARM) Kernel: Depends on container host Compiler: gcc 11.5.0 20240719 (Red Hat 11.5.0-2) 32-bit Ubuntu 22.04.4 (ARM) Kernel: 5.15.83+ aarch64 Compiler: gcc (Ubuntu 11.4.0-1ubuntu1~22.04) 11.4.0 To view detailed results, visit: https://lab.dpdk.org/results/dashboard/patchsets/33160/ UNH-IOL DPDK Community Lab To manage your email subscriptions, visit: https://lab.dpdk.org/results/dashboard/preferences/subscriptions/