From mboxrd@z Thu Jan 1 00:00:00 1970 Return-Path: Received: from mails.dpdk.org (mails.dpdk.org [217.70.189.124]) by inbox.dpdk.org (Postfix) with ESMTP id CF60A4672C for ; Mon, 12 May 2025 22:44:34 +0200 (CEST) Received: from mails.dpdk.org (localhost [127.0.0.1]) by mails.dpdk.org (Postfix) with ESMTP id 9D8254026C; Mon, 12 May 2025 22:44:34 +0200 (CEST) Received: from mail-ua1-f100.google.com (mail-ua1-f100.google.com [209.85.222.100]) by mails.dpdk.org (Postfix) with ESMTP id AC19C4025F for ; Mon, 12 May 2025 22:44:33 +0200 (CEST) Received: by mail-ua1-f100.google.com with SMTP id a1e0cc1a2514c-87bb45a86ceso267155241.0 for ; Mon, 12 May 2025 13:44:33 -0700 (PDT) DKIM-Signature: v=1; a=rsa-sha256; c=relaxed/relaxed; d=iol.unh.edu; s=unh-iol; t=1747082673; x=1747687473; darn=dpdk.org; h=references:in-reply-to:cc:to:from:subject:message-id:date:from:to :cc:subject:date:message-id:reply-to; bh=3KELxitnqlNH/RpqxmatwjHu2kwG/ts4y4fPScTk+2k=; b=UnEbNeMTX9hUmwGlMVXHBQ+O9Xgkono2UAbSqeybAjS1q3bRT6ai6IAKIL07luwbwj xqGidYQDb8xKG7DhDj50w6f7Q3qQ2T8wkB1BnKqXVM2da37Kw3dz59XgdMjkIfXPIvLn Ula8yfN2j5eY4i7o+vV1/Wmp84Kn8TimFRBfY= X-Google-DKIM-Signature: v=1; a=rsa-sha256; c=relaxed/relaxed; d=1e100.net; s=20230601; t=1747082673; x=1747687473; h=references:in-reply-to:cc:to:from:subject:message-id:date :x-gm-message-state:from:to:cc:subject:date:message-id:reply-to; bh=3KELxitnqlNH/RpqxmatwjHu2kwG/ts4y4fPScTk+2k=; b=dn1M4fesPxXjUJ1XwOoRuMXFbhmMgMSNgPHGzK48M69jI9oSrzbniTzbeHDuT9tHls 54UiCoXyLtTXWAU73Ld2nn0Z1jUM2dFeVFr+i/E+63DOiT7EQYv7CtsILAevstBmpltA kGnElmgIUxi1RNeRsWuFwNCxsm/gWTvxOtANBwjfTqV+Fg0IKvO6bQpPtM9Nt3dF8VEv dOS3TMPyp1rHTcN8Lfr8Fb7Ntmj7oiPVqcT15BGyAQqn3Ki5sQLn+EcTlsNjpRS0t84w S6iAqNX9jfoZb6Jb3slRTu9uh7TxhSH5/mBI54QjWtGDfaOwp/51Dq3dwb1mU+AHmEzh qZNg== X-Gm-Message-State: AOJu0YyMXrHPET1MHSzYe55vfnJFm5gUy5jbtleGruh4hHqZrToY2AAY Rj6oSUh+PcEd43PLB+0w4Wp7u6rVQJq2PI1pSWK6qPF3XObPLYPi8mJc1wP//h7yPZU/UUXgVdq gxGflIVoGpYfDrpXYBnRqHintwOD6mpaVjhQUtlO9 X-Gm-Gg: ASbGncsp0MsHeSBDYTBreHzkELURzsfZ00hiZP8TCoFwhlY1qhzSe/Zp7NOT7gN4sHR pFAv7RmMHMNWWUOd4EAeRCPN8NTD8e4UnSWvPPLwt3EJkKPnHVWrRUdSfysxE8CVNnHvD3ZhKT3 ksIauJxGYFCPdk8yfKTxOkKd1juTytfkFtSqniPEyPgqpDjlgQyzRjNxodl1jFnA2u2FX0X8Cv/ 5rVadAr5JTK4yr8q8ejYLj38BWvo4xjR0qPHJyruHNfo5VsSr8OGFI9cHml0PUhBzyRq3WF9Hh+ waMgwsVGkCuQxBOnCnYzF0crrY/nUIvbRi22S+k6nbQZv18S365nr+HRarI= X-Google-Smtp-Source: AGHT+IEUwRBdMwd8flHDHc/UJBamZjCEY2tJlMHywCO9h1BARsIX8ETay+HaeXC9LDAIHimCL77pQxPChtdO X-Received: by 2002:a05:6102:15a0:b0:4c2:ffc8:93d9 with SMTP id ada2fe7eead31-4deed33e036mr12772017137.9.1747082672937; Mon, 12 May 2025 13:44:32 -0700 (PDT) Received: from postal.iol.unh.edu (postal.iol.unh.edu. [132.177.123.84]) by smtp-relay.gmail.com with ESMTPS id a1e0cc1a2514c-879f61d58a9sm229761241.6.2025.05.12.13.44.32 (version=TLS1_2 cipher=ECDHE-ECDSA-AES128-GCM-SHA256 bits=128/128); Mon, 12 May 2025 13:44:32 -0700 (PDT) X-Relaying-Domain: iol.unh.edu Date: Mon, 12 May 2025 13:44:32 -0700 (PDT) Message-ID: <68225db0.b00a0220.27c474.bcc9SMTPIN_ADDED_MISSING@mx.google.com> Received: from [172.17.0.2] (unknown [172.18.0.74]) by postal.iol.unh.edu (Postfix) with ESMTP id 73C456052471; Mon, 12 May 2025 16:44:32 -0400 (EDT) Subject: |SUCCESS| pw153425 [PATCH] net/tap: fix add qdisc failed when create From: dpdklab@iol.unh.edu To: Test Report Cc: dpdk-test-reports@iol.unh.edu In-Reply-To: References: Content-Type: text/plain X-BeenThere: test-report@dpdk.org X-Mailman-Version: 2.1.29 Precedence: list List-Id: automatic DPDK test reports List-Unsubscribe: , List-Archive: List-Post: List-Help: List-Subscribe: , Errors-To: test-report-bounces@dpdk.org Test-Label: iol-compile-arm64-testing Test-Status: SUCCESS http://dpdk.org/patch/153425 _Testing PASS_ Submitter: luyan <973788536@qq.com> Date: Monday, May 12 2025 08:22:04 DPDK git baseline: Repo:dpdk Branch: master CommitID:ff05ee3e3f8fb4ce958a2ce6461e8141aea959c6 153425 --> testing pass Upstream job id: Generic-DPDK-Compile-Meson#387370 Test environment and result as below: +----------------------------------------+--------------------+ | Environment | dpdk_meson_compile | +========================================+====================+ | RHEL9 (ARM) | PASS | +----------------------------------------+--------------------+ | Ubuntu 20.04 ARM GCC Cross Compile | PASS | +----------------------------------------+--------------------+ | Ubuntu 20.04 ARM SVE | PASS | +----------------------------------------+--------------------+ | Fedora 40 (ARM Clang) | PASS | +----------------------------------------+--------------------+ | Debian 12 with MUSDK | PASS | +----------------------------------------+--------------------+ | Fedora 40 (ARM) | PASS | +----------------------------------------+--------------------+ | CentOS Stream 10 (ARM) | PASS | +----------------------------------------+--------------------+ | Fedora 41 (ARM) | PASS | +----------------------------------------+--------------------+ | CentOS Stream 9 (ARM) | PASS | +----------------------------------------+--------------------+ | Ubuntu 22.04 (ARM) | PASS | +----------------------------------------+--------------------+ | Ubuntu 20.04 (ARM) | PASS | +----------------------------------------+--------------------+ | Fedora 41 (ARM Clang) | PASS | +----------------------------------------+--------------------+ | Ubuntu 24.04 (ARM) | PASS | +----------------------------------------+--------------------+ | Debian 12 (arm) | PASS | +----------------------------------------+--------------------+ | Ubuntu 20.04 ARM Clang Cross Compile | PASS | +----------------------------------------+--------------------+ | Ubuntu 20.04 aarch32 GCC Cross Compile | PASS | +----------------------------------------+--------------------+ RHEL9 (ARM) Kernel: Depends on container host Compiler: gcc 11.5.0 20240719 (Red Hat 11.5.0-2) Ubuntu 20.04 ARM GCC Cross Compile Kernel: Depends on container host Compiler: aarch64-linux-gnu-gcc (Ubuntu 9.4.0-1ubuntu1~20.04.2) 9.4.0 Ubuntu 20.04 ARM SVE Kernel: Depends on container host Compiler: gcc (Ubuntu 10.5.0-1ubuntu1~20.04) 10.5.0 Fedora 40 (ARM Clang) Kernel: Depends on container host Compiler: clang 18.1.8 (Fedora 18.1.8-1.fc40) Debian 12 with MUSDK Kernel: Depends on container host Compiler: gcc (Debian 12.2.0-14) 12.2.0 Fedora 40 (ARM) Kernel: Depends on container host Compiler: gcc 14.2.1 20240912 (Red Hat 14.2.1-3) CentOS Stream 10 (ARM) Kernel: Depends on container host Compiler: gcc 14.2.1 20241104 (Red Hat 14.2.1-6) Fedora 41 (ARM) Kernel: Depends on container host Compiler: gcc 14.2.1 20240912 (Red Hat 14.2.1-3) CentOS Stream 9 (ARM) Kernel: Depends on container host Compiler: gcc 11.5.0 20240719 (Red Hat 11.5.0-2) Ubuntu 22.04 (ARM) Kernel: Depends on container host Compiler: gcc (Ubuntu 11.4.0-1ubuntu1~22.04) 11.4.0 Ubuntu 20.04 (ARM) Kernel: Depends on container host Compiler: gcc (Ubuntu 9.4.0-1ubuntu1~20.04.2) 9.4.0 Fedora 41 (ARM Clang) Kernel: Depends on container host Compiler: clang 19.1.5 (Fedora 19.1.5-1.fc41) Ubuntu 24.04 (ARM) Kernel: Depends on container host Compiler: gcc (Ubuntu 13.3.0-6ubuntu2~24.04) 13.3.0 Debian 12 (arm) Kernel: Depends on container host Compiler: gcc (Debian 12.2.0-14) 12.2.0 Ubuntu 20.04 ARM Clang Cross Compile Kernel: Depends on container host Compiler: clang 10.0.0-4ubuntu1 Ubuntu 20.04 aarch32 GCC Cross Compile Kernel: Depends on container host Compiler: gcc 9.4.0 To view detailed results, visit: https://lab.dpdk.org/results/dashboard/patchsets/33160/ UNH-IOL DPDK Community Lab To manage your email subscriptions, visit: https://lab.dpdk.org/results/dashboard/preferences/subscriptions/