From: dpdklab@iol.unh.edu
To: Test Report <test-report@dpdk.org>
Cc: dpdk-test-reports@iol.unh.edu
Subject: |PENDING| pw153426 [PATCH] net/mana: check for vendor_part_id when p
Date: Mon, 12 May 2025 15:35:30 -0700 (PDT) [thread overview]
Message-ID: <682277b2.050a0220.21cfa4.9b3aSMTPIN_ADDED_MISSING@mx.google.com> (raw)
In-Reply-To: <1747086722-456-1-git-send-email-longli@linuxonhyperv.com>
Test-Label: iol-sample-apps-testing
Test-Status: PENDING
http://dpdk.org/patch/153426
_Testing pending_
Submitter: Long Li <longli@linuxonhyperv.com>
Date: Monday, May 12 2025 21:52:02
DPDK git baseline: Repo:dpdk
Branch: master
CommitID:ff05ee3e3f8fb4ce958a2ce6461e8141aea959c6
153426 --> testing pending
Upstream job id: Template-DTS-Pipeline#225497
Test environment and result as below:
+--------------------+----------------------+----------------------+
| Environment | dpdk_fips_validation | compressdev_zlib_pmd |
+====================+======================+======================+
| Ubuntu 20.04 | PEND | SKIPPED |
+--------------------+----------------------+----------------------+
| Ubuntu 22.04 (ARM) | SKIPPED | PASS |
+--------------------+----------------------+----------------------+
Ubuntu 20.04
Kernel: Depends on container host
Compiler: gcc (Ubuntu 9.4.0-1ubuntu1~20.04.2) 9.4.0
Ubuntu 22.04 (ARM)
Kernel: 5.15.0-97-generic
Compiler: gcc gcc (Ubuntu 11.4.0-1ubuntu1~22.04) 11.4.0
To view detailed results, visit:
https://lab.dpdk.org/results/dashboard/patchsets/33161/
UNH-IOL DPDK Community Lab
To manage your email subscriptions, visit:
https://lab.dpdk.org/results/dashboard/preferences/subscriptions/
next prev parent reply other threads:[~2025-05-12 22:35 UTC|newest]
Thread overview: 25+ messages / expand[flat|nested] mbox.gz Atom feed top
[not found] <1747086722-456-1-git-send-email-longli@linuxonhyperv.com>
2025-05-12 21:17 ` |SUCCESS| pw153426 [PATCH] net/mana: check for vendor_part_id when probing RDMA device qemudev
2025-05-12 21:21 ` qemudev
2025-05-12 21:53 ` checkpatch
2025-05-12 22:24 ` |SUCCESS| pw153426 [PATCH] net/mana: check for vendor_part_id when p dpdklab
2025-05-12 22:27 ` |PENDING| " dpdklab
2025-05-12 22:29 ` dpdklab
2025-05-12 22:30 ` |SUCCESS| " dpdklab
2025-05-12 22:35 ` dpdklab [this message]
2025-05-12 22:37 ` |PENDING| " dpdklab
2025-05-12 22:38 ` |WARNING| " dpdklab
2025-05-12 22:42 ` |SUCCESS| " dpdklab
2025-05-12 22:42 ` dpdklab
2025-05-12 22:45 ` dpdklab
2025-05-12 22:48 ` dpdklab
2025-05-12 22:51 ` |PENDING| " dpdklab
2025-05-12 22:55 ` |SUCCESS| " dpdklab
2025-05-12 22:59 ` dpdklab
2025-05-12 23:05 ` dpdklab
2025-05-12 23:09 ` dpdklab
2025-05-12 23:13 ` dpdklab
2025-05-12 23:19 ` |WARNING| " dpdklab
2025-05-12 23:23 ` |SUCCESS| pw153426 [PATCH] net/mana: check for vendor_part_id when probing RDMA device 0-day Robot
2025-05-12 23:26 ` |SUCCESS| pw153426 [PATCH] net/mana: check for vendor_part_id when p dpdklab
2025-05-12 23:50 ` dpdklab
2025-05-13 0:26 ` dpdklab
Reply instructions:
You may reply publicly to this message via plain-text email
using any one of the following methods:
* Save the following mbox file, import it into your mail client,
and reply-to-all from there: mbox
Avoid top-posting and favor interleaved quoting:
https://en.wikipedia.org/wiki/Posting_style#Interleaved_style
* Reply using the --to, --cc, and --in-reply-to
switches of git-send-email(1):
git send-email \
--in-reply-to=682277b2.050a0220.21cfa4.9b3aSMTPIN_ADDED_MISSING@mx.google.com \
--to=dpdklab@iol.unh.edu \
--cc=dpdk-test-reports@iol.unh.edu \
--cc=test-report@dpdk.org \
/path/to/YOUR_REPLY
https://kernel.org/pub/software/scm/git/docs/git-send-email.html
* If your mail client supports setting the In-Reply-To header
via mailto: links, try the mailto: link
Be sure your reply has a Subject: header at the top and a blank line
before the message body.
This is a public inbox, see mirroring instructions
for how to clone and mirror all data and code used for this inbox;
as well as URLs for NNTP newsgroup(s).