From mboxrd@z Thu Jan 1 00:00:00 1970 Return-Path: Received: from mails.dpdk.org (mails.dpdk.org [217.70.189.124]) by inbox.dpdk.org (Postfix) with ESMTP id B78424672C for ; Tue, 13 May 2025 01:05:11 +0200 (CEST) Received: from mails.dpdk.org (localhost [127.0.0.1]) by mails.dpdk.org (Postfix) with ESMTP id AC43E4026C; Tue, 13 May 2025 01:05:11 +0200 (CEST) Received: from mail-il1-f225.google.com (mail-il1-f225.google.com [209.85.166.225]) by mails.dpdk.org (Postfix) with ESMTP id 0FDBC4025F for ; Tue, 13 May 2025 01:05:11 +0200 (CEST) Received: by mail-il1-f225.google.com with SMTP id e9e14a558f8ab-3da7bfdef33so41172725ab.1 for ; Mon, 12 May 2025 16:05:11 -0700 (PDT) DKIM-Signature: v=1; a=rsa-sha256; c=relaxed/relaxed; d=iol.unh.edu; s=unh-iol; t=1747091110; x=1747695910; darn=dpdk.org; h=references:in-reply-to:cc:to:from:subject:message-id:date:from:to :cc:subject:date:message-id:reply-to; bh=pebkgw2matyHoJw2l/MT/OecfOBPzmVcFsmKeOS551c=; b=FbGFCy4ac7dE4VT03bd7zH84mpjhxGG4ZSrmxu6owDS6H15opKgpLMUpVd1AxqiCA7 Uplv82PRGVnFSdMdqycNTAlyi1U4iCDCeOZpUagwZF9LXs6huaiyQsJ+CprlaDSrIUFA LeTe39dv+66xrzW8gaurgBEb1qgXJ+P64rFWo= X-Google-DKIM-Signature: v=1; a=rsa-sha256; c=relaxed/relaxed; d=1e100.net; s=20230601; t=1747091110; x=1747695910; h=references:in-reply-to:cc:to:from:subject:message-id:date :x-gm-message-state:from:to:cc:subject:date:message-id:reply-to; bh=pebkgw2matyHoJw2l/MT/OecfOBPzmVcFsmKeOS551c=; b=rdPtqmfZYoSxnRKl24wCiRdjLXBSnfFvnKNsCj1vrNFRZdJak1CE1E+GfEgMb/e1kx UjYY9t6Wd0sU8SIH3SllSmkHdsz5wB4kuSxrzvgSVHRC3Xbx+rtTxUccnwDF4B8QwU/b 3Tc4clVNbyM70QOBmaqBkCsr4Pxdm9upMlphbBlfLaY5IDG6ZtW3RaPL5CE4qQMtNPg7 gplKNYWzIFcN4ReR3dojWbASNUmGxZ4Wo79OJqZ0OBEtVGeClB1f2fwaEysqpS2k5qYb /gfx+7YY91n5bouoAzP2b8O+twC0K5CCNp69RSs8jfiIyCkxbDrWk64sH0LkwpFY+bA1 fPMw== X-Gm-Message-State: AOJu0YxZ08c12KrAqC83VP0++LprXQVNyDW1N2dgK2FIYuU41LkAXJ8Z RnVqMgwGx5CGCOIFKlancZnxRvCAMmR3RFqZBcupEbGhozYPZ3nAfgGUBT65EjHOFmJxskw29XW aOMw2qRqTfN2oQsWNo28T0NEHqAQVZ6WJkONd+TSS X-Gm-Gg: ASbGncv0rltL7Ar55tiyGztmXAhm160ehdSvhOyYT+ZVFB7BhbQdVmODT1mvHw/HOIZ fRKFERbPronNHtbT7Rk8lgpwdKA7XqJjm1ln9bzeuiPac+A8T/pUswCqBJnnbw2w88fsAFvAcwn OFhpInbQhngVPUEHjVVpVShvJEv5hQW4NnCDZbv4txjXLB7ap2FejyitSclZSuabGLYFB0KVTdb 2k2hT/NXACXFtjQ6ZUVV36tGPnK7tvRtuDLSuy4w5FDZoT9IOiqMx/M3Gnag4Nmcu9uz8LqTmQf 7er1gywR/Dh+yv6yk82ItmuctferudZqHUYlfaQIKbdEfptq1vCIedY/3Ec= X-Google-Smtp-Source: AGHT+IFvoLBzDk+NBgFWNn4NEoTKnew98/fqZtRjKxR7wIiGv5L2JzERO5/wZMtVrAk2yisNBUYB/Jbkb3O/ X-Received: by 2002:a05:6e02:b2f:b0:3cf:c9ad:46a1 with SMTP id e9e14a558f8ab-3da7e1f458emr143417125ab.13.1747091110196; Mon, 12 May 2025 16:05:10 -0700 (PDT) Received: from postal.iol.unh.edu (postal.iol.unh.edu. [132.177.123.84]) by smtp-relay.gmail.com with ESMTPS id 8926c6da1cb9f-4fa2262f5e9sm104118173.69.2025.05.12.16.05.10 (version=TLS1_2 cipher=ECDHE-ECDSA-AES128-GCM-SHA256 bits=128/128); Mon, 12 May 2025 16:05:10 -0700 (PDT) X-Relaying-Domain: iol.unh.edu Date: Mon, 12 May 2025 16:05:10 -0700 (PDT) Message-ID: <68227ea6.050a0220.2b3e50.5683SMTPIN_ADDED_MISSING@mx.google.com> Received: from [172.21.0.5] (unknown [172.18.0.240]) by postal.iol.unh.edu (Postfix) with ESMTP id CD41A6052471; Mon, 12 May 2025 19:05:09 -0400 (EDT) Subject: |SUCCESS| pw153426 [PATCH] net/mana: check for vendor_part_id when p From: dpdklab@iol.unh.edu To: Test Report Cc: dpdk-test-reports@iol.unh.edu In-Reply-To: <1747086722-456-1-git-send-email-longli@linuxonhyperv.com> References: <1747086722-456-1-git-send-email-longli@linuxonhyperv.com> Content-Type: text/plain X-BeenThere: test-report@dpdk.org X-Mailman-Version: 2.1.29 Precedence: list List-Id: automatic DPDK test reports List-Unsubscribe: , List-Archive: List-Post: List-Help: List-Subscribe: , Errors-To: test-report-bounces@dpdk.org Test-Label: iol-sample-apps-testing Test-Status: SUCCESS http://dpdk.org/patch/153426 _Testing PASS_ Submitter: Long Li Date: Monday, May 12 2025 21:52:02 DPDK git baseline: Repo:dpdk Branch: master CommitID:ff05ee3e3f8fb4ce958a2ce6461e8141aea959c6 153426 --> testing pass Upstream job id: Template-DTS-Pipeline#225496 Test environment and result as below: +--------------------+----------------------+----------------------+ | Environment | dpdk_fips_validation | compressdev_zlib_pmd | +====================+======================+======================+ | Ubuntu 20.04 | PASS | SKIPPED | +--------------------+----------------------+----------------------+ | Ubuntu 22.04 (ARM) | SKIPPED | PASS | +--------------------+----------------------+----------------------+ | Ubuntu 22.04 | SKIPPED | PASS | +--------------------+----------------------+----------------------+ Ubuntu 20.04 Kernel: Depends on container host Compiler: gcc (Ubuntu 9.4.0-1ubuntu1~20.04.2) 9.4.0 Ubuntu 22.04 (ARM) Kernel: 5.15.0-97-generic Compiler: gcc gcc (Ubuntu 11.4.0-1ubuntu1~22.04) 11.4.0 Ubuntu 22.04 Kernel: 5.15.0-100-generic Compiler: gcc gcc (Ubuntu 11.4.0-1ubuntu1~22.04) 11.4.0 To view detailed results, visit: https://lab.dpdk.org/results/dashboard/patchsets/33161/ UNH-IOL DPDK Community Lab To manage your email subscriptions, visit: https://lab.dpdk.org/results/dashboard/preferences/subscriptions/