From mboxrd@z Thu Jan 1 00:00:00 1970 Return-Path: Received: from mails.dpdk.org (mails.dpdk.org [217.70.189.124]) by inbox.dpdk.org (Postfix) with ESMTP id 0D4B24672C for ; Tue, 13 May 2025 01:13:50 +0200 (CEST) Received: from mails.dpdk.org (localhost [127.0.0.1]) by mails.dpdk.org (Postfix) with ESMTP id D92B24026C; Tue, 13 May 2025 01:13:49 +0200 (CEST) Received: from mail-oo1-f100.google.com (mail-oo1-f100.google.com [209.85.161.100]) by mails.dpdk.org (Postfix) with ESMTP id 56B284025F for ; Tue, 13 May 2025 01:13:48 +0200 (CEST) Received: by mail-oo1-f100.google.com with SMTP id 006d021491bc7-6062e41916dso2461137eaf.1 for ; Mon, 12 May 2025 16:13:48 -0700 (PDT) DKIM-Signature: v=1; a=rsa-sha256; c=relaxed/relaxed; d=iol.unh.edu; s=unh-iol; t=1747091627; x=1747696427; darn=dpdk.org; h=references:in-reply-to:cc:to:from:subject:message-id:date:from:to :cc:subject:date:message-id:reply-to; bh=6sGTj1Ct0Zozb3N48a1g0Z70i7YuabdB1UPHU2WHLwk=; b=HQWhmuwb0PEyC9pFYLfaZT80+b5DNv5pCdIvq+kD6OwX8ScuTeIg/bQ1DI+VYzgB/m Q9eANRv8ChUi7FdUqn8nr4J1iRwRxGMLq/mbscyTV9fxRsnKzyBcSHxSl20AxEEF7hHw /EXElf2aAARvcIR+fdeeqEwXsH2MwJtQ1lnDQ= X-Google-DKIM-Signature: v=1; a=rsa-sha256; c=relaxed/relaxed; d=1e100.net; s=20230601; t=1747091627; x=1747696427; h=references:in-reply-to:cc:to:from:subject:message-id:date :x-gm-message-state:from:to:cc:subject:date:message-id:reply-to; bh=6sGTj1Ct0Zozb3N48a1g0Z70i7YuabdB1UPHU2WHLwk=; b=jMc0/m8quD7HPP40P+wZ95VfxvXFPJNtg52nX6CtePKURkPCDIXHipVwKcxexxTtg1 LPxC8SiymZz/QOt08HspOBxEBTNgdwz9cyJs6LtZIl/8JjpzW6gMvEKGpx+GiFGUnFXG eUig/XP6dJ2aRVNmMvCrHWsUqNzHc2E4L+mtYYz5BgZOczLmDLDreXLXyRM+khJiPQn7 2r9d8hNba361Sr5/feOARIEE4BUoHp4ztnSdX3nkAbM3wQI1aRqGnNFmq5Sb0a2fPyct vpoQZpAcKnf6DwgzEKhknI+y/ZPFYXYgRkwRF8fVYTXQ0J8OIm21JeIfwCSUc5LJ4b+m b/nA== X-Gm-Message-State: AOJu0YwO6I98sykUSeio0hthlL0Tdf+uL80Ba4vqBu3rnB7VDwmsI/2B 9UG84newDZp2n49+rsCD1O3fGIcPSztnkVvTTSTFACBMdM4tN6x0VyVLTHEIyJ8eMGpt0AN3jsg BBs58PuvagfAmfO6TqAkhvNr/3n2viefuCv73GFzQKMNxEUuyh090E3Ub X-Gm-Gg: ASbGncv7pYTvk6rDY9H82ZXH/XAz2VO+bW9qBYInkeBFEnTFZLgp7WJ79yxTctXCHbq HYzpHY3W95iInWdptL3P+4QBrWyKJLShHknZM2cxICYDBN1E850RpM6IijcSbTPt5CVkyqoxLos h+9Pwy11L+wMFmW2K/W9XJuM4tyw1cTliNkctiqa+nfat7PwEcUv2d2RvOvwR3l5rNlgcDeQARJ ZwVJTr/hGi01NIDkiP4T49nwwzukuK+HHd3RhnBn7Me7zDmEWOKgjz1p9mcilqNTmnX7e07DN+i 3n0Y5w4PVz6SBoVG8VcjMl3wet0O9HECYJCT X-Google-Smtp-Source: AGHT+IGChYex3NH8HQOlwaSOLIjGBSY6NhlcF+naNHGT/PQlwCubm95e1OL6Zjq1rzOXHt7QRD4Sz+VXp+Rz X-Received: by 2002:a05:6820:138c:b0:601:af96:36eb with SMTP id 006d021491bc7-6084b630096mr8675413eaf.4.1747091627490; Mon, 12 May 2025 16:13:47 -0700 (PDT) Received: from postal.iol.unh.edu (postal.iol.unh.edu. [2606:4100:3880:1234::84]) by smtp-relay.gmail.com with ESMTPS id 006d021491bc7-608433d2c86sm199849eaf.23.2025.05.12.16.13.47 (version=TLS1_2 cipher=ECDHE-ECDSA-AES128-GCM-SHA256 bits=128/128); Mon, 12 May 2025 16:13:47 -0700 (PDT) X-Relaying-Domain: iol.unh.edu Date: Mon, 12 May 2025 16:13:47 -0700 (PDT) Message-ID: <682280ab.050a0220.c528c.a903SMTPIN_ADDED_MISSING@mx.google.com> Received: from [172.21.0.5] (unknown [172.18.0.240]) by postal.iol.unh.edu (Postfix) with ESMTP id 364B26052471; Mon, 12 May 2025 19:13:46 -0400 (EDT) Subject: |SUCCESS| pw153426 [PATCH] net/mana: check for vendor_part_id when p From: dpdklab@iol.unh.edu To: Test Report Cc: dpdk-test-reports@iol.unh.edu In-Reply-To: <1747086722-456-1-git-send-email-longli@linuxonhyperv.com> References: <1747086722-456-1-git-send-email-longli@linuxonhyperv.com> Content-Type: text/plain X-BeenThere: test-report@dpdk.org X-Mailman-Version: 2.1.29 Precedence: list List-Id: automatic DPDK test reports List-Unsubscribe: , List-Archive: List-Post: List-Help: List-Subscribe: , Errors-To: test-report-bounces@dpdk.org Test-Label: iol-unit-amd64-testing Test-Status: SUCCESS http://dpdk.org/patch/153426 _Testing PASS_ Submitter: Long Li Date: Monday, May 12 2025 21:52:02 DPDK git baseline: Repo:dpdk Branch: master CommitID:ff05ee3e3f8fb4ce958a2ce6461e8141aea959c6 153426 --> testing pass Upstream job id: Generic-Unit-Test-DPDK#337309 Test environment and result as below: +---------------------+----------------+ | Environment | dpdk_unit_test | +=====================+================+ | CentOS Stream 9 | PASS | +---------------------+----------------+ | Ubuntu 22.04 | PASS | +---------------------+----------------+ | Fedora 40 (Clang) | PASS | +---------------------+----------------+ | RHEL9 | PASS | +---------------------+----------------+ | Ubuntu 20.04 | PASS | +---------------------+----------------+ | Fedora 40 | PASS | +---------------------+----------------+ | Fedora 41 (Clang) | PASS | +---------------------+----------------+ | Fedora 41 | PASS | +---------------------+----------------+ | Debian 12 | PASS | +---------------------+----------------+ | CentOS Stream 10 | PASS | +---------------------+----------------+ | Ubuntu 24.04 | PASS | +---------------------+----------------+ | RHEL8 | PASS | +---------------------+----------------+ | Windows Server 2022 | PASS | +---------------------+----------------+ CentOS Stream 9 Kernel: Depends on container host Compiler: gcc 11.5.0 20240719 (Red Hat 11.5.0-2) Ubuntu 22.04 Kernel: Depends on container host Compiler: gcc (Ubuntu 11.4.0-1ubuntu1~22.04) 11.4.0 Fedora 40 (Clang) Kernel: Depends on container host Compiler: clang 18.1.8 (Fedora 18.1.8-1.fc40) RHEL9 Kernel: Depends on container host Compiler: gcc 11.5.0 20240719 (Red Hat 11.5.0-2) Ubuntu 20.04 Kernel: Depends on container host Compiler: gcc (Ubuntu 9.4.0-1ubuntu1~20.04.2) 9.4.0 Fedora 40 Kernel: Depends on container host Compiler: gcc 14.2.1 20240912 (Red Hat 14.2.1-3) Fedora 41 (Clang) Kernel: Depends on container host Compiler: clang 19.1.5 (Fedora 19.1.5-1.fc41) Fedora 41 Kernel: Depends on container host Compiler: gcc 14.2.1 20240912 (Red Hat 14.2.1-3) Debian 12 Kernel: Depends on container host Compiler: gcc (Debian 12.2.0-14) 12.2.0 CentOS Stream 10 Kernel: Depends on container host Compiler: gcc 14.2.1 20241104 (Red Hat 14.2.1-6) Ubuntu 24.04 Kernel: Depends on container host Compiler: gcc (Ubuntu 13.3.0-6ubuntu2~24.04) 13.3.0 RHEL8 Kernel: Depends on container host Compiler: gcc 8.5.0 20210514 (Red Hat 8.5.0-22) Windows Server 2022 Kernel: 10.0.20348.2031 Compiler: clang 15.0.7, gcc 14.1.0 (MinGW), and MSVC VS 19.39.33521 To view detailed results, visit: https://lab.dpdk.org/results/dashboard/patchsets/33161/ UNH-IOL DPDK Community Lab To manage your email subscriptions, visit: https://lab.dpdk.org/results/dashboard/preferences/subscriptions/