From mboxrd@z Thu Jan 1 00:00:00 1970 Return-Path: Received: from mails.dpdk.org (mails.dpdk.org [217.70.189.124]) by inbox.dpdk.org (Postfix) with ESMTP id 48FEE4672C for ; Tue, 13 May 2025 01:26:42 +0200 (CEST) Received: from mails.dpdk.org (localhost [127.0.0.1]) by mails.dpdk.org (Postfix) with ESMTP id 246744026C; Tue, 13 May 2025 01:26:42 +0200 (CEST) Received: from mail-il1-f226.google.com (mail-il1-f226.google.com [209.85.166.226]) by mails.dpdk.org (Postfix) with ESMTP id 9ED944025F for ; Tue, 13 May 2025 01:26:40 +0200 (CEST) Received: by mail-il1-f226.google.com with SMTP id e9e14a558f8ab-3d948ce7d9dso19928935ab.2 for ; Mon, 12 May 2025 16:26:40 -0700 (PDT) DKIM-Signature: v=1; a=rsa-sha256; c=relaxed/relaxed; d=iol.unh.edu; s=unh-iol; t=1747092400; x=1747697200; darn=dpdk.org; h=references:in-reply-to:cc:to:from:subject:message-id:date:from:to :cc:subject:date:message-id:reply-to; bh=tCinSFhgo2+9RIpK9cy0DrHHHAUCDfkU3fkgmUchlnc=; b=RMcSnxbGftMBti5xXl7K7we7FUWlQM/rfsstN/4FsUf1kekSrznLUETaYih1/Nx/sz vp5bdK/E79VkuzBLsBTXdN5r1yaGD9yKAwofCUbdJe+Xtod5eE2Mm6niHGEZRGc2OLkW yGCzKtgFBt4flM7V3+gWBsolTNXBrSJC1ntr8= X-Google-DKIM-Signature: v=1; a=rsa-sha256; c=relaxed/relaxed; d=1e100.net; s=20230601; t=1747092400; x=1747697200; h=references:in-reply-to:cc:to:from:subject:message-id:date :x-gm-message-state:from:to:cc:subject:date:message-id:reply-to; bh=tCinSFhgo2+9RIpK9cy0DrHHHAUCDfkU3fkgmUchlnc=; b=VxZ0CGQcz8d+oI44xw9DHUOY0tb6rF0MoX17JK3Cqkl9eqpgPkyHvncXgzfYhxVT+v WMWrSEmJfeaTqwNjtuUDEIBn00qGioL7NLemSuYCBJ2fyx2xEHlEK31sv8J7CmzBpsAI 5Y8v71WRY7eNAIDFQOC1IKAM1vwwUxQXO1KBrRIbjyxlzqR/DPtV1XVYd90xHhRqZ0LE qydZfO8VOn56u550w5kgFy3rjLKRFKRUfTPZLyqGgfFLUdUXph8eruKwMXbLSmloRgWf 8fihUmH5jKEIKgzkUkuRArZ98jbrQAqRhkw63+39muhVX05RUrLOzJQoccciSdZrsqSF siaQ== X-Gm-Message-State: AOJu0YyVtYmaeeVuBnINRrwfrtYhlBamaSf8baf9yRONX2WSh27BrxKZ FrBjroT4SE/Uh7isLVCKbrUYoWgaJAX88xeCHBeKf1TKyKpIe0+rg7Ww8Xn8d6ktCUskIMbRTtV DkBABjQ3UZ9DcU9jqC32zpvfmQvQbMdwsTFamljLT X-Gm-Gg: ASbGncupYEWBYIFlj76U6XTqzbgAk9kuqy3KVIlMUl0i6tR5ZkyxL+X+vV+9JRjqaod qceo/94uOUytegZaI+rrrFcTquOeaM+O9ppA3uRSA4+obkXYk9Eu9QbTSzpJj5iRzDcnvULIyd0 8+MIFmYZ36tKFS5RkKIq5uxbbrgwz+glC26+1T2Qm+xriSwsxTtbn75G0V+eI/OZUvgypph0ify JdFh/uMNiOddWPffudpvwjA3/63Mawee+vqMm7CdShB8T7lFjcX+IKpZw6Vz2cZ2n/ArX7vpk9S ONk/TVMVwkxPXxBXuauD5/NRphvRiW2DVeEkHoU+SrsSmdVqqPU0o9YtQ4o= X-Google-Smtp-Source: AGHT+IGcETbV2vNIEa7QMpRQ9X9n12ZrD76AKyn2VJMiLCstF1TYoSWlQ6MVKmYkSs4Az8P8QTmp1V+IZJ71 X-Received: by 2002:a05:6e02:1544:b0:3d9:6cd9:5074 with SMTP id e9e14a558f8ab-3da7e211140mr150827915ab.16.1747092399750; Mon, 12 May 2025 16:26:39 -0700 (PDT) Received: from postal.iol.unh.edu (postal.iol.unh.edu. [132.177.123.84]) by smtp-relay.gmail.com with ESMTPS id e9e14a558f8ab-3da7e102fe2sm5464965ab.17.2025.05.12.16.26.39 (version=TLS1_2 cipher=ECDHE-ECDSA-AES128-GCM-SHA256 bits=128/128); Mon, 12 May 2025 16:26:39 -0700 (PDT) X-Relaying-Domain: iol.unh.edu Date: Mon, 12 May 2025 16:26:39 -0700 (PDT) Message-ID: <682283af.050a0220.1cc4b2.cbb9SMTPIN_ADDED_MISSING@mx.google.com> Received: from [172.17.0.2] (unknown [172.18.0.74]) by postal.iol.unh.edu (Postfix) with ESMTP id 58BA46052471; Mon, 12 May 2025 19:26:39 -0400 (EDT) Subject: |SUCCESS| pw153426 [PATCH] net/mana: check for vendor_part_id when p From: dpdklab@iol.unh.edu To: Test Report Cc: dpdk-test-reports@iol.unh.edu In-Reply-To: <1747086722-456-1-git-send-email-longli@linuxonhyperv.com> References: <1747086722-456-1-git-send-email-longli@linuxonhyperv.com> Content-Type: text/plain X-BeenThere: test-report@dpdk.org X-Mailman-Version: 2.1.29 Precedence: list List-Id: automatic DPDK test reports List-Unsubscribe: , List-Archive: List-Post: List-Help: List-Subscribe: , Errors-To: test-report-bounces@dpdk.org Test-Label: iol-compile-amd64-testing Test-Status: SUCCESS http://dpdk.org/patch/153426 _Testing PASS_ Submitter: Long Li Date: Monday, May 12 2025 21:52:02 DPDK git baseline: Repo:dpdk Branch: master CommitID:ff05ee3e3f8fb4ce958a2ce6461e8141aea959c6 153426 --> testing pass Upstream job id: Generic-DPDK-Compile-Meson#387383 Test environment and result as below: +-----------------------------------+--------------------+-------------------+------------------+-------------------+-------------------------+----------------------+ | Environment | dpdk_meson_compile | dpdk_compile_spdk | dpdk_compile_ovs | dpdk_msvc_compile | dpdk_llvm_clang_compile | dpdk_mingw64_compile | +===================================+====================+===================+==================+===================+=========================+======================+ | CentOS Stream 10 | PASS | SKIPPED | SKIPPED | SKIPPED | SKIPPED | SKIPPED | +-----------------------------------+--------------------+-------------------+------------------+-------------------+-------------------------+----------------------+ | Debian 12 | PASS | PASS | SKIPPED | SKIPPED | SKIPPED | SKIPPED | +-----------------------------------+--------------------+-------------------+------------------+-------------------+-------------------------+----------------------+ | CentOS Stream 9 | PASS | PASS | SKIPPED | SKIPPED | SKIPPED | SKIPPED | +-----------------------------------+--------------------+-------------------+------------------+-------------------+-------------------------+----------------------+ | Fedora 40 (Clang) | PASS | PASS | SKIPPED | SKIPPED | SKIPPED | SKIPPED | +-----------------------------------+--------------------+-------------------+------------------+-------------------+-------------------------+----------------------+ | Fedora 40 | PASS | PASS | SKIPPED | SKIPPED | SKIPPED | SKIPPED | +-----------------------------------+--------------------+-------------------+------------------+-------------------+-------------------------+----------------------+ | Fedora 41 (Clang) | PASS | PASS | PASS | SKIPPED | SKIPPED | SKIPPED | +-----------------------------------+--------------------+-------------------+------------------+-------------------+-------------------------+----------------------+ | Fedora 41 | PASS | PASS | PASS | SKIPPED | SKIPPED | SKIPPED | +-----------------------------------+--------------------+-------------------+------------------+-------------------+-------------------------+----------------------+ | openSUSE Leap 15 | PASS | SKIPPED | SKIPPED | SKIPPED | SKIPPED | SKIPPED | +-----------------------------------+--------------------+-------------------+------------------+-------------------+-------------------------+----------------------+ | RHEL9 | PASS | SKIPPED | SKIPPED | SKIPPED | SKIPPED | SKIPPED | +-----------------------------------+--------------------+-------------------+------------------+-------------------+-------------------------+----------------------+ | RHEL8 | PASS | SKIPPED | SKIPPED | SKIPPED | SKIPPED | SKIPPED | +-----------------------------------+--------------------+-------------------+------------------+-------------------+-------------------------+----------------------+ | Ubuntu 20.04 | PASS | SKIPPED | SKIPPED | SKIPPED | SKIPPED | SKIPPED | +-----------------------------------+--------------------+-------------------+------------------+-------------------+-------------------------+----------------------+ | Ubuntu 22.04 | PASS | PASS | SKIPPED | SKIPPED | SKIPPED | SKIPPED | +-----------------------------------+--------------------+-------------------+------------------+-------------------+-------------------------+----------------------+ | Ubuntu 24.04 | PASS | PASS | PASS | SKIPPED | SKIPPED | SKIPPED | +-----------------------------------+--------------------+-------------------+------------------+-------------------+-------------------------+----------------------+ | Ubuntu 24.04 32 Bit Cross Compile | PASS | SKIPPED | SKIPPED | SKIPPED | SKIPPED | SKIPPED | +-----------------------------------+--------------------+-------------------+------------------+-------------------+-------------------------+----------------------+ | Alpine | PASS | SKIPPED | SKIPPED | SKIPPED | SKIPPED | SKIPPED | +-----------------------------------+--------------------+-------------------+------------------+-------------------+-------------------------+----------------------+ | FreeBSD 13.5 | PASS | SKIPPED | SKIPPED | SKIPPED | SKIPPED | SKIPPED | +-----------------------------------+--------------------+-------------------+------------------+-------------------+-------------------------+----------------------+ | FreeBSD 14.2 | PASS | SKIPPED | SKIPPED | SKIPPED | SKIPPED | SKIPPED | +-----------------------------------+--------------------+-------------------+------------------+-------------------+-------------------------+----------------------+ | Windows Server 2022 | SKIPPED | SKIPPED | SKIPPED | PASS | PASS | PASS | +-----------------------------------+--------------------+-------------------+------------------+-------------------+-------------------------+----------------------+ CentOS Stream 10 Kernel: Depends on container host Compiler: gcc 14.2.1 20241104 (Red Hat 14.2.1-6) Debian 12 Kernel: Depends on container host Compiler: gcc (Debian 12.2.0-14) 12.2.0 CentOS Stream 9 Kernel: Depends on container host Compiler: gcc 11.5.0 20240719 (Red Hat 11.5.0-2) Fedora 40 (Clang) Kernel: Depends on container host Compiler: clang 18.1.8 (Fedora 18.1.8-1.fc40) Fedora 40 Kernel: Depends on container host Compiler: gcc 14.2.1 20240912 (Red Hat 14.2.1-3) Fedora 41 (Clang) Kernel: Depends on container host Compiler: clang 19.1.5 (Fedora 19.1.5-1.fc41) Fedora 41 Kernel: Depends on container host Compiler: gcc 14.2.1 20240912 (Red Hat 14.2.1-3) openSUSE Leap 15 Kernel: Depends on container host Compiler: gcc (SUSE Linux) 7.5.0 RHEL9 Kernel: Depends on container host Compiler: gcc 11.5.0 20240719 (Red Hat 11.5.0-2) RHEL8 Kernel: Depends on container host Compiler: gcc 8.5.0 20210514 (Red Hat 8.5.0-22) Ubuntu 20.04 Kernel: Depends on container host Compiler: gcc (Ubuntu 9.4.0-1ubuntu1~20.04.2) 9.4.0 Ubuntu 22.04 Kernel: Depends on container host Compiler: gcc (Ubuntu 11.4.0-1ubuntu1~22.04) 11.4.0 Ubuntu 24.04 Kernel: Depends on container host Compiler: gcc (Ubuntu 13.3.0-6ubuntu2~24.04) 13.3.0 Ubuntu 24.04 32 Bit Cross Compile Kernel: Depends on container host Compiler: gcc (Ubuntu 13.3.0-6ubuntu2~24.04) 13.3.0 Alpine Kernel: Depends on container host Compiler: gcc (Alpine 14.2.0) 14.2.0 FreeBSD 13.5 Kernel: 13.5-RELEASE Compiler: clang 19.1.7 FreeBSD 14.2 Kernel: 14.2-RELEASE Compiler: clang 18.1.6 Windows Server 2022 Kernel: 10.0.20348.2031 Compiler: clang 15.0.7, gcc 14.1.0 (MinGW), and MSVC VS 19.39.33521 To view detailed results, visit: https://lab.dpdk.org/results/dashboard/patchsets/33161/ UNH-IOL DPDK Community Lab To manage your email subscriptions, visit: https://lab.dpdk.org/results/dashboard/preferences/subscriptions/