From mboxrd@z Thu Jan 1 00:00:00 1970 Return-Path: Received: from mails.dpdk.org (mails.dpdk.org [217.70.189.124]) by inbox.dpdk.org (Postfix) with ESMTP id 7ACC84672C for ; Tue, 13 May 2025 01:50:49 +0200 (CEST) Received: from mails.dpdk.org (localhost [127.0.0.1]) by mails.dpdk.org (Postfix) with ESMTP id 4DA7A4026C; Tue, 13 May 2025 01:50:49 +0200 (CEST) Received: from mail-il1-f226.google.com (mail-il1-f226.google.com [209.85.166.226]) by mails.dpdk.org (Postfix) with ESMTP id 7981F4025F for ; Tue, 13 May 2025 01:50:47 +0200 (CEST) Received: by mail-il1-f226.google.com with SMTP id e9e14a558f8ab-3da831c17faso6566705ab.3 for ; Mon, 12 May 2025 16:50:47 -0700 (PDT) DKIM-Signature: v=1; a=rsa-sha256; c=relaxed/relaxed; d=iol.unh.edu; s=unh-iol; t=1747093847; x=1747698647; darn=dpdk.org; h=references:in-reply-to:cc:to:from:subject:message-id:date:from:to :cc:subject:date:message-id:reply-to; bh=w6jGPZN2CoWE7ob42AOgvo0zj94wqWs+Z23DxZY47p8=; b=VqKzeWKk03oFTBz4MJrypvQMcAOJv6oW2Srd7u0vFSynjE5OibM72qajtuNB7Vm7Bp Z9fU+XvKZd4e0Jsy2UGOlMBbR5KssZM6WgGOjddI6vHj/a5zZRJKYPBkC6naBYG+qCmS 9ilRcswEDJVEVo1C7qIuqkayGftcibEgwL70o= X-Google-DKIM-Signature: v=1; a=rsa-sha256; c=relaxed/relaxed; d=1e100.net; s=20230601; t=1747093847; x=1747698647; h=references:in-reply-to:cc:to:from:subject:message-id:date :x-gm-message-state:from:to:cc:subject:date:message-id:reply-to; bh=w6jGPZN2CoWE7ob42AOgvo0zj94wqWs+Z23DxZY47p8=; b=iDc0jqFsgJYlNzlJCzBGxcafNj5fF1O1x5dLXukdgF4KUYjbEI7Rzs8jE1Fb+PORjo 8Vf0CqXjrrzTLmKRJywHjYXrPgGjbgpPTJPBExNsxzfInnOu1t/kgUZyxzTdaa3tqBHq skcCCgt+cnxLrrZuDIVYPO7EIZzpXtr5gHbfdD68wqsJjHlbDbV+CF/93/bjCBpu5yoz pwww9jl0mXA1vworDcAjtO4VA8/ue1WsJ+TsYSDvN0czEDW+KgJNzMgioGMdVXiInUc+ upEwLlWOJXU3rhWMoNxC0i3naFFGND7ub25kiK23b3sH7MAAg+qzEeR8H7kCLpSg2mtb J97Q== X-Gm-Message-State: AOJu0YwmAKzDFWrmXl0k+0W2VONTKJY5261xQwYB9MBLH5Drio1pJaW2 fizu1cD0Jk6pnKNs0djcG4u87o08BG67mhK2nT1IGw9sevLnNxDmbbC5oV/KX17liVdX/wq1u0T QXltufyvvV0BTQO5m+ohvlrlrNlP0PMkyu4Dw1PlMqzD0ydeVIOnIidzq X-Gm-Gg: ASbGncshkE4wa3fEHyyYjJtEg5x4VpXbUyhGzeDkONI4LnsWuy5WVXqsO00kI6wLog6 mv3rvyUQubY6vnc2JE3+1XAmmqOV7io77MP6zp2T9p4CqmihA4JLtwsL3xgsM3Kpcadv7fdfSaV MewsTSNSgflvuFVKNxOfn8N5NErWYgLM2+RwR0yAltYzqgadfcoK2mrlyE0N60EAE/fwzGnHQjA iSw5jrG8rCCBvjEA62Cl41tnRPdGPe4FnX+5/Hitss+itvOGGPNoFnFja5CE8PmKWn7W/xzPjGF aP1N2wmwgvr2wcGdth1azl+ElG0yXoa6kzSa X-Google-Smtp-Source: AGHT+IGdmf7lwssrSmMI7lizdbL4w3ag4qNWMt5MB36UYcUPIYBxAqORx8yvqFol7u4NjO0ZkHNlAS4QAjCu X-Received: by 2002:a05:6e02:1485:b0:3da:7237:525a with SMTP id e9e14a558f8ab-3da7e1e6f96mr180137315ab.8.1747093846638; Mon, 12 May 2025 16:50:46 -0700 (PDT) Received: from postal.iol.unh.edu (postal.iol.unh.edu. [2606:4100:3880:1234::84]) by smtp-relay.gmail.com with ESMTPS id e9e14a558f8ab-3da7e15bc98sm5444045ab.51.2025.05.12.16.50.46 (version=TLS1_2 cipher=ECDHE-ECDSA-AES128-GCM-SHA256 bits=128/128); Mon, 12 May 2025 16:50:46 -0700 (PDT) X-Relaying-Domain: iol.unh.edu Date: Mon, 12 May 2025 16:50:46 -0700 (PDT) Message-ID: <68228956.050a0220.3b2150.d832SMTPIN_ADDED_MISSING@mx.google.com> Received: from [172.17.0.2] (unknown [172.18.0.74]) by postal.iol.unh.edu (Postfix) with ESMTP id 19E256052471; Mon, 12 May 2025 19:50:46 -0400 (EDT) Subject: |SUCCESS| pw153426 [PATCH] net/mana: check for vendor_part_id when p From: dpdklab@iol.unh.edu To: Test Report Cc: dpdk-test-reports@iol.unh.edu In-Reply-To: <1747086722-456-1-git-send-email-longli@linuxonhyperv.com> References: <1747086722-456-1-git-send-email-longli@linuxonhyperv.com> Content-Type: text/plain X-BeenThere: test-report@dpdk.org X-Mailman-Version: 2.1.29 Precedence: list List-Id: automatic DPDK test reports List-Unsubscribe: , List-Archive: List-Post: List-Help: List-Subscribe: , Errors-To: test-report-bounces@dpdk.org Test-Label: iol-unit-arm64-testing Test-Status: SUCCESS http://dpdk.org/patch/153426 _Testing PASS_ Submitter: Long Li Date: Monday, May 12 2025 21:52:02 DPDK git baseline: Repo:dpdk Branch: master CommitID:ff05ee3e3f8fb4ce958a2ce6461e8141aea959c6 153426 --> testing pass Upstream job id: Generic-Unit-Test-DPDK#337308 Test environment and result as below: +-----------------------------+---------------------------+------------------------------+--------------+----------------+ | Environment | cryptodev_sw_zuc_autotest | cryptodev_sw_snow3g_autotest | lpm_autotest | dpdk_unit_test | +=============================+===========================+==============================+==============+================+ | Debian 12 (arm) | PASS | PASS | SKIPPED | PASS | +-----------------------------+---------------------------+------------------------------+--------------+----------------+ | Ubuntu 20.04 ARM SVE | SKIPPED | SKIPPED | PASS | SKIPPED | +-----------------------------+---------------------------+------------------------------+--------------+----------------+ | CentOS Stream 9 (ARM) | SKIPPED | SKIPPED | SKIPPED | PASS | +-----------------------------+---------------------------+------------------------------+--------------+----------------+ | Fedora 40 (ARM Clang) | SKIPPED | SKIPPED | SKIPPED | PASS | +-----------------------------+---------------------------+------------------------------+--------------+----------------+ | Fedora 40 (ARM) | SKIPPED | SKIPPED | SKIPPED | PASS | +-----------------------------+---------------------------+------------------------------+--------------+----------------+ | Fedora 41 (ARM) | SKIPPED | SKIPPED | SKIPPED | PASS | +-----------------------------+---------------------------+------------------------------+--------------+----------------+ | CentOS Stream 10 (ARM) | SKIPPED | SKIPPED | SKIPPED | PASS | +-----------------------------+---------------------------+------------------------------+--------------+----------------+ | RHEL9 (ARM) | SKIPPED | SKIPPED | SKIPPED | PASS | +-----------------------------+---------------------------+------------------------------+--------------+----------------+ | Ubuntu 20.04 (ARM) | SKIPPED | SKIPPED | SKIPPED | PASS | +-----------------------------+---------------------------+------------------------------+--------------+----------------+ | Fedora 41 (ARM Clang) | SKIPPED | SKIPPED | SKIPPED | PASS | +-----------------------------+---------------------------+------------------------------+--------------+----------------+ | Ubuntu 22.04 (ARM) | SKIPPED | SKIPPED | SKIPPED | PASS | +-----------------------------+---------------------------+------------------------------+--------------+----------------+ | Ubuntu 24.04 (ARM) | SKIPPED | SKIPPED | SKIPPED | PASS | +-----------------------------+---------------------------+------------------------------+--------------+----------------+ | 32-bit Ubuntu 22.04.4 (ARM) | SKIPPED | SKIPPED | SKIPPED | PASS | +-----------------------------+---------------------------+------------------------------+--------------+----------------+ Debian 12 (arm) Kernel: Depends on container host Compiler: gcc (Debian 12.2.0-14) 12.2.0 Ubuntu 20.04 ARM SVE Kernel: Depends on container host Compiler: gcc (Ubuntu 10.5.0-1ubuntu1~20.04) 10.5.0 CentOS Stream 9 (ARM) Kernel: Depends on container host Compiler: gcc 11.5.0 20240719 (Red Hat 11.5.0-2) Fedora 40 (ARM Clang) Kernel: Depends on container host Compiler: clang 18.1.8 (Fedora 18.1.8-1.fc40) Fedora 40 (ARM) Kernel: Depends on container host Compiler: gcc 14.2.1 20240912 (Red Hat 14.2.1-3) Fedora 41 (ARM) Kernel: Depends on container host Compiler: gcc 14.2.1 20240912 (Red Hat 14.2.1-3) CentOS Stream 10 (ARM) Kernel: Depends on container host Compiler: gcc 14.2.1 20241104 (Red Hat 14.2.1-6) RHEL9 (ARM) Kernel: Depends on container host Compiler: gcc 11.5.0 20240719 (Red Hat 11.5.0-2) Ubuntu 20.04 (ARM) Kernel: Depends on container host Compiler: gcc (Ubuntu 9.4.0-1ubuntu1~20.04.2) 9.4.0 Fedora 41 (ARM Clang) Kernel: Depends on container host Compiler: clang 19.1.5 (Fedora 19.1.5-1.fc41) Ubuntu 22.04 (ARM) Kernel: Depends on container host Compiler: gcc (Ubuntu 11.4.0-1ubuntu1~22.04) 11.4.0 Ubuntu 24.04 (ARM) Kernel: Depends on container host Compiler: gcc (Ubuntu 13.3.0-6ubuntu2~24.04) 13.3.0 32-bit Ubuntu 22.04.4 (ARM) Kernel: 5.15.83+ aarch64 Compiler: gcc (Ubuntu 11.4.0-1ubuntu1~22.04) 11.4.0 To view detailed results, visit: https://lab.dpdk.org/results/dashboard/patchsets/33161/ UNH-IOL DPDK Community Lab To manage your email subscriptions, visit: https://lab.dpdk.org/results/dashboard/preferences/subscriptions/