From mboxrd@z Thu Jan 1 00:00:00 1970 Return-Path: Received: from mails.dpdk.org (mails.dpdk.org [217.70.189.124]) by inbox.dpdk.org (Postfix) with ESMTP id BD44D46730 for ; Tue, 13 May 2025 07:07:44 +0200 (CEST) Received: from mails.dpdk.org (localhost [127.0.0.1]) by mails.dpdk.org (Postfix) with ESMTP id A2D594026C; Tue, 13 May 2025 07:07:44 +0200 (CEST) Received: from mail-qk1-f225.google.com (mail-qk1-f225.google.com [209.85.222.225]) by mails.dpdk.org (Postfix) with ESMTP id C835B4025F for ; Tue, 13 May 2025 07:07:43 +0200 (CEST) Received: by mail-qk1-f225.google.com with SMTP id af79cd13be357-7c54a9d3fcaso622017785a.2 for ; Mon, 12 May 2025 22:07:43 -0700 (PDT) DKIM-Signature: v=1; a=rsa-sha256; c=relaxed/relaxed; d=iol.unh.edu; s=unh-iol; t=1747112863; x=1747717663; darn=dpdk.org; h=cc:to:from:subject:message-id:date:from:to:cc:subject:date :message-id:reply-to; bh=Qgv3J0rPWkMat6H42aIfGvgCX9ZwZNQeQnuLa5E9EPg=; b=NVESdCl8ZWEtlSc/WU4jlJG2C4P3cDtOsZKywuCtCmGhgA47Lu2+N/oc+V1Nb4F6uf lh9c2neZq2s3x9Xo4s2YHFPeKVljBOoMJ9EHHBSHd7ljRFSmssd368gy2Lp6A5w9z76R S5qKVlgw1m34u90Nsf1ImoV5t+Mev9M1R7Uig= X-Google-DKIM-Signature: v=1; a=rsa-sha256; c=relaxed/relaxed; d=1e100.net; s=20230601; t=1747112863; x=1747717663; h=cc:to:from:subject:message-id:date:x-gm-message-state:from:to:cc :subject:date:message-id:reply-to; bh=Qgv3J0rPWkMat6H42aIfGvgCX9ZwZNQeQnuLa5E9EPg=; b=KG3807U5ShGULCxZqvwPgsXPqEnhUcp7FkI18G/5AizGJeU/dhzN29ErUBj8wjPiHA LuBioVwKDxM4hPAZtac3kSGYtnqZu+0MMGcwM9RRbA638KcgEytjvsxOK6Sfk/K/QwuG g7B8Xed9viah/fROBFhTyZX0DJBNBuz+WV7JdZ3qlqG7dazkXQ1/1D+EuQHQmCC86SW+ 1vHcJzCiN5zRWmU9u7iFmkapMqNrp1mBdxOb76oy5xKhsMnh3eaVBKrZ0vvO38C+PtZp zpeNJJfx079VX+XbQTYqaOGlOChacJbpVJIJgZ5qGU0XSzcDHx5qCYVL/rKVkQJ3geoG Mo4A== X-Gm-Message-State: AOJu0Yx1tdBvUDGKlnG4UqPMRCxWaLZyPVEIVAU58GwTueTQavQUBWrU TyUEUqLvllJIaYFYDYsX00p7VP2SARgJ5NPA8M5kuxcD+HjLmF9IX090pJ6lZHjUeaYBJZYxtrm pmH8dUdJpCKCtTwSH5lP5U36Fnx4qdkonObf5v/32TnS/Q2cq X-Gm-Gg: ASbGncu8XcE1e3KuorRm9viGtcDbBtOBoH+/bWhAtzqFEp/kKB2/RFZIVdzW/YREEvc JXbMgBNXa753SstE0TBHzCkbAVBl9j8q+8+RSEHWWpzqmFPBZe4DaxiC5lq0p9e9G5RMN7yiheW ZFyOfIiki1Spt2cjiuspR/bqOkL899/YSsFU9vJm4hrlIP1JDkr8GugFDddG7gpD7WRyYLFX2ym rGH/qJiz0Rb77wNWUPV4XUAbg0tSgCLSWK9cTIWNv038bu2QB7ueFMe/wqbPyIEsU31WnfXnt3w g3NyUy1cN4bVngOn3V3AgVx4gKoxJ8nj12FU X-Google-Smtp-Source: AGHT+IHElar18IOxkL/jKTAUsshQ19zKPWl4ok9G+ZCnxlGmfiv9+MCcejiLNnYa4oIub0ARRQA/wVqqyWhj X-Received: by 2002:a05:620a:4306:b0:7cd:ba:7b63 with SMTP id af79cd13be357-7cd0114e56dmr2339705885a.45.1747112863087; Mon, 12 May 2025 22:07:43 -0700 (PDT) Received: from postal.iol.unh.edu (postal.iol.unh.edu. [2606:4100:3880:1234::84]) by smtp-relay.gmail.com with ESMTPS id 6a1803df08f44-6f6e39e7d3csm5399926d6.3.2025.05.12.22.07.42 (version=TLS1_2 cipher=ECDHE-ECDSA-AES128-GCM-SHA256 bits=128/128); Mon, 12 May 2025 22:07:43 -0700 (PDT) X-Relaying-Domain: iol.unh.edu Date: Mon, 12 May 2025 22:07:43 -0700 (PDT) Message-ID: <6822d39f.050a0220.726df.d292SMTPIN_ADDED_MISSING@mx.google.com> Received: from [172.21.0.5] (unknown [172.18.0.240]) by postal.iol.unh.edu (Postfix) with ESMTP id 8D0AF6052471; Tue, 13 May 2025 01:07:42 -0400 (EDT) Subject: |SUCCESS| [GIT MASTER] 83a7a648344674c0269fcaeb71d8d16468421a0e From: dpdklab@iol.unh.edu To: Test Report Cc: dpdk-test-reports@iol.unh.edu, Xueming Li , Christian Ehrhardt , Kevin Traynor , Luca Boccassi Content-Type: text/plain X-BeenThere: test-report@dpdk.org X-Mailman-Version: 2.1.29 Precedence: list List-Id: automatic DPDK test reports List-Unsubscribe: , List-Archive: List-Post: List-Help: List-Subscribe: , Errors-To: test-report-bounces@dpdk.org _Testing PASS_ Branch: tags/v23.11 83a7a648344674c0269fcaeb71d8d16468421a0e --> testing pass Upstream job id: Generic-DPDK-Compile-ABI#126170 Test environment and result as below: +-------------------+----------+ | Environment | abi_test | +===================+==========+ | CentOS Stream 9 | PASS | +-------------------+----------+ | CentOS Stream 10 | PASS | +-------------------+----------+ | Debian 12 | PASS | +-------------------+----------+ | Fedora 40 (Clang) | PASS | +-------------------+----------+ | Fedora 40 | PASS | +-------------------+----------+ | Fedora 41 (Clang) | PASS | +-------------------+----------+ | Fedora 41 | PASS | +-------------------+----------+ | openSUSE Leap 15 | PASS | +-------------------+----------+ | RHEL8 | PASS | +-------------------+----------+ | Ubuntu 22.04 | PASS | +-------------------+----------+ | RHEL9 | PASS | +-------------------+----------+ | Ubuntu 24.04 | PASS | +-------------------+----------+ CentOS Stream 9 Kernel: Depends on container host Compiler: gcc 11.5.0 20240719 (Red Hat 11.5.0-2) CentOS Stream 10 Kernel: Depends on container host Compiler: gcc 14.2.1 20241104 (Red Hat 14.2.1-6) Debian 12 Kernel: Depends on container host Compiler: gcc (Debian 12.2.0-14) 12.2.0 Fedora 40 (Clang) Kernel: Depends on container host Compiler: clang 18.1.8 (Fedora 18.1.8-1.fc40) Fedora 40 Kernel: Depends on container host Compiler: gcc 14.2.1 20240912 (Red Hat 14.2.1-3) Fedora 41 (Clang) Kernel: Depends on container host Compiler: clang 19.1.5 (Fedora 19.1.5-1.fc41) Fedora 41 Kernel: Depends on container host Compiler: gcc 14.2.1 20240912 (Red Hat 14.2.1-3) openSUSE Leap 15 Kernel: Depends on container host Compiler: gcc (SUSE Linux) 7.5.0 RHEL8 Kernel: Depends on container host Compiler: gcc 8.5.0 20210514 (Red Hat 8.5.0-22) Ubuntu 22.04 Kernel: Depends on container host Compiler: gcc (Ubuntu 11.4.0-1ubuntu1~22.04) 11.4.0 RHEL9 Kernel: Depends on container host Compiler: gcc 11.5.0 20240719 (Red Hat 11.5.0-2) Ubuntu 24.04 Kernel: Depends on container host Compiler: gcc (Ubuntu 13.3.0-6ubuntu2~24.04) 13.3.0 To view detailed results, visit: https://lab.dpdk.org/results/dashboard/tarballs/33512/ UNH-IOL DPDK Community Lab To manage your email subscriptions, visit: https://lab.dpdk.org/results/dashboard/preferences/subscriptions/