From mboxrd@z Thu Jan 1 00:00:00 1970 Return-Path: Received: from mails.dpdk.org (mails.dpdk.org [217.70.189.124]) by inbox.dpdk.org (Postfix) with ESMTP id C388446734 for ; Tue, 13 May 2025 10:17:32 +0200 (CEST) Received: from mails.dpdk.org (localhost [127.0.0.1]) by mails.dpdk.org (Postfix) with ESMTP id BBD244026C; Tue, 13 May 2025 10:17:32 +0200 (CEST) Received: from mail-yw1-f227.google.com (mail-yw1-f227.google.com [209.85.128.227]) by mails.dpdk.org (Postfix) with ESMTP id E84394026C for ; Tue, 13 May 2025 10:17:30 +0200 (CEST) Received: by mail-yw1-f227.google.com with SMTP id 00721157ae682-708a853c362so48690117b3.2 for ; Tue, 13 May 2025 01:17:30 -0700 (PDT) DKIM-Signature: v=1; a=rsa-sha256; c=relaxed/relaxed; d=iol.unh.edu; s=unh-iol; t=1747124250; x=1747729050; darn=dpdk.org; h=cc:to:from:subject:message-id:date:from:to:cc:subject:date :message-id:reply-to; bh=jRdMIoZ0VIHX/KxJmD72+/HmUBmXfiEyrdYd4oBmHOI=; b=c8s5FU8ywfGfwEhl6E6POAuRWCAM2dn2dcAK4HgSP/9Lyfm0TlypwLXXIaCz/UnQGT RZas6zcTm1t/w+x7vzcPvCW2CQ5zPys8zkqF7JPSBkoO+oHjAe3bCq16P9XFUV08E6BV 2YjArx+fVHhwOeYhAcKmFCA2rl6v8tfTkJd6w= X-Google-DKIM-Signature: v=1; a=rsa-sha256; c=relaxed/relaxed; d=1e100.net; s=20230601; t=1747124250; x=1747729050; h=cc:to:from:subject:message-id:date:x-gm-message-state:from:to:cc :subject:date:message-id:reply-to; bh=jRdMIoZ0VIHX/KxJmD72+/HmUBmXfiEyrdYd4oBmHOI=; b=wODeoY1rQ/w5hDNKWc/l1c3wB4FKiFq9ahu7gMYC0qvGRvtcSqPqcknjcN7WGAQkvd /+l4zXDVr/UuZpd7AHK4f/TEF+zAOSS+Vj1mEPncxnE+WC59pMRSyb8FhvIB0c5EVsqf 8cu/cEnk/ApHVGjSYl+IkmzKHOMxkKi95Ucb+IcrKbYMJRtCD/6izXUuOr9/PCgOklNg dwb5nxRYeOanhlDnEptcRQsQItanGBUIZnfqR5cLDbuDLqc5EicEZ/3dN5Laqm1ZEanN OY6SbhBbEBFVkOSAbqvoD2S/HFDD6cMcKMSUVBj+ul+AVAvYY+I1gQySlFphy9xWDTNY XgaQ== X-Gm-Message-State: AOJu0YwDP2r8bJWX1OcBPhyEkU0I3XwypriWAv1pV8z5Dg9cAFlxIzVi BDuL+/pOYQcCSjUjeBEjl3T5j2tWolv1ZPv5mq/eW1X9ucpuXswADwx4Sf1dLngeD+Jj7Pw99pZ oWUZFxJqxUIw4hOzpz6Epm+Ki6rE0KY/ATHYz7rkiOWAjEKHB X-Gm-Gg: ASbGncs3KFK787qPPvIk/Wr9jkwc9xo4o1uGA3fB7ZzxmOZLBDRPIYfvtpLmn5Rm6OI mBy04qf4idi+wX6oXaZv0mV7guzElXeI5rxxtrw2LrfZXcxE0RnOqoLMySlhEmclHmpywnOshno OHyYCvDoKzGppRsrr98HBrUvDmq6nse4iXNDdrFkoKf2jlCaZIcZihNoEF8uaKC1ERLFYLTHczH x750S9yMw14Os1oG6k5hKlvDPs7HY13AIdUL/QLwNH+xZ/kbmvFyixI89oqi8w7Vy9F0N9L+6AV BggsskkQeNcwVLuI/ILyxII8Ru3rXr3MgKOp X-Google-Smtp-Source: AGHT+IEONpzoV9613zWjsIMqk/ejLkMYGnKM25seobss2Fwr2Dh+edvZFgjIu0A+43o+WmqIxTJ9jLVI2TKH X-Received: by 2002:a05:690c:25c1:b0:70a:1d5f:9dc1 with SMTP id 00721157ae682-70a3fa57227mr224161297b3.21.1747124250237; Tue, 13 May 2025 01:17:30 -0700 (PDT) Received: from postal.iol.unh.edu (postal.iol.unh.edu. [2606:4100:3880:1234::84]) by smtp-relay.gmail.com with ESMTPS id 00721157ae682-70a3d75bba7sm3497177b3.19.2025.05.13.01.17.30 (version=TLS1_2 cipher=ECDHE-ECDSA-AES128-GCM-SHA256 bits=128/128); Tue, 13 May 2025 01:17:30 -0700 (PDT) X-Relaying-Domain: iol.unh.edu Date: Tue, 13 May 2025 01:17:30 -0700 (PDT) Message-ID: <6823001a.050a0220.30bbb6.1ef4SMTPIN_ADDED_MISSING@mx.google.com> Received: from [172.17.0.2] (unknown [172.18.0.76]) by postal.iol.unh.edu (Postfix) with ESMTP id DDF4C6052471; Tue, 13 May 2025 04:17:29 -0400 (EDT) Subject: |SUCCESS| [GIT MASTER] 4401486b5e30d43a134f80f9802f60b5f43e74a8 From: dpdklab@iol.unh.edu To: Test Report Cc: dpdk-test-reports@iol.unh.edu, Xueming Li , Christian Ehrhardt , Kevin Traynor , Luca Boccassi Content-Type: text/plain X-BeenThere: test-report@dpdk.org X-Mailman-Version: 2.1.29 Precedence: list List-Id: automatic DPDK test reports List-Unsubscribe: , List-Archive: List-Post: List-Help: List-Subscribe: , Errors-To: test-report-bounces@dpdk.org _Testing PASS_ Branch: tags/v22.11 4401486b5e30d43a134f80f9802f60b5f43e74a8 --> testing pass Upstream job id: Generic-Unit-Test-DPDK#337382 Test environment and result as below: +-----------------------------+---------------------------+--------------+------------------------------+----------------+ | Environment | cryptodev_sw_zuc_autotest | lpm_autotest | cryptodev_sw_snow3g_autotest | dpdk_unit_test | +=============================+===========================+==============+==============================+================+ | Debian 12 (arm) | PASS | SKIPPED | PASS | SKIPPED | +-----------------------------+---------------------------+--------------+------------------------------+----------------+ | Ubuntu 20.04 ARM SVE | SKIPPED | PASS | SKIPPED | SKIPPED | +-----------------------------+---------------------------+--------------+------------------------------+----------------+ | 32-bit Ubuntu 22.04.4 (ARM) | SKIPPED | SKIPPED | SKIPPED | PASS | +-----------------------------+---------------------------+--------------+------------------------------+----------------+ Debian 12 (arm) Kernel: Depends on container host Compiler: gcc (Debian 12.2.0-14) 12.2.0 Ubuntu 20.04 ARM SVE Kernel: Depends on container host Compiler: gcc (Ubuntu 10.5.0-1ubuntu1~20.04) 10.5.0 32-bit Ubuntu 22.04.4 (ARM) Kernel: 5.15.83+ aarch64 Compiler: gcc (Ubuntu 11.4.0-1ubuntu1~22.04) 11.4.0 To view detailed results, visit: https://lab.dpdk.org/results/dashboard/tarballs/33513/ UNH-IOL DPDK Community Lab To manage your email subscriptions, visit: https://lab.dpdk.org/results/dashboard/preferences/subscriptions/