From mboxrd@z Thu Jan 1 00:00:00 1970 Return-Path: Received: from mails.dpdk.org (mails.dpdk.org [217.70.189.124]) by inbox.dpdk.org (Postfix) with ESMTP id A2EFE46735 for ; Tue, 13 May 2025 12:19:50 +0200 (CEST) Received: from mails.dpdk.org (localhost [127.0.0.1]) by mails.dpdk.org (Postfix) with ESMTP id 9F16C4026C; Tue, 13 May 2025 12:19:50 +0200 (CEST) Received: from mail-pf1-f228.google.com (mail-pf1-f228.google.com [209.85.210.228]) by mails.dpdk.org (Postfix) with ESMTP id 953894026C for ; Tue, 13 May 2025 12:19:49 +0200 (CEST) Received: by mail-pf1-f228.google.com with SMTP id d2e1a72fcca58-7424c24f88bso3829119b3a.1 for ; Tue, 13 May 2025 03:19:49 -0700 (PDT) DKIM-Signature: v=1; a=rsa-sha256; c=relaxed/relaxed; d=iol.unh.edu; s=unh-iol; t=1747131588; x=1747736388; darn=dpdk.org; h=references:in-reply-to:cc:to:from:subject:message-id:date:from:to :cc:subject:date:message-id:reply-to; bh=JCHCUQzQMXhCMi68eqloKgvJAuV/ww0KuZbrFQ4x0vo=; b=APkmqC0+/fwJM4Z9JKXluOp232Xtq4rJNN/K5b8KlzP8qoAMKxuA97o0CHFNdVX6wb EnKqnr5jApomDuvsjuVZwOFUhKjx5336uO5RtBnWaif549G9IzpoA4pOC13zOk6eQB8A dU7q8SwseJphUjz0MFCiXzn5zmZRL3WMgi3xw= X-Google-DKIM-Signature: v=1; a=rsa-sha256; c=relaxed/relaxed; d=1e100.net; s=20230601; t=1747131588; x=1747736388; h=references:in-reply-to:cc:to:from:subject:message-id:date :x-gm-message-state:from:to:cc:subject:date:message-id:reply-to; bh=JCHCUQzQMXhCMi68eqloKgvJAuV/ww0KuZbrFQ4x0vo=; b=dCGgevymGBkNUHIZ9ht+0xqDvDka2iHqGFCLq05u/qop/i/CEQNXo0BTuwNNd1WCyn r2e4QeQav98ghxPcaJ+ZfmPiaGgr+2t+8VRfl7ESAI54NViTmMbGVzA2wOtF9ItUsZ8V Hb42ZvEvf7adiFIHp4cokowCUD9IhtPcphaa5fBE9e1gs2tpbA97wA3OarthcvBcvANk DiySXSkjjOpDfHbwmxnF4jYIBXohCwd1iv8RPpY23tbAJ/RNI/Q42IEOGInfX6DYQbsq LqYzBXA3tjPB3uLWozqw8sVZNRvdLjk58Ie6KgaT3A8M565yyltVzyA4Lr7IEE8pkm50 21QQ== X-Gm-Message-State: AOJu0YyrMwaY4lPoB8gan3Gv96aCi+0H4mpLpchDlgQjuEoGdYAdfEPc 5jgzZoOm7XsaUFnodtp82FLQA0vwbur+VSxrcI1fEmNl4XxoyaHhHYlxq1OJUqGRQKStX35UrVM VyDDsXDhd4g2FHsBqO14HrVONtZaDsKlG31Ic8Vg/ X-Gm-Gg: ASbGncu4FGcropmQzVVpmWUY3SIsRVVGGS8fDI5ewet3XSZutsY2F4wwc3HdrHDG7Fb 9V1F6NTcCBWgnL9ZuJf1Ft6Qa3jyQgqYMUFkasjEay7G7VpuT13JwsV/btyxOWMiIiFsACxCdRE IDnXKpdLQVw+gcc9oDjppBRqlX5jzuaJig9Gf7QzZGix0MZxn/qMPzHQMkqYTGr+rYMvQ8RL4gl Bq1pzca/MFE6TrWuDW5X6z2/64il3P00caYPxjccvLoiOf2HqR3ywW5gUQK90Bw7N6vvq5kHx0h ntKmFSsdfTFuKSqhb2+bL1IwANDbnEJawmtaYj04km9VnVRkkcNdpd/hW30= X-Google-Smtp-Source: AGHT+IF7UY7M2nIgr4InpyB8lYRTpilbgjJGjVLqq7mTxY+VWEl3DpLEvm0AEeV4tJE7MWjMEn+w69K9ZZ0M X-Received: by 2002:a05:6a20:c886:b0:209:251d:47d2 with SMTP id adf61e73a8af0-215abb04624mr23527281637.11.1747131588482; Tue, 13 May 2025 03:19:48 -0700 (PDT) Received: from postal.iol.unh.edu (postal.iol.unh.edu. [132.177.123.84]) by smtp-relay.gmail.com with ESMTPS id 41be03b00d2f7-b2348a6a1e0sm267150a12.9.2025.05.13.03.19.48 (version=TLS1_2 cipher=ECDHE-ECDSA-AES128-GCM-SHA256 bits=128/128); Tue, 13 May 2025 03:19:48 -0700 (PDT) X-Relaying-Domain: iol.unh.edu Date: Tue, 13 May 2025 03:19:48 -0700 (PDT) Message-ID: <68231cc4.630a0220.b5255.e3ddSMTPIN_ADDED_MISSING@mx.google.com> Received: from [172.21.0.8] (unknown [172.18.0.240]) by postal.iol.unh.edu (Postfix) with ESMTP id B39846052471; Tue, 13 May 2025 06:19:47 -0400 (EDT) Subject: |SUCCESS| pw153427 [PATCH] [v2] build: automatically report minimum From: dpdklab@iol.unh.edu To: Test Report Cc: dpdk-test-reports@iol.unh.edu In-Reply-To: <20250513085956.1670288-1-bruce.richardson@intel.com> References: <20250513085956.1670288-1-bruce.richardson@intel.com> Content-Type: text/plain X-BeenThere: test-report@dpdk.org X-Mailman-Version: 2.1.29 Precedence: list List-Id: automatic DPDK test reports List-Unsubscribe: , List-Archive: List-Post: List-Help: List-Subscribe: , Errors-To: test-report-bounces@dpdk.org Test-Label: iol-abi-testing Test-Status: SUCCESS http://dpdk.org/patch/153427 _Testing PASS_ Submitter: Bruce Richardson Date: Tuesday, May 13 2025 08:59:42 DPDK git baseline: Repo:dpdk Branch: master CommitID:2bf836de46d36a81f9321f947fbfce52b3180782 153427 --> testing pass Upstream job id: Generic-DPDK-Compile-ABI#126206 Test environment and result as below: +-------------------+----------+ | Environment | abi_test | +===================+==========+ | CentOS Stream 9 | PASS | +-------------------+----------+ | Fedora 40 (Clang) | PASS | +-------------------+----------+ | Fedora 41 | PASS | +-------------------+----------+ | Fedora 41 (Clang) | PASS | +-------------------+----------+ | Debian 12 | PASS | +-------------------+----------+ | Fedora 40 | PASS | +-------------------+----------+ | CentOS Stream 10 | PASS | +-------------------+----------+ | openSUSE Leap 15 | PASS | +-------------------+----------+ | Ubuntu 22.04 | PASS | +-------------------+----------+ | RHEL9 | PASS | +-------------------+----------+ | RHEL8 | PASS | +-------------------+----------+ | Ubuntu 24.04 | PASS | +-------------------+----------+ CentOS Stream 9 Kernel: Depends on container host Compiler: gcc 11.5.0 20240719 (Red Hat 11.5.0-2) Fedora 40 (Clang) Kernel: Depends on container host Compiler: clang 18.1.8 (Fedora 18.1.8-1.fc40) Fedora 41 Kernel: Depends on container host Compiler: gcc 14.2.1 20240912 (Red Hat 14.2.1-3) Fedora 41 (Clang) Kernel: Depends on container host Compiler: clang 19.1.5 (Fedora 19.1.5-1.fc41) Debian 12 Kernel: Depends on container host Compiler: gcc (Debian 12.2.0-14) 12.2.0 Fedora 40 Kernel: Depends on container host Compiler: gcc 14.2.1 20240912 (Red Hat 14.2.1-3) CentOS Stream 10 Kernel: Depends on container host Compiler: gcc 14.2.1 20241104 (Red Hat 14.2.1-6) openSUSE Leap 15 Kernel: Depends on container host Compiler: gcc (SUSE Linux) 7.5.0 Ubuntu 22.04 Kernel: Depends on container host Compiler: gcc (Ubuntu 11.4.0-1ubuntu1~22.04) 11.4.0 RHEL9 Kernel: Depends on container host Compiler: gcc 11.5.0 20240719 (Red Hat 11.5.0-2) RHEL8 Kernel: Depends on container host Compiler: gcc 8.5.0 20210514 (Red Hat 8.5.0-22) Ubuntu 24.04 Kernel: Depends on container host Compiler: gcc (Ubuntu 13.3.0-6ubuntu2~24.04) 13.3.0 To view detailed results, visit: https://lab.dpdk.org/results/dashboard/patchsets/33162/ UNH-IOL DPDK Community Lab To manage your email subscriptions, visit: https://lab.dpdk.org/results/dashboard/preferences/subscriptions/