From mboxrd@z Thu Jan 1 00:00:00 1970 Return-Path: Received: from mails.dpdk.org (mails.dpdk.org [217.70.189.124]) by inbox.dpdk.org (Postfix) with ESMTP id C0AB746735 for ; Tue, 13 May 2025 12:20:35 +0200 (CEST) Received: from mails.dpdk.org (localhost [127.0.0.1]) by mails.dpdk.org (Postfix) with ESMTP id BBDAE4026C; Tue, 13 May 2025 12:20:35 +0200 (CEST) Received: from mail-pl1-f227.google.com (mail-pl1-f227.google.com [209.85.214.227]) by mails.dpdk.org (Postfix) with ESMTP id 3FAD74025F for ; Tue, 13 May 2025 12:20:34 +0200 (CEST) Received: by mail-pl1-f227.google.com with SMTP id d9443c01a7336-22e70a9c6bdso75599225ad.3 for ; Tue, 13 May 2025 03:20:34 -0700 (PDT) DKIM-Signature: v=1; a=rsa-sha256; c=relaxed/relaxed; d=iol.unh.edu; s=unh-iol; t=1747131633; x=1747736433; darn=dpdk.org; h=references:in-reply-to:cc:to:from:subject:message-id:date:from:to :cc:subject:date:message-id:reply-to; bh=2PY7adNyp0JLl7bH5A3aoUXHZ959oJDso48/x7zJjfk=; b=ALXGnzqgsflOvRheLuODx8KL2/OjQWgsPdHQK4yt6PosD/w72t59ngNbnCsc3k2JJ0 WRjjzvJ8iuq/T7pZqE0/x9SiUSJotaI+NPT0ZG1gyR/7crK35bCtcz9ND0LUO/o/9boQ M/RdzkBS0nnkTqFwvdJbPLXr4eCq9fSeFRe44= X-Google-DKIM-Signature: v=1; a=rsa-sha256; c=relaxed/relaxed; d=1e100.net; s=20230601; t=1747131633; x=1747736433; h=references:in-reply-to:cc:to:from:subject:message-id:date :x-gm-message-state:from:to:cc:subject:date:message-id:reply-to; bh=2PY7adNyp0JLl7bH5A3aoUXHZ959oJDso48/x7zJjfk=; b=pkdqxSiPrQEOoFQWz3A8TcMv63KH+rf4GPbiyL8w4MLu6fa7nnHIXI4GVz2i0JTqYz C4OreZUGB6XgtI61pa6Hq1bduX2qkkQW08cTsOGstmTZmw6kEZ8zHk+S8VBBwFn1dOmQ AcHrvdXAj5eBhMIcqxB5CJHe+dVbk0vRLtcQjTtlwkS2YlXbo3kxwgj4aqserFkpSaNb GPTQ/sigF6e0V3w/cJm7+CwmjrxeKqob5Lh3lunmkM1HTDkNr0D+VWQXco28m0cd7B49 sklqqzjvYCTnFvb/OYOhx+aIt86nNDhexVqV04yqPVIDSQKfzkv2IOw0RywVfkgdoGNZ VgLg== X-Gm-Message-State: AOJu0Yzkg0r1iLAnSJ/EcIy2fOQnNrMGnJ8BbCXfVcfJmQYCVbTVl+4w kzXzjpJ1MB2s/LovgdFMqmqB/q6dNtu31Ablcpf4dP4dSFloCT/ewKZZjQVob20pjKKXA5snOpw MqJi7yoiPv8B/wzANgHqZhe8dSGZpmhIZ40Ne8SWJVsEtAgdpr7r8H9D5 X-Gm-Gg: ASbGncvyvvGWN1R00e5JxpcvPXDc9zanh2N+Swkh0c0aggO/u+Kot1FcqZKHxBuL9AU 9eYWRlUUD8xWu70LBwUcnmc7aHhYFAcceaSafkj1aqSShS04FQScvUQnIsfJ38cAqaKRKqrh9SA smB7EF5bnm8t4xH0eeVasxAM6BGAsbDU6TnTkPnGOwvXXwQIMUxhr2KIhVkbSkI1szKZVF8x+TD gOklQ6XYhw4eYBdN3ChlQ2s6eVqpQ2/e/BFlD6zQB/4GD2ykFaF823RpsrJa3mmcaPebonHLIpy u4ajwDmt4HsLWJbszAkqFHbtP6Sqs0pgZDkH X-Google-Smtp-Source: AGHT+IEafNt28RpXETxdVfLa2M8KPkqvZk6F7a4BglOYaL+dykLIMpKUWaa/Ty+CoeUU/Hf5waw/FOrItDlX X-Received: by 2002:a17:903:3ba7:b0:224:c76:5e57 with SMTP id d9443c01a7336-22fc8e99d3fmr198035315ad.39.1747131633248; Tue, 13 May 2025 03:20:33 -0700 (PDT) Received: from postal.iol.unh.edu (postal.iol.unh.edu. [2606:4100:3880:1234::84]) by smtp-relay.gmail.com with ESMTPS id d9443c01a7336-22fc5a3d9f4sm5219815ad.60.2025.05.13.03.20.33 (version=TLS1_2 cipher=ECDHE-ECDSA-AES128-GCM-SHA256 bits=128/128); Tue, 13 May 2025 03:20:33 -0700 (PDT) X-Relaying-Domain: iol.unh.edu Date: Tue, 13 May 2025 03:20:33 -0700 (PDT) Message-ID: <68231cf1.170a0220.1250de.b97eSMTPIN_ADDED_MISSING@mx.google.com> Received: from [172.21.0.7] (unknown [172.18.0.240]) by postal.iol.unh.edu (Postfix) with ESMTP id 30CB06052471; Tue, 13 May 2025 06:20:32 -0400 (EDT) Subject: |SUCCESS| pw153427 [PATCH] [v2] build: automatically report minimum From: dpdklab@iol.unh.edu To: Test Report Cc: dpdk-test-reports@iol.unh.edu In-Reply-To: <20250513085956.1670288-1-bruce.richardson@intel.com> References: <20250513085956.1670288-1-bruce.richardson@intel.com> Content-Type: text/plain X-BeenThere: test-report@dpdk.org X-Mailman-Version: 2.1.29 Precedence: list List-Id: automatic DPDK test reports List-Unsubscribe: , List-Archive: List-Post: List-Help: List-Subscribe: , Errors-To: test-report-bounces@dpdk.org Test-Label: iol-abi-testing Test-Status: SUCCESS http://dpdk.org/patch/153427 _Testing PASS_ Submitter: Bruce Richardson Date: Tuesday, May 13 2025 08:59:42 DPDK git baseline: Repo:dpdk Branch: master CommitID:2bf836de46d36a81f9321f947fbfce52b3180782 153427 --> testing pass Upstream job id: Generic-DPDK-Compile-ABI#126201 Test environment and result as below: +-------------------+----------+ | Environment | abi_test | +===================+==========+ | CentOS Stream 9 | PASS | +-------------------+----------+ | Fedora 40 (Clang) | PASS | +-------------------+----------+ | Fedora 41 | PASS | +-------------------+----------+ | Fedora 41 (Clang) | PASS | +-------------------+----------+ | Debian 12 | PASS | +-------------------+----------+ | Fedora 40 | PASS | +-------------------+----------+ | CentOS Stream 10 | PASS | +-------------------+----------+ | openSUSE Leap 15 | PASS | +-------------------+----------+ | Ubuntu 22.04 | PASS | +-------------------+----------+ | RHEL9 | PASS | +-------------------+----------+ | RHEL8 | PASS | +-------------------+----------+ | Ubuntu 24.04 | PASS | +-------------------+----------+ CentOS Stream 9 Kernel: Depends on container host Compiler: gcc 11.5.0 20240719 (Red Hat 11.5.0-2) Fedora 40 (Clang) Kernel: Depends on container host Compiler: clang 18.1.8 (Fedora 18.1.8-1.fc40) Fedora 41 Kernel: Depends on container host Compiler: gcc 14.2.1 20240912 (Red Hat 14.2.1-3) Fedora 41 (Clang) Kernel: Depends on container host Compiler: clang 19.1.5 (Fedora 19.1.5-1.fc41) Debian 12 Kernel: Depends on container host Compiler: gcc (Debian 12.2.0-14) 12.2.0 Fedora 40 Kernel: Depends on container host Compiler: gcc 14.2.1 20240912 (Red Hat 14.2.1-3) CentOS Stream 10 Kernel: Depends on container host Compiler: gcc 14.2.1 20241104 (Red Hat 14.2.1-6) openSUSE Leap 15 Kernel: Depends on container host Compiler: gcc (SUSE Linux) 7.5.0 Ubuntu 22.04 Kernel: Depends on container host Compiler: gcc (Ubuntu 11.4.0-1ubuntu1~22.04) 11.4.0 RHEL9 Kernel: Depends on container host Compiler: gcc 11.5.0 20240719 (Red Hat 11.5.0-2) RHEL8 Kernel: Depends on container host Compiler: gcc 8.5.0 20210514 (Red Hat 8.5.0-22) Ubuntu 24.04 Kernel: Depends on container host Compiler: gcc (Ubuntu 13.3.0-6ubuntu2~24.04) 13.3.0 To view detailed results, visit: https://lab.dpdk.org/results/dashboard/patchsets/33162/ UNH-IOL DPDK Community Lab To manage your email subscriptions, visit: https://lab.dpdk.org/results/dashboard/preferences/subscriptions/