From mboxrd@z Thu Jan 1 00:00:00 1970 Return-Path: Received: from mails.dpdk.org (mails.dpdk.org [217.70.189.124]) by inbox.dpdk.org (Postfix) with ESMTP id D506346735 for ; Tue, 13 May 2025 12:20:56 +0200 (CEST) Received: from mails.dpdk.org (localhost [127.0.0.1]) by mails.dpdk.org (Postfix) with ESMTP id D12C84026C; Tue, 13 May 2025 12:20:56 +0200 (CEST) Received: from mail-ot1-f99.google.com (mail-ot1-f99.google.com [209.85.210.99]) by mails.dpdk.org (Postfix) with ESMTP id 437DD4025F for ; Tue, 13 May 2025 12:20:55 +0200 (CEST) Received: by mail-ot1-f99.google.com with SMTP id 46e09a7af769-72ec4634414so3732879a34.1 for ; Tue, 13 May 2025 03:20:55 -0700 (PDT) DKIM-Signature: v=1; a=rsa-sha256; c=relaxed/relaxed; d=iol.unh.edu; s=unh-iol; t=1747131654; x=1747736454; darn=dpdk.org; h=references:in-reply-to:cc:to:from:subject:message-id:date:from:to :cc:subject:date:message-id:reply-to; bh=ghtVHK2ZXrt4hqZDX9VT8pArMyf/YvZz9dVgbMX0HxQ=; b=iHwP3AoOtrmsMWMFtYahwC8Ekwxm28feF64ud8B+foMKNrP2Uq2bXZCfXJsDeojvJD 6x4qe6KpfNjIj9HU0xcOwefE9LZJh5nn1faY8mLUcJElKOljHO9Ddbz2rEZnfd0rrXis 8snYyleg5ss41wdwSC73+ff882LRnBOIjydzU= X-Google-DKIM-Signature: v=1; a=rsa-sha256; c=relaxed/relaxed; d=1e100.net; s=20230601; t=1747131654; x=1747736454; h=references:in-reply-to:cc:to:from:subject:message-id:date :x-gm-message-state:from:to:cc:subject:date:message-id:reply-to; bh=ghtVHK2ZXrt4hqZDX9VT8pArMyf/YvZz9dVgbMX0HxQ=; b=a27VXecK+DdNzKI2LFJA6cOSEgpk8ZeprjwVSKmfYm/Fg1Y/N0AdKw5cvGglrHwiTA aMtWFDi6UZ8EpmNT+NS9rGBt5oGwE89SXFdp2YSD7t+hxjPlSerOR45xc8+v5ronBVxu SKiM8cnHnsBPBoMTxbPh68bkHEg548tZ06zcoNKfo+grFjY2d+vt6Auw5Jd3bgwW9gyy TyinWBfXgE9tdsmX7nxQs1GzhR9JZjcVpACSnunSmqQYa4/qjTjbODRv92JYhY0gG7Nk yHeMfzwIwFetnKXmemrIfmBEADj0WYKJBI4yWf9u8AkcpItcf0sumFVPsZCUajEjhCHk UBhA== X-Gm-Message-State: AOJu0Ywvm5gz01s8li/ajhm6cE0UkHSnzxryg6k10WavQWySxDeqTrbu GJf8XM4fkaEwxuYdRyhkztKtu96l9rRTQJZfTp3R0GRv35jOknbyvDv3qZao2ifflB0/S/ttEU2 9Ca9PuWDpFJ3fQXM4QxhC2LAGF8gYVLkRirEHlKSgNDB7+OXaAilv5mIw X-Gm-Gg: ASbGncuvBjPYwhkTRI+XsJgyCDYoiVN32o/+qDJOJv25oJdEmAdmWBLg8WUquFqdCe7 xrvUyBkLo3UPiQn0ORXon7uB9RGJCpRVpxsl+B5/95Lc6qrNyOgnnMXfNqfJlbSv//hVl8VD6Oc OUu/byGwU5tn9CIQfXvLP8LsTEMU9Y3q2XPvdkhdvc7XJ0qHiapMf7EipxwoCSM29lr3xdPm6a+ GaYamCmSFpxhtDKHjbMISQT3wIKeJ6oL1FKOqDjotE8a+mCIIsedOJNrvcMytkJKHMMnHt6H4Qb 2i8ZXpsD4t6VR4uc4XSB80Dw/D2V547ijMWo X-Google-Smtp-Source: AGHT+IFqWR+U9yz+cxikXuNm70HegS7owwA3Ghd7M0DBsRJiXNfUBhdz+ab834lLa+EicQUtxRGupVg167FD X-Received: by 2002:a05:6830:6f49:b0:72b:8889:8224 with SMTP id 46e09a7af769-732269c9db2mr11642997a34.10.1747131654450; Tue, 13 May 2025 03:20:54 -0700 (PDT) Received: from postal.iol.unh.edu (postal.iol.unh.edu. [2606:4100:3880:1234::84]) by smtp-relay.gmail.com with ESMTPS id 46e09a7af769-732265bc6c0sm288564a34.12.2025.05.13.03.20.54 (version=TLS1_2 cipher=ECDHE-ECDSA-AES128-GCM-SHA256 bits=128/128); Tue, 13 May 2025 03:20:54 -0700 (PDT) X-Relaying-Domain: iol.unh.edu Date: Tue, 13 May 2025 03:20:54 -0700 (PDT) Message-ID: <68231d06.050a0220.2e10cf.ef21SMTPIN_ADDED_MISSING@mx.google.com> Received: from [172.21.0.5] (unknown [172.18.0.240]) by postal.iol.unh.edu (Postfix) with ESMTP id EF77E6052471; Tue, 13 May 2025 06:20:53 -0400 (EDT) Subject: |SUCCESS| pw153427 [PATCH] [v2] build: automatically report minimum From: dpdklab@iol.unh.edu To: Test Report Cc: dpdk-test-reports@iol.unh.edu In-Reply-To: <20250513085956.1670288-1-bruce.richardson@intel.com> References: <20250513085956.1670288-1-bruce.richardson@intel.com> Content-Type: text/plain X-BeenThere: test-report@dpdk.org X-Mailman-Version: 2.1.29 Precedence: list List-Id: automatic DPDK test reports List-Unsubscribe: , List-Archive: List-Post: List-Help: List-Subscribe: , Errors-To: test-report-bounces@dpdk.org Test-Label: iol-abi-testing Test-Status: SUCCESS http://dpdk.org/patch/153427 _Testing PASS_ Submitter: Bruce Richardson Date: Tuesday, May 13 2025 08:59:42 DPDK git baseline: Repo:dpdk Branch: master CommitID:2bf836de46d36a81f9321f947fbfce52b3180782 153427 --> testing pass Upstream job id: Generic-DPDK-Compile-ABI#126199 Test environment and result as below: +-------------------+----------+ | Environment | abi_test | +===================+==========+ | CentOS Stream 9 | PASS | +-------------------+----------+ | Fedora 40 (Clang) | PASS | +-------------------+----------+ | Fedora 41 | PASS | +-------------------+----------+ | Fedora 41 (Clang) | PASS | +-------------------+----------+ | Debian 12 | PASS | +-------------------+----------+ | Fedora 40 | PASS | +-------------------+----------+ | CentOS Stream 10 | PASS | +-------------------+----------+ | openSUSE Leap 15 | PASS | +-------------------+----------+ | Ubuntu 22.04 | PASS | +-------------------+----------+ | RHEL9 | PASS | +-------------------+----------+ | RHEL8 | PASS | +-------------------+----------+ | Ubuntu 24.04 | PASS | +-------------------+----------+ CentOS Stream 9 Kernel: Depends on container host Compiler: gcc 11.5.0 20240719 (Red Hat 11.5.0-2) Fedora 40 (Clang) Kernel: Depends on container host Compiler: clang 18.1.8 (Fedora 18.1.8-1.fc40) Fedora 41 Kernel: Depends on container host Compiler: gcc 14.2.1 20240912 (Red Hat 14.2.1-3) Fedora 41 (Clang) Kernel: Depends on container host Compiler: clang 19.1.5 (Fedora 19.1.5-1.fc41) Debian 12 Kernel: Depends on container host Compiler: gcc (Debian 12.2.0-14) 12.2.0 Fedora 40 Kernel: Depends on container host Compiler: gcc 14.2.1 20240912 (Red Hat 14.2.1-3) CentOS Stream 10 Kernel: Depends on container host Compiler: gcc 14.2.1 20241104 (Red Hat 14.2.1-6) openSUSE Leap 15 Kernel: Depends on container host Compiler: gcc (SUSE Linux) 7.5.0 Ubuntu 22.04 Kernel: Depends on container host Compiler: gcc (Ubuntu 11.4.0-1ubuntu1~22.04) 11.4.0 RHEL9 Kernel: Depends on container host Compiler: gcc 11.5.0 20240719 (Red Hat 11.5.0-2) RHEL8 Kernel: Depends on container host Compiler: gcc 8.5.0 20210514 (Red Hat 8.5.0-22) Ubuntu 24.04 Kernel: Depends on container host Compiler: gcc (Ubuntu 13.3.0-6ubuntu2~24.04) 13.3.0 To view detailed results, visit: https://lab.dpdk.org/results/dashboard/patchsets/33162/ UNH-IOL DPDK Community Lab To manage your email subscriptions, visit: https://lab.dpdk.org/results/dashboard/preferences/subscriptions/