From mboxrd@z Thu Jan 1 00:00:00 1970 Return-Path: Received: from mails.dpdk.org (mails.dpdk.org [217.70.189.124]) by inbox.dpdk.org (Postfix) with ESMTP id E24A746735 for ; Tue, 13 May 2025 12:21:01 +0200 (CEST) Received: from mails.dpdk.org (localhost [127.0.0.1]) by mails.dpdk.org (Postfix) with ESMTP id DE4DB4026C; Tue, 13 May 2025 12:21:01 +0200 (CEST) Received: from mail-il1-f226.google.com (mail-il1-f226.google.com [209.85.166.226]) by mails.dpdk.org (Postfix) with ESMTP id B53164025F for ; Tue, 13 May 2025 12:21:00 +0200 (CEST) Received: by mail-il1-f226.google.com with SMTP id e9e14a558f8ab-3da74959554so14578705ab.2 for ; Tue, 13 May 2025 03:21:00 -0700 (PDT) DKIM-Signature: v=1; a=rsa-sha256; c=relaxed/relaxed; d=iol.unh.edu; s=unh-iol; t=1747131660; x=1747736460; darn=dpdk.org; h=references:in-reply-to:cc:to:from:subject:message-id:date:from:to :cc:subject:date:message-id:reply-to; bh=cSHOfjVT+N+d7JLbHNW60xA/AUEZlz8PuFn9DTdfIUI=; b=beP6QZ1qpHq5Be9vM8ndfoPq4L5HhQfJBTXv6F0++7bPf1SbgWfzlezolb3Ie6pxCi H4FcKdJ2A3TLw0UeehrpYhMZUD1vYOX7lXq3O6EaMcgT5uPBp7/ZsXQapMNqZ+pbwQoI qC/5pJPCdoo7E41rp6D61R9+9crBN6iLjKxXo= X-Google-DKIM-Signature: v=1; a=rsa-sha256; c=relaxed/relaxed; d=1e100.net; s=20230601; t=1747131660; x=1747736460; h=references:in-reply-to:cc:to:from:subject:message-id:date :x-gm-message-state:from:to:cc:subject:date:message-id:reply-to; bh=cSHOfjVT+N+d7JLbHNW60xA/AUEZlz8PuFn9DTdfIUI=; b=SeZgKVtsm5ldM4D4MTpTtuqOcB8UwDTSkGWYzkoku2cbOqXdVHTDxhuTBmm48VaOG6 BbIAtKXo5RT4eX3FKBJexL8z1E75loe2vrbvx/M8HuPH02C8GcPtKsJ+YyEcjdbvUgOh orewtQFvtoc/xcu2LPlzIGqKP855AsNhRBy789++RPjD45ub5jcgjCw2HxUz77MGq67A 2RD2y2CCLDOyHE/DLODR3gl9V9W2TYe9mVEObb7J9qPNLE2T46Sq6d1aan4HOzi/yiIl HKfFvmnWOaolWfbSyRsi/6SNZxHygAOIesHvXI1JiDbUUkquv1aZi5J+3fCNdya0lrnT 3AvQ== X-Gm-Message-State: AOJu0Yw0+0P9KP11MVstwIohhy6vggrvcvCp5oArufOIC9dRiljIhmR3 yGUqWWgLbZAPfSJXXo13vczCOpA6LvxsVx+IRR9e7wQAiqOImYjLiMYZM+FJdsnV/z0ZNajuIHy vhmaluV4EeEdoaR064/CUC5QKNw3/AcUz12ltSBrz X-Gm-Gg: ASbGnct669aENS1nU++p4y1TL9Tegx0ZUwEIgk8PgD2sojzA8ebl/p/royFPgqmoQat bSsbjEOd0532ZmNY9zUOevUSmELr4vv1scy3wCEG102ADC7jk29Wmm9Iihpc7G+3snmmRZ+qQ27 0wdVWQHhB2gpVE8BSJYULryNXvMNoEArdCLcRclmW/Q3dRSvK+3zdJnnMHGj1+CPG93XhjcjM41 4GecyV1R03A23R6ZkSgsgmNl+mOfYN9PO1lrLE8acxdkbENQj5dsjC541BQVGav9vPj9f+gf6Bv uWBf8nutosz+1TKEoJCe5kEDDlRj943XA+n6I+9AZv0HjrgilsoMFEl5/K4= X-Google-Smtp-Source: AGHT+IGeFCIbLQaL6LpjRazUUpGwW4kYqJTBz9jqwc4y/KNXnRNIlF9xjyfpxC+pZ4kla+JSecnqJMZRVtec X-Received: by 2002:a05:6e02:190f:b0:3d9:3993:f7d2 with SMTP id e9e14a558f8ab-3da7e210652mr153038335ab.17.1747131660046; Tue, 13 May 2025 03:21:00 -0700 (PDT) Received: from postal.iol.unh.edu (postal.iol.unh.edu. [132.177.123.84]) by smtp-relay.gmail.com with ESMTPS id e9e14a558f8ab-3da7e15bc05sm6221325ab.43.2025.05.13.03.20.59 (version=TLS1_2 cipher=ECDHE-ECDSA-AES128-GCM-SHA256 bits=128/128); Tue, 13 May 2025 03:21:00 -0700 (PDT) X-Relaying-Domain: iol.unh.edu Date: Tue, 13 May 2025 03:21:00 -0700 (PDT) Message-ID: <68231d0c.050a0220.273703.1109SMTPIN_ADDED_MISSING@mx.google.com> Received: from [172.21.0.7] (unknown [172.18.0.240]) by postal.iol.unh.edu (Postfix) with ESMTP id 942766052471; Tue, 13 May 2025 06:20:59 -0400 (EDT) Subject: |SUCCESS| pw153427 [PATCH] [v2] build: automatically report minimum From: dpdklab@iol.unh.edu To: Test Report Cc: dpdk-test-reports@iol.unh.edu In-Reply-To: <20250513085956.1670288-1-bruce.richardson@intel.com> References: <20250513085956.1670288-1-bruce.richardson@intel.com> Content-Type: text/plain X-BeenThere: test-report@dpdk.org X-Mailman-Version: 2.1.29 Precedence: list List-Id: automatic DPDK test reports List-Unsubscribe: , List-Archive: List-Post: List-Help: List-Subscribe: , Errors-To: test-report-bounces@dpdk.org Test-Label: iol-abi-testing Test-Status: SUCCESS http://dpdk.org/patch/153427 _Testing PASS_ Submitter: Bruce Richardson Date: Tuesday, May 13 2025 08:59:42 DPDK git baseline: Repo:dpdk Branch: master CommitID:2bf836de46d36a81f9321f947fbfce52b3180782 153427 --> testing pass Upstream job id: Generic-DPDK-Compile-ABI#126196 Test environment and result as below: +-------------------+----------+ | Environment | abi_test | +===================+==========+ | CentOS Stream 9 | PASS | +-------------------+----------+ | Fedora 40 (Clang) | PASS | +-------------------+----------+ | Fedora 41 | PASS | +-------------------+----------+ | Fedora 41 (Clang) | PASS | +-------------------+----------+ | Debian 12 | PASS | +-------------------+----------+ | Fedora 40 | PASS | +-------------------+----------+ | CentOS Stream 10 | PASS | +-------------------+----------+ | openSUSE Leap 15 | PASS | +-------------------+----------+ | Ubuntu 22.04 | PASS | +-------------------+----------+ | RHEL9 | PASS | +-------------------+----------+ | RHEL8 | PASS | +-------------------+----------+ | Ubuntu 24.04 | PASS | +-------------------+----------+ CentOS Stream 9 Kernel: Depends on container host Compiler: gcc 11.5.0 20240719 (Red Hat 11.5.0-2) Fedora 40 (Clang) Kernel: Depends on container host Compiler: clang 18.1.8 (Fedora 18.1.8-1.fc40) Fedora 41 Kernel: Depends on container host Compiler: gcc 14.2.1 20240912 (Red Hat 14.2.1-3) Fedora 41 (Clang) Kernel: Depends on container host Compiler: clang 19.1.5 (Fedora 19.1.5-1.fc41) Debian 12 Kernel: Depends on container host Compiler: gcc (Debian 12.2.0-14) 12.2.0 Fedora 40 Kernel: Depends on container host Compiler: gcc 14.2.1 20240912 (Red Hat 14.2.1-3) CentOS Stream 10 Kernel: Depends on container host Compiler: gcc 14.2.1 20241104 (Red Hat 14.2.1-6) openSUSE Leap 15 Kernel: Depends on container host Compiler: gcc (SUSE Linux) 7.5.0 Ubuntu 22.04 Kernel: Depends on container host Compiler: gcc (Ubuntu 11.4.0-1ubuntu1~22.04) 11.4.0 RHEL9 Kernel: Depends on container host Compiler: gcc 11.5.0 20240719 (Red Hat 11.5.0-2) RHEL8 Kernel: Depends on container host Compiler: gcc 8.5.0 20210514 (Red Hat 8.5.0-22) Ubuntu 24.04 Kernel: Depends on container host Compiler: gcc (Ubuntu 13.3.0-6ubuntu2~24.04) 13.3.0 To view detailed results, visit: https://lab.dpdk.org/results/dashboard/patchsets/33162/ UNH-IOL DPDK Community Lab To manage your email subscriptions, visit: https://lab.dpdk.org/results/dashboard/preferences/subscriptions/