From mboxrd@z Thu Jan 1 00:00:00 1970 Return-Path: Received: from mails.dpdk.org (mails.dpdk.org [217.70.189.124]) by inbox.dpdk.org (Postfix) with ESMTP id 4340A46735 for ; Tue, 13 May 2025 12:44:55 +0200 (CEST) Received: from mails.dpdk.org (localhost [127.0.0.1]) by mails.dpdk.org (Postfix) with ESMTP id 38E134026C; Tue, 13 May 2025 12:44:55 +0200 (CEST) Received: from mail-il1-f226.google.com (mail-il1-f226.google.com [209.85.166.226]) by mails.dpdk.org (Postfix) with ESMTP id C43504025F for ; Tue, 13 May 2025 12:44:54 +0200 (CEST) Received: by mail-il1-f226.google.com with SMTP id e9e14a558f8ab-3da82c6c5d4so33253825ab.1 for ; Tue, 13 May 2025 03:44:54 -0700 (PDT) DKIM-Signature: v=1; a=rsa-sha256; c=relaxed/relaxed; d=iol.unh.edu; s=unh-iol; t=1747133094; x=1747737894; darn=dpdk.org; h=references:in-reply-to:cc:to:from:subject:message-id:date:from:to :cc:subject:date:message-id:reply-to; bh=EBJo+ItaoQVpFzIWQ1b93/y7id2gmEhlLng0qXhGqp8=; b=aghKEU3BimHepWFhiKCw1xZIM/J/n+eECAWKv/UaFnDUrJA/DljsHaJA54ilf32l6Z HnimJrQDo/H0+efIieP99xRYvAnN+TEDx6P5hDf8Zle3n3mgwcnOea0xjzTZvZev/bGD b4T0Y50ruxrZ3k8+1z0GumUWuSMqbNzFBUQP8= X-Google-DKIM-Signature: v=1; a=rsa-sha256; c=relaxed/relaxed; d=1e100.net; s=20230601; t=1747133094; x=1747737894; h=references:in-reply-to:cc:to:from:subject:message-id:date :x-gm-message-state:from:to:cc:subject:date:message-id:reply-to; bh=EBJo+ItaoQVpFzIWQ1b93/y7id2gmEhlLng0qXhGqp8=; b=KPvqWsrfXnu8Y3n35kVy8Y2s4/ND1xyzNgIM1PfcdLqOQ/EU2DJ4xToV47U04JdnRA 3sU7AmaycdRLLznzAn5DlxXXm/1BVLRsSoaeaCad9oaaF1/3zOOwPVbdUV2k2c++wDX2 GNDFX/gK+Z2pq01c+OVB0Hap3txWQW8sxL9Ue6pE4iEndkmtaQWi3neQrMbQVTBppiNq FOazB8nAdw0dplQgYRKp1uENeSAt+5X2b/IzncVTS6sSjJKS/k3E00OmZDBvl7YMVt8r mTNo7kFwc53rnHR3FK9opHLuB4EYi6Ry3dkjdlzy1ZASpkUwZ8k5J+snr7zNd3tWuya/ 5Zxg== X-Gm-Message-State: AOJu0YztW+awR6CLU2ACoAqiUf/9OhuAQV1x13GMAmy+fzbZShfMP7WM Nkgi9KkUa9Dcmpj0j/wh7E7mDZVz9C4IXcQ+mVYb2+UN4Lvd/c/ph5j7SUjC3I5Z4kTVZI9uZCq BqqZHoZQp0Vgms63DhzrpBjlaHOK+qKremYbw/Fka X-Gm-Gg: ASbGncsH0zZcf3TaJjksdX8Hhc+DKuOm0RKWAe0tm4wZIxA3I1Cd0fD10BosHLkafqK hvqrhewfFRoeEeFATjwBTxcGxbRIozihfGXa5hpNHyNWnn8jeFZS7X4DMj6lFZ5/c31LukiDFlO WKCAolFKQRR/2Ge7TrwYu47Jlvg2Vlo94BAUxuxpfP0A+tKwfvDpMGj3rELTbhvx/uk1gmaRU0L IVGp6pZ+d2SdSg0a+P+yqLIj6sciQWhNJs1/p3pezZKUd54rpGDzCJVpVlFTkYucWNEG8Rmfq3L fUBazOE5Ex11B1pKSeWBb58rIvKX3GDF+fea6d0WO3vN1oF7A3uzTICsIFA= X-Google-Smtp-Source: AGHT+IEqyDRnFoPl04IQISIh2QtvuS0vzBWTTUYOJCIg0CCF2A4Rjn6der4RNeE7ZefVzXHIHgvr3eQJUaxh X-Received: by 2002:a92:ca4f:0:b0:3d9:6cd9:5079 with SMTP id e9e14a558f8ab-3da7e203652mr151895715ab.14.1747133094057; Tue, 13 May 2025 03:44:54 -0700 (PDT) Received: from postal.iol.unh.edu (postal.iol.unh.edu. [132.177.123.84]) by smtp-relay.gmail.com with ESMTPS id e9e14a558f8ab-3da7e103031sm6079625ab.24.2025.05.13.03.44.53 (version=TLS1_2 cipher=ECDHE-ECDSA-AES128-GCM-SHA256 bits=128/128); Tue, 13 May 2025 03:44:54 -0700 (PDT) X-Relaying-Domain: iol.unh.edu Date: Tue, 13 May 2025 03:44:54 -0700 (PDT) Message-ID: <682322a6.050a0220.1ab60e.0252SMTPIN_ADDED_MISSING@mx.google.com> Received: from [172.17.0.2] (unknown [172.18.0.76]) by postal.iol.unh.edu (Postfix) with ESMTP id 903556052471; Tue, 13 May 2025 06:44:53 -0400 (EDT) Subject: |SUCCESS| pw153427 [PATCH] [v2] build: automatically report minimum From: dpdklab@iol.unh.edu To: Test Report Cc: dpdk-test-reports@iol.unh.edu In-Reply-To: <20250513085956.1670288-1-bruce.richardson@intel.com> References: <20250513085956.1670288-1-bruce.richardson@intel.com> Content-Type: text/plain X-BeenThere: test-report@dpdk.org X-Mailman-Version: 2.1.29 Precedence: list List-Id: automatic DPDK test reports List-Unsubscribe: , List-Archive: List-Post: List-Help: List-Subscribe: , Errors-To: test-report-bounces@dpdk.org Test-Label: iol-sample-apps-testing Test-Status: SUCCESS http://dpdk.org/patch/153427 _Testing PASS_ Submitter: Bruce Richardson Date: Tuesday, May 13 2025 08:59:42 DPDK git baseline: Repo:dpdk Branch: master CommitID:2bf836de46d36a81f9321f947fbfce52b3180782 153427 --> testing pass Upstream job id: ACVP-FIPS-testing#9794 Test environment and result as below: +--------------------+----------------------+----------------------+ | Environment | compressdev_zlib_pmd | dpdk_fips_validation | +====================+======================+======================+ | Ubuntu 22.04 (ARM) | PASS | SKIPPED | +--------------------+----------------------+----------------------+ | Ubuntu 22.04 | PASS | SKIPPED | +--------------------+----------------------+----------------------+ | Ubuntu 20.04 | SKIPPED | PASS | +--------------------+----------------------+----------------------+ Ubuntu 22.04 (ARM) Kernel: 5.15.0-97-generic Compiler: gcc gcc (Ubuntu 11.4.0-1ubuntu1~22.04) 11.4.0 Ubuntu 22.04 Kernel: 5.15.0-100-generic Compiler: gcc gcc (Ubuntu 11.4.0-1ubuntu1~22.04) 11.4.0 Ubuntu 20.04 Kernel: Depends on container host Compiler: gcc (Ubuntu 9.4.0-1ubuntu1~20.04.2) 9.4.0 To view detailed results, visit: https://lab.dpdk.org/results/dashboard/patchsets/33162/ UNH-IOL DPDK Community Lab To manage your email subscriptions, visit: https://lab.dpdk.org/results/dashboard/preferences/subscriptions/