From mboxrd@z Thu Jan 1 00:00:00 1970 Return-Path: Received: from mails.dpdk.org (mails.dpdk.org [217.70.189.124]) by inbox.dpdk.org (Postfix) with ESMTP id 11CB646739 for ; Tue, 13 May 2025 16:38:59 +0200 (CEST) Received: from mails.dpdk.org (localhost [127.0.0.1]) by mails.dpdk.org (Postfix) with ESMTP id DECA34025D; Tue, 13 May 2025 16:38:58 +0200 (CEST) Received: from mail-pf1-f225.google.com (mail-pf1-f225.google.com [209.85.210.225]) by mails.dpdk.org (Postfix) with ESMTP id 8D58840041 for ; Tue, 13 May 2025 16:38:57 +0200 (CEST) Received: by mail-pf1-f225.google.com with SMTP id d2e1a72fcca58-7399838db7fso5537239b3a.0 for ; Tue, 13 May 2025 07:38:57 -0700 (PDT) DKIM-Signature: v=1; a=rsa-sha256; c=relaxed/relaxed; d=iol.unh.edu; s=unh-iol; t=1747147136; x=1747751936; darn=dpdk.org; h=cc:to:from:subject:message-id:date:from:to:cc:subject:date :message-id:reply-to; bh=tO6jrhgMVOje/OzgPQkEknkZOIMecRrId/0QaIWFp9g=; b=RDJ4m8unaKLaBlxH5ZHhAA8WXtJZ2g6EfzioUVk0JH5KxVVXZ7FoyT5DsaAr+7yftA 8h0YYBAMMvM3TLGLFgmQuG0Q9v2Qduny+m9eNvGgbbFWee5xuVc0k7yhGz5W4RBQHNl2 jLTD0wTWW+2qF4DlWe+aTDGbBtC3F6iNCSCtI= X-Google-DKIM-Signature: v=1; a=rsa-sha256; c=relaxed/relaxed; d=1e100.net; s=20230601; t=1747147136; x=1747751936; h=cc:to:from:subject:message-id:date:x-gm-message-state:from:to:cc :subject:date:message-id:reply-to; bh=tO6jrhgMVOje/OzgPQkEknkZOIMecRrId/0QaIWFp9g=; b=shysLSga1sV0GHWPc1mxbMRi2VzDoBz2EWhPndHGN44fzqvUfUteLMrSh6bY7+Hx2G maXuc6Q96KtxLcCbK2x52KkvMeyktVaFF7Tn9/OajHDft0z0tvBMll5vcygxG9GMJQCJ 4o44WRt4NkDu4E+0HFdy1g9Guu5xkaHEJ8sHWIi+sEuF+CVM166+hIyzIJzfejEMZ0rD PpARydjqrxpTA1mqUpKcph7fuxwj1j9Xgl5VY0dXKrg6Q5bfMCA4TPW//N+LBH28GYtn +kAuI88ZGa56Y0YWUEIIrgmKrFl0P/PbX4ICS8z4rhIJlN7ML0OjxFLCDws2Mp5PYlcU RH6g== X-Gm-Message-State: AOJu0YzaCol/jTGgyS1j/SC7JYUBN3PoS2X98ZPHqxnzN2GsWTRmB+Vu FvLc474b5vyXmI8xUUqnYrpm9sX+5NySQPCtRQwDAPzlkX4ZfnZEK/j+mTKMod/HQ3e5diPjMk6 WlXpSLMXdbJvcCWnIs/856ZpfItP8dOhnGomHMhzP X-Gm-Gg: ASbGncs9PElGywHwmuPyKVnVqThCDcDG08y9qoWYLFC/hMblZsHEu7yrUQFQsvrCYH1 F7rRtIDTS7DxojsHMRzYFH4KoRM0jOcwzvKDF5i4DD3j7wIni11wDnwi03q3sBjF3cqgw4vTcNq 5y1jkrFf+hpiXMk9zNlPJX6mTesUvc6x+EmH8jlV4UTUREoQShG6AkkVwFWICigsGSyKsX87sTl PyR4OVVdRMi2bfgNND3vSbxBCr71Go27Xy8ZjoU9Kh4RYyf2tT5woONTVcCn3gWc8CZgihmxl0S 9YUpcyOq1FThJAmuaw1h8SGKTB9LjrNdRTUP41+oWX31T86rGuHL+b3AQR8= X-Google-Smtp-Source: AGHT+IFctw5rt5XaVo2i81xmQug4YmJP4iXMwYB+GCQB3Pr1qvM5hW5dTbzGGsGaX46et+Y/Nqo3HlKGsLL0 X-Received: by 2002:a05:6a00:2e99:b0:73c:3f2e:5df5 with SMTP id d2e1a72fcca58-74279011115mr4943666b3a.9.1747147136542; Tue, 13 May 2025 07:38:56 -0700 (PDT) Received: from postal.iol.unh.edu (postal.iol.unh.edu. [132.177.123.84]) by smtp-relay.gmail.com with ESMTPS id 41be03b00d2f7-b234e456d03sm281668a12.28.2025.05.13.07.38.56 (version=TLS1_2 cipher=ECDHE-ECDSA-AES128-GCM-SHA256 bits=128/128); Tue, 13 May 2025 07:38:56 -0700 (PDT) X-Relaying-Domain: iol.unh.edu Date: Tue, 13 May 2025 07:38:56 -0700 (PDT) Message-ID: <68235980.630a0220.283bb5.ec5dSMTPIN_ADDED_MISSING@mx.google.com> Received: from [172.17.0.2] (unknown [172.18.0.74]) by postal.iol.unh.edu (Postfix) with ESMTP id C8BDF6052471; Tue, 13 May 2025 10:38:55 -0400 (EDT) Subject: |SUCCESS| [GIT MASTER] 5b3328195d3c7cc013eb0d7a0b99ab6791d46a77 From: dpdklab@iol.unh.edu To: Test Report Cc: dpdk-test-reports@iol.unh.edu, Bruce Richardson Content-Type: text/plain X-BeenThere: test-report@dpdk.org X-Mailman-Version: 2.1.29 Precedence: list List-Id: automatic DPDK test reports List-Unsubscribe: , List-Archive: List-Post: List-Help: List-Subscribe: , Errors-To: test-report-bounces@dpdk.org _Testing PASS_ Branch: dpdk-next-net-intel 5b3328195d3c7cc013eb0d7a0b99ab6791d46a77 --> testing pass Upstream job id: Generic-DPDK-Compile-Meson#387532 Test environment and result as below: +----------------------------------------+--------------------+ | Environment | dpdk_meson_compile | +========================================+====================+ | RHEL9 (ARM) | PASS | +----------------------------------------+--------------------+ | Ubuntu 20.04 ARM GCC Cross Compile | PASS | +----------------------------------------+--------------------+ | Ubuntu 20.04 ARM SVE | PASS | +----------------------------------------+--------------------+ | Debian 12 with MUSDK | PASS | +----------------------------------------+--------------------+ | Fedora 40 (ARM) | PASS | +----------------------------------------+--------------------+ | Fedora 41 (ARM) | PASS | +----------------------------------------+--------------------+ | Ubuntu 20.04 (ARM) | PASS | +----------------------------------------+--------------------+ | Ubuntu 22.04 (ARM) | PASS | +----------------------------------------+--------------------+ | Ubuntu 24.04 (ARM) | PASS | +----------------------------------------+--------------------+ | CentOS Stream 10 (ARM) | PASS | +----------------------------------------+--------------------+ | Debian 12 (arm) | PASS | +----------------------------------------+--------------------+ | Ubuntu 20.04 ARM Clang Cross Compile | PASS | +----------------------------------------+--------------------+ | Ubuntu 20.04 aarch32 GCC Cross Compile | PASS | +----------------------------------------+--------------------+ | Fedora 41 (ARM Clang) | PASS | +----------------------------------------+--------------------+ | CentOS Stream 9 (ARM) | PASS | +----------------------------------------+--------------------+ RHEL9 (ARM) Kernel: Depends on container host Compiler: gcc 11.5.0 20240719 (Red Hat 11.5.0-2) Ubuntu 20.04 ARM GCC Cross Compile Kernel: Depends on container host Compiler: aarch64-linux-gnu-gcc (Ubuntu 9.4.0-1ubuntu1~20.04.2) 9.4.0 Ubuntu 20.04 ARM SVE Kernel: Depends on container host Compiler: gcc (Ubuntu 10.5.0-1ubuntu1~20.04) 10.5.0 Debian 12 with MUSDK Kernel: Depends on container host Compiler: gcc (Debian 12.2.0-14) 12.2.0 Fedora 40 (ARM) Kernel: Depends on container host Compiler: gcc 14.2.1 20240912 (Red Hat 14.2.1-3) Fedora 41 (ARM) Kernel: Depends on container host Compiler: gcc 14.2.1 20240912 (Red Hat 14.2.1-3) Ubuntu 20.04 (ARM) Kernel: Depends on container host Compiler: gcc (Ubuntu 9.4.0-1ubuntu1~20.04.2) 9.4.0 Ubuntu 22.04 (ARM) Kernel: Depends on container host Compiler: gcc (Ubuntu 11.4.0-1ubuntu1~22.04) 11.4.0 Ubuntu 24.04 (ARM) Kernel: Depends on container host Compiler: gcc (Ubuntu 13.3.0-6ubuntu2~24.04) 13.3.0 CentOS Stream 10 (ARM) Kernel: Depends on container host Compiler: gcc 14.2.1 20241104 (Red Hat 14.2.1-6) Debian 12 (arm) Kernel: Depends on container host Compiler: gcc (Debian 12.2.0-14) 12.2.0 Ubuntu 20.04 ARM Clang Cross Compile Kernel: Depends on container host Compiler: clang 10.0.0-4ubuntu1 Ubuntu 20.04 aarch32 GCC Cross Compile Kernel: Depends on container host Compiler: gcc 9.4.0 Fedora 41 (ARM Clang) Kernel: Depends on container host Compiler: clang 19.1.5 (Fedora 19.1.5-1.fc41) CentOS Stream 9 (ARM) Kernel: Depends on container host Compiler: gcc 11.5.0 20240719 (Red Hat 11.5.0-2) To view detailed results, visit: https://lab.dpdk.org/results/dashboard/tarballs/33515/ UNH-IOL DPDK Community Lab To manage your email subscriptions, visit: https://lab.dpdk.org/results/dashboard/preferences/subscriptions/