From mboxrd@z Thu Jan 1 00:00:00 1970 Return-Path: Received: from mails.dpdk.org (mails.dpdk.org [217.70.189.124]) by inbox.dpdk.org (Postfix) with ESMTP id 890AD4673A for ; Tue, 13 May 2025 19:34:01 +0200 (CEST) Received: from mails.dpdk.org (localhost [127.0.0.1]) by mails.dpdk.org (Postfix) with ESMTP id 84EBD4025D; Tue, 13 May 2025 19:34:01 +0200 (CEST) Received: from mail-io1-f98.google.com (mail-io1-f98.google.com [209.85.166.98]) by mails.dpdk.org (Postfix) with ESMTP id 2556840041 for ; Tue, 13 May 2025 19:34:00 +0200 (CEST) Received: by mail-io1-f98.google.com with SMTP id ca18e2360f4ac-85e46f5c50fso580410539f.3 for ; Tue, 13 May 2025 10:34:00 -0700 (PDT) DKIM-Signature: v=1; a=rsa-sha256; c=relaxed/relaxed; d=iol.unh.edu; s=unh-iol; t=1747157639; x=1747762439; darn=dpdk.org; h=references:in-reply-to:cc:to:from:subject:message-id:date:from:to :cc:subject:date:message-id:reply-to; bh=/IwAso+C2wXD3ZHj9zOO6w4TOyOwYfgKT68ACsB81ws=; b=JLirh8FJZPEavgeWqjeX8lRKQiRmgPkPnlvIBSWSLDGa72+DBYMaXM39APdT7Dlr1m 8I6LwVE09jR2ysTu/u26bmpPPLL6JyTpwC0dHQYd1X0MRF+r0bITzfyC+7XrkL5Lu1qi b4dy3ZWmujUAvlNlAD1jTt+mxUKwUFohXbXTE= X-Google-DKIM-Signature: v=1; a=rsa-sha256; c=relaxed/relaxed; d=1e100.net; s=20230601; t=1747157639; x=1747762439; h=references:in-reply-to:cc:to:from:subject:message-id:date :x-gm-message-state:from:to:cc:subject:date:message-id:reply-to; bh=/IwAso+C2wXD3ZHj9zOO6w4TOyOwYfgKT68ACsB81ws=; b=XLVL8phtGfKRiInsPVkUd2Sz8NEheJGyxxS9pFe72W9+/f7AyE/Rvs+IzCesSOfX73 GyDq+Q9fTGqw2GloTYmBdNxIRtDNBYR8B8kFqWSUFdXyOOldsY/HtaWvweKYk6UsGehi SXH6OYngfaEggq3shGs9pjPcJeBrB/AE3hBhF4uFDS+fLSfekvy+iMEckFtI2m9xUmW/ AI/8+lB3RH667jLlUg7KbTIUfi1Tpn5rbegFyhtbuYiBIRCan8inQUJi1VYeKq2ws2yY N+558GDxUUM9yAllc3vKCTU/X11ZOuo25WR75ASi54A1pqEkC/xbkNBjU9t5sMkEOR5r XCKQ== X-Gm-Message-State: AOJu0Yyy6g54noU6NU/hUFShyJixZjNzPhpp08iUGDcMa1TbbzxDLfNQ f3BwCi7di1AIGPVMJ1MtELYeLofNQPhe9RIfaZ7wGSLjMylC/D3Zh1YxSIILquQZCvW663UBMiZ ygnhfkpsxIWu1GSWvThfaDLKM/wGLhCzP06LdZGz1 X-Gm-Gg: ASbGncuWYbMxh2e9DcOKju1w2czbBrzhUxoxm6BsyNB/jE3stvRv+Y4ww4ltArZN61F wgu3KZKI6sqDZYwOCzNEArafTZqUkKPO80Lr5bgeLOUbuqehkUisGIcKNVxele8UTh29seqvCbo 5NJnp+0R8O/t/453oYR1iYeahmuYt3fgAz/7xVW1iTnh5wRfOaQ6+O1pVFYTAjGANJptC0KmXW2 YYMCVH7Sg5FUpoaDGqF8wVbcSH9isbwJwDhWpZSdwlfBZxphQUDf9LCeft6RzpdAs8rxg0u45FC JcuoslbkBIRzodekqGDBWa12Br/ReTigRGBNDXwDsZGC01M+CwMEDRmLaXA= X-Google-Smtp-Source: AGHT+IHEZz3HE7cPk1jEYaOBgYLUzMmStcqidpVOfS1nc3Gh4p0VR96JwbPzMRojrgSWNyyfM+VmvHoV6UjZ X-Received: by 2002:a05:6e02:1c0f:b0:3d8:21ae:d9c with SMTP id e9e14a558f8ab-3db6f79a31dmr5013915ab.5.1747157639366; Tue, 13 May 2025 10:33:59 -0700 (PDT) Received: from postal.iol.unh.edu (postal.iol.unh.edu. [132.177.123.84]) by smtp-relay.gmail.com with ESMTPS id e9e14a558f8ab-3da7e0f9b5esm6502645ab.7.2025.05.13.10.33.59 (version=TLS1_2 cipher=ECDHE-ECDSA-AES128-GCM-SHA256 bits=128/128); Tue, 13 May 2025 10:33:59 -0700 (PDT) X-Relaying-Domain: iol.unh.edu Date: Tue, 13 May 2025 10:33:59 -0700 (PDT) Message-ID: <68238287.050a0220.354d67.2b48SMTPIN_ADDED_MISSING@mx.google.com> Received: from [172.17.0.2] (unknown [172.18.0.74]) by postal.iol.unh.edu (Postfix) with ESMTP id E33426052471; Tue, 13 May 2025 13:33:58 -0400 (EDT) Subject: |SUCCESS| pw153429-153431 [PATCH] [v4,3/3] doc: provide examples of From: dpdklab@iol.unh.edu To: Test Report Cc: dpdk-test-reports@iol.unh.edu In-Reply-To: <20250513161710.410000-4-bruce.richardson@intel.com> References: <20250513161710.410000-4-bruce.richardson@intel.com> Content-Type: text/plain X-BeenThere: test-report@dpdk.org X-Mailman-Version: 2.1.29 Precedence: list List-Id: automatic DPDK test reports List-Unsubscribe: , List-Archive: List-Post: List-Help: List-Subscribe: , Errors-To: test-report-bounces@dpdk.org Test-Label: iol-abi-testing Test-Status: SUCCESS http://dpdk.org/patch/153431 _Testing PASS_ Submitter: Bruce Richardson Date: Tuesday, May 13 2025 16:17:10 DPDK git baseline: Repo:dpdk Branch: master CommitID:2bf836de46d36a81f9321f947fbfce52b3180782 153429-153431 --> testing pass Upstream job id: Generic-DPDK-Compile-ABI#126211 Test environment and result as below: +-------------------+----------+ | Environment | abi_test | +===================+==========+ | CentOS Stream 9 | PASS | +-------------------+----------+ | CentOS Stream 10 | PASS | +-------------------+----------+ | Debian 12 | PASS | +-------------------+----------+ | Fedora 40 (Clang) | PASS | +-------------------+----------+ | Fedora 40 | PASS | +-------------------+----------+ | Fedora 41 (Clang) | PASS | +-------------------+----------+ | Fedora 41 | PASS | +-------------------+----------+ | Ubuntu 22.04 | PASS | +-------------------+----------+ | Ubuntu 24.04 | PASS | +-------------------+----------+ | RHEL9 | PASS | +-------------------+----------+ | RHEL8 | PASS | +-------------------+----------+ | openSUSE Leap 15 | PASS | +-------------------+----------+ CentOS Stream 9 Kernel: Depends on container host Compiler: gcc 11.5.0 20240719 (Red Hat 11.5.0-2) CentOS Stream 10 Kernel: Depends on container host Compiler: gcc 14.2.1 20241104 (Red Hat 14.2.1-6) Debian 12 Kernel: Depends on container host Compiler: gcc (Debian 12.2.0-14) 12.2.0 Fedora 40 (Clang) Kernel: Depends on container host Compiler: clang 18.1.8 (Fedora 18.1.8-1.fc40) Fedora 40 Kernel: Depends on container host Compiler: gcc 14.2.1 20240912 (Red Hat 14.2.1-3) Fedora 41 (Clang) Kernel: Depends on container host Compiler: clang 19.1.5 (Fedora 19.1.5-1.fc41) Fedora 41 Kernel: Depends on container host Compiler: gcc 14.2.1 20240912 (Red Hat 14.2.1-3) Ubuntu 22.04 Kernel: Depends on container host Compiler: gcc (Ubuntu 11.4.0-1ubuntu1~22.04) 11.4.0 Ubuntu 24.04 Kernel: Depends on container host Compiler: gcc (Ubuntu 13.3.0-6ubuntu2~24.04) 13.3.0 RHEL9 Kernel: Depends on container host Compiler: gcc 11.5.0 20240719 (Red Hat 11.5.0-2) RHEL8 Kernel: Depends on container host Compiler: gcc 8.5.0 20210514 (Red Hat 8.5.0-22) openSUSE Leap 15 Kernel: Depends on container host Compiler: gcc (SUSE Linux) 7.5.0 To view detailed results, visit: https://lab.dpdk.org/results/dashboard/patchsets/33164/ UNH-IOL DPDK Community Lab To manage your email subscriptions, visit: https://lab.dpdk.org/results/dashboard/preferences/subscriptions/