From mboxrd@z Thu Jan 1 00:00:00 1970 Return-Path: Received: from mails.dpdk.org (mails.dpdk.org [217.70.189.124]) by inbox.dpdk.org (Postfix) with ESMTP id 4694746738 for ; Tue, 13 May 2025 20:10:00 +0200 (CEST) Received: from mails.dpdk.org (localhost [127.0.0.1]) by mails.dpdk.org (Postfix) with ESMTP id 434374025D; Tue, 13 May 2025 20:10:00 +0200 (CEST) Received: from mail-pg1-f225.google.com (mail-pg1-f225.google.com [209.85.215.225]) by mails.dpdk.org (Postfix) with ESMTP id 58ECE40041 for ; Tue, 13 May 2025 20:09:59 +0200 (CEST) Received: by mail-pg1-f225.google.com with SMTP id 41be03b00d2f7-ae727e87c26so4122274a12.0 for ; Tue, 13 May 2025 11:09:59 -0700 (PDT) DKIM-Signature: v=1; a=rsa-sha256; c=relaxed/relaxed; d=iol.unh.edu; s=unh-iol; t=1747159798; x=1747764598; darn=dpdk.org; h=references:in-reply-to:cc:to:from:subject:message-id:date:from:to :cc:subject:date:message-id:reply-to; bh=jsEy023heQVrS2hzTHVaVA2UgfZocRMijL+A3M3/76k=; b=g36trHoqe6vYPgwrrLZ4d8HlOSgmBNLZa0woVbPnGb7jlZI0ZmdpO3+BkLwijIlS5v ILOdHIWZTHmBLVmd9eYxlf+/uCOIrWKP6bxNaii4jwQ1rA9gZda/86cFsEn3O94sN2+X o19Nn94PkkpEPyEUnZHig4eyUTKY/VL4JYa+A= X-Google-DKIM-Signature: v=1; a=rsa-sha256; c=relaxed/relaxed; d=1e100.net; s=20230601; t=1747159798; x=1747764598; h=references:in-reply-to:cc:to:from:subject:message-id:date :x-gm-message-state:from:to:cc:subject:date:message-id:reply-to; bh=jsEy023heQVrS2hzTHVaVA2UgfZocRMijL+A3M3/76k=; b=oIR8xurWfsfrcvDkuND9Y/nS0JOBM3aksw+B3w3Sd2XcqPG0FP8x41BhUVGsmA/MdC sEd31WH8t/g9t06TV6lWBij4uNsD8h56u36YOLT7H0PlrL90Y68TqaTSuq8A7nL+IotR lhsjk3hR54b9H40iwzS3uULONHW8nfaejUALnzTx1Z/BX0hiBo1LZddZ1GCY8OX7ff/g RXDV6UEPwM0pXP+9Hhqa0LoEbjzoR0l/UwdjgdcFwkbJoTjK0eZQ10XvOcRHfLkxFqT+ 6kcnrf/Dc96a80Hd6A6xBtVPOAVo40rAhDW7g2bnF8YHFBY7Q3sw6WPj2IcPUle+UbcT YOVw== X-Gm-Message-State: AOJu0Yx8kBBVnxFh8kstbW/ti/V9Q0zy1qvAqMm6akWHCwRYbDUyuOlZ biLjENsn3/GoDLzrXjrsa+sx/B7ZRBBdATNHH/ptHaIZRr1Bw1rjgxT5LHseErs+I+/AD6bv1+J H9RD0HOChoac0ksAHgstBKOXJCpTukFXHgm607lj+ X-Gm-Gg: ASbGncvUrYWD+i6oqM8F1BOYO+t64Al/n5dA3WLuzUilMx/3DfmNNg9jE/McyPgvLuf JtGF8sMVlY93t9Ev+h2PjglAk4PAWiQqmHaWF0NMiRih+Ke1S+RGyEQlTQDCDDz6FMC06RdyHQe 90ZId6LIc9pTKIDwrhD7+ywqQqRySb6/A/4VozejhzMXbt3PzoHamXYH3YKv6Sg4Zu4HX7NWLzx HOa7UUxqs9mldC9flwUfPfNKVM9vO8WD5+wW7X6nGnxu8qumPmMb7GtGpN170czaG1mvyimqkfd +Q5grYsFS7RtuBp12ePTHnUSF+RpV+k6d2NvGr+KJiWqnLxNUFkRpqkjHRM= X-Google-Smtp-Source: AGHT+IFCzrfg/me7Nwh4zqAbXdTyh7uVPYotbPqUpNClqIQmTYwH+PVFLwSDQ1JQo+ZIJJz7xyLjYArRNcSU X-Received: by 2002:a17:903:3b87:b0:224:1935:fb91 with SMTP id d9443c01a7336-23198154b8cmr6196985ad.27.1747159798321; Tue, 13 May 2025 11:09:58 -0700 (PDT) Received: from postal.iol.unh.edu (postal.iol.unh.edu. [132.177.123.84]) by smtp-relay.gmail.com with ESMTPS id d9443c01a7336-22fc581fcf5sm5469555ad.24.2025.05.13.11.09.58 (version=TLS1_2 cipher=ECDHE-ECDSA-AES128-GCM-SHA256 bits=128/128); Tue, 13 May 2025 11:09:58 -0700 (PDT) X-Relaying-Domain: iol.unh.edu Date: Tue, 13 May 2025 11:09:58 -0700 (PDT) Message-ID: <68238af6.170a0220.a4568.d2e8SMTPIN_ADDED_MISSING@mx.google.com> Received: from [172.21.0.5] (unknown [172.18.0.240]) by postal.iol.unh.edu (Postfix) with ESMTP id C61F96052471; Tue, 13 May 2025 14:09:57 -0400 (EDT) Subject: |SUCCESS| pw153429-153431 [PATCH] [v4,3/3] doc: provide examples of From: dpdklab@iol.unh.edu To: Test Report Cc: dpdk-test-reports@iol.unh.edu In-Reply-To: <20250513161710.410000-4-bruce.richardson@intel.com> References: <20250513161710.410000-4-bruce.richardson@intel.com> Content-Type: text/plain X-BeenThere: test-report@dpdk.org X-Mailman-Version: 2.1.29 Precedence: list List-Id: automatic DPDK test reports List-Unsubscribe: , List-Archive: List-Post: List-Help: List-Subscribe: , Errors-To: test-report-bounces@dpdk.org Test-Label: iol-unit-arm64-testing Test-Status: SUCCESS http://dpdk.org/patch/153431 _Testing PASS_ Submitter: Bruce Richardson Date: Tuesday, May 13 2025 16:17:10 DPDK git baseline: Repo:dpdk Branch: master CommitID:2bf836de46d36a81f9321f947fbfce52b3180782 153429-153431 --> testing pass Upstream job id: Generic-Unit-Test-DPDK#337453 Test environment and result as below: +-----------------------------+--------------+------------------------------+---------------------------+----------------+ | Environment | lpm_autotest | cryptodev_sw_snow3g_autotest | cryptodev_sw_zuc_autotest | dpdk_unit_test | +=============================+==============+==============================+===========================+================+ | Ubuntu 20.04 ARM SVE | PASS | SKIPPED | SKIPPED | SKIPPED | +-----------------------------+--------------+------------------------------+---------------------------+----------------+ | Debian 12 (arm) | SKIPPED | PASS | PASS | PASS | +-----------------------------+--------------+------------------------------+---------------------------+----------------+ | CentOS Stream 9 (ARM) | SKIPPED | SKIPPED | SKIPPED | PASS | +-----------------------------+--------------+------------------------------+---------------------------+----------------+ | CentOS Stream 10 (ARM) | SKIPPED | SKIPPED | SKIPPED | PASS | +-----------------------------+--------------+------------------------------+---------------------------+----------------+ | Fedora 41 (ARM) | SKIPPED | SKIPPED | SKIPPED | PASS | +-----------------------------+--------------+------------------------------+---------------------------+----------------+ | Fedora 40 (ARM Clang) | SKIPPED | SKIPPED | SKIPPED | PASS | +-----------------------------+--------------+------------------------------+---------------------------+----------------+ | Fedora 40 (ARM) | SKIPPED | SKIPPED | SKIPPED | PASS | +-----------------------------+--------------+------------------------------+---------------------------+----------------+ | RHEL9 (ARM) | SKIPPED | SKIPPED | SKIPPED | PASS | +-----------------------------+--------------+------------------------------+---------------------------+----------------+ | Ubuntu 20.04 (ARM) | SKIPPED | SKIPPED | SKIPPED | PASS | +-----------------------------+--------------+------------------------------+---------------------------+----------------+ | Ubuntu 24.04 (ARM) | SKIPPED | SKIPPED | SKIPPED | PASS | +-----------------------------+--------------+------------------------------+---------------------------+----------------+ | Ubuntu 22.04 (ARM) | SKIPPED | SKIPPED | SKIPPED | PASS | +-----------------------------+--------------+------------------------------+---------------------------+----------------+ | Fedora 41 (ARM Clang) | SKIPPED | SKIPPED | SKIPPED | PASS | +-----------------------------+--------------+------------------------------+---------------------------+----------------+ | 32-bit Ubuntu 22.04.4 (ARM) | SKIPPED | SKIPPED | SKIPPED | PASS | +-----------------------------+--------------+------------------------------+---------------------------+----------------+ Ubuntu 20.04 ARM SVE Kernel: Depends on container host Compiler: gcc (Ubuntu 10.5.0-1ubuntu1~20.04) 10.5.0 Debian 12 (arm) Kernel: Depends on container host Compiler: gcc (Debian 12.2.0-14) 12.2.0 CentOS Stream 9 (ARM) Kernel: Depends on container host Compiler: gcc 11.5.0 20240719 (Red Hat 11.5.0-2) CentOS Stream 10 (ARM) Kernel: Depends on container host Compiler: gcc 14.2.1 20241104 (Red Hat 14.2.1-6) Fedora 41 (ARM) Kernel: Depends on container host Compiler: gcc 14.2.1 20240912 (Red Hat 14.2.1-3) Fedora 40 (ARM Clang) Kernel: Depends on container host Compiler: clang 18.1.8 (Fedora 18.1.8-1.fc40) Fedora 40 (ARM) Kernel: Depends on container host Compiler: gcc 14.2.1 20240912 (Red Hat 14.2.1-3) RHEL9 (ARM) Kernel: Depends on container host Compiler: gcc 11.5.0 20240719 (Red Hat 11.5.0-2) Ubuntu 20.04 (ARM) Kernel: Depends on container host Compiler: gcc (Ubuntu 9.4.0-1ubuntu1~20.04.2) 9.4.0 Ubuntu 24.04 (ARM) Kernel: Depends on container host Compiler: gcc (Ubuntu 13.3.0-6ubuntu2~24.04) 13.3.0 Ubuntu 22.04 (ARM) Kernel: Depends on container host Compiler: gcc (Ubuntu 11.4.0-1ubuntu1~22.04) 11.4.0 Fedora 41 (ARM Clang) Kernel: Depends on container host Compiler: clang 19.1.5 (Fedora 19.1.5-1.fc41) 32-bit Ubuntu 22.04.4 (ARM) Kernel: 5.15.83+ aarch64 Compiler: gcc (Ubuntu 11.4.0-1ubuntu1~22.04) 11.4.0 To view detailed results, visit: https://lab.dpdk.org/results/dashboard/patchsets/33164/ UNH-IOL DPDK Community Lab To manage your email subscriptions, visit: https://lab.dpdk.org/results/dashboard/preferences/subscriptions/