From mboxrd@z Thu Jan 1 00:00:00 1970 Return-Path: Received: from mails.dpdk.org (mails.dpdk.org [217.70.189.124]) by inbox.dpdk.org (Postfix) with ESMTP id 827A94673B for ; Tue, 13 May 2025 20:33:29 +0200 (CEST) Received: from mails.dpdk.org (localhost [127.0.0.1]) by mails.dpdk.org (Postfix) with ESMTP id 5F52F4025D; Tue, 13 May 2025 20:33:29 +0200 (CEST) Received: from mail-yw1-f227.google.com (mail-yw1-f227.google.com [209.85.128.227]) by mails.dpdk.org (Postfix) with ESMTP id 04A7A40041 for ; Tue, 13 May 2025 20:33:27 +0200 (CEST) Received: by mail-yw1-f227.google.com with SMTP id 00721157ae682-70a57a8ffc3so29335547b3.0 for ; Tue, 13 May 2025 11:33:27 -0700 (PDT) DKIM-Signature: v=1; a=rsa-sha256; c=relaxed/relaxed; d=iol.unh.edu; s=unh-iol; t=1747161207; x=1747766007; darn=dpdk.org; h=references:in-reply-to:cc:to:from:subject:message-id:date:from:to :cc:subject:date:message-id:reply-to; bh=h5vcOvGVJzmYm9YQ2Engh6k0EgcZ7Z2TG3rfkZjYL1s=; b=AJ80+d6UxlzzAVlQV8xf469370acgwpbLprklwvjKKzJ31eonDWtXf5+FBpIkKdIs1 g0Iw/bCYcepCVQ+Cgzyx1a5ZB7Bzvld8+H4TjlMio3X/5vOTVsli0dE6W3BkJ2yP9twd rrfkTk1WnqbjbvqHhhB03I0S/uCid403gSJf8= X-Google-DKIM-Signature: v=1; a=rsa-sha256; c=relaxed/relaxed; d=1e100.net; s=20230601; t=1747161207; x=1747766007; h=references:in-reply-to:cc:to:from:subject:message-id:date :x-gm-message-state:from:to:cc:subject:date:message-id:reply-to; bh=h5vcOvGVJzmYm9YQ2Engh6k0EgcZ7Z2TG3rfkZjYL1s=; b=Drg/wJMMTUEhQ2qf4SRIV4LD2eWd3mlCK1dP2Y3BsR5qX8JVpvMaVlKnw6SLwX+h+3 bUbSAp+x+Aru0CIVcn5kC4IQTmYas+Bh6rmssfB7z0cTkR0QzblTnmUdGcW38MUYX3mp P67Awc0I6fVVSa6Tr7PcuRrd68JEUZ3eyjUliJYtxexBf/SHdZrWdXadFcmTjMuza3HM rfNEtCOdSfXbzsL+USUwpmAVMnq1hY4/oEjp6amrXNhogi5T3AYUUeH1rDzTa9cPK0k5 CD/JxW1bfkpydR0oKNvdO/pCGga1A2+ODU2Kqfy/Gt9UH35LEcddJD+dJijbyp3YLOq1 rweQ== X-Gm-Message-State: AOJu0YzGaHU+zbE+5kyqj4yRxz5k7vx5lZA8dBMswvb+QoRNsmAbNfgj Ql0/P3wnFNWD3BaVBC/7QAxK8wK49JvQL7tkYvTq69m2DX7bOvjYubcIsiTnkPE7qxvZINs1ujq MYRh8CLz3WTMxAqVqkBY4mISGjdxCka0nKTUKJVCO X-Gm-Gg: ASbGncv9Bi77cuCB710id7q3DEj5RokiltA40qk9a8KsnblgnWnYe6ANdP0AncCBaWG igsKWnx3qdtk/GJNjyxpZwH+vKhjYMtR/IwF9ckcOzpTBBzY7ScaSt6Yn+sfm+RsFnvTHDtJDzn QG6YR44mooFXbrVVRZrZc97yEtoom7/ZVxea+k3PInwLs+mS9++aCcttBsyzi4gHbNfmR9vOc4V OvlIrxD5e+t0xzmKZfJ2aYBwulUNSCMtvak+iqa0LOr6C/B9W9JtGlm5XuIdMPSbO0jloIRnK4N L8PAqhr2GGXtAnjTw1afbJhqz2zz6h2js/3f/EU0cx2DQ6SpFGqpotKk/us= X-Google-Smtp-Source: AGHT+IG0m70lqQE48XeUu7oo23PPDIkjfvo4K4c29zRYZi4MrhV8CSPcPNDVhxbRLPqRV6WeBKif8PdoQkMJ X-Received: by 2002:a05:690c:4881:b0:709:19f7:d7ce with SMTP id 00721157ae682-70c7f27cc69mr10342007b3.31.1747161207278; Tue, 13 May 2025 11:33:27 -0700 (PDT) Received: from postal.iol.unh.edu (postal.iol.unh.edu. [132.177.123.84]) by smtp-relay.gmail.com with ESMTPS id 00721157ae682-70a3d7520f5sm3828597b3.16.2025.05.13.11.33.27 (version=TLS1_2 cipher=ECDHE-ECDSA-AES128-GCM-SHA256 bits=128/128); Tue, 13 May 2025 11:33:27 -0700 (PDT) X-Relaying-Domain: iol.unh.edu Date: Tue, 13 May 2025 11:33:27 -0700 (PDT) Message-ID: <68239077.810a0220.37aeb3.4e00SMTPIN_ADDED_MISSING@mx.google.com> Received: from [172.17.0.2] (unknown [172.18.0.76]) by postal.iol.unh.edu (Postfix) with ESMTP id DF6FF6052471; Tue, 13 May 2025 14:33:26 -0400 (EDT) Subject: |SUCCESS| pw153428 [PATCH] [v2] bus/vdev: revert fix devargs after m From: dpdklab@iol.unh.edu To: Test Report Cc: dpdk-test-reports@iol.unh.edu In-Reply-To: <20250513092156.1198659-1-mingjinx.ye@intel.com> References: <20250513092156.1198659-1-mingjinx.ye@intel.com> Content-Type: text/plain X-BeenThere: test-report@dpdk.org X-Mailman-Version: 2.1.29 Precedence: list List-Id: automatic DPDK test reports List-Unsubscribe: , List-Archive: List-Post: List-Help: List-Subscribe: , Errors-To: test-report-bounces@dpdk.org Test-Label: iol-unit-amd64-testing Test-Status: SUCCESS http://dpdk.org/patch/153428 _Testing PASS_ Submitter: Mingjin Ye Date: Tuesday, May 13 2025 09:21:56 DPDK git baseline: Repo:dpdk Branch: master CommitID:2bf836de46d36a81f9321f947fbfce52b3180782 153428 --> testing pass Upstream job id: Generic-VM-Unit-Test-DPDK#28494 Test environment and result as below: +---------------------+----------------+ | Environment | dpdk_unit_test | +=====================+================+ | Fedora 40 | PASS | +---------------------+----------------+ | CentOS Stream 9 | PASS | +---------------------+----------------+ | CentOS Stream 10 | PASS | +---------------------+----------------+ | Fedora 40 (Clang) | PASS | +---------------------+----------------+ | RHEL8 | PASS | +---------------------+----------------+ | Debian 12 | PASS | +---------------------+----------------+ | Fedora 41 (Clang) | PASS | +---------------------+----------------+ | Fedora 41 | PASS | +---------------------+----------------+ | Ubuntu 20.04 | PASS | +---------------------+----------------+ | Ubuntu 22.04 | PASS | +---------------------+----------------+ | RHEL9 | PASS | +---------------------+----------------+ | Ubuntu 24.04 | PASS | +---------------------+----------------+ | Windows Server 2022 | PASS | +---------------------+----------------+ Fedora 40 Kernel: Depends on container host Compiler: gcc 14.2.1 20240912 (Red Hat 14.2.1-3) CentOS Stream 9 Kernel: Depends on container host Compiler: gcc 11.5.0 20240719 (Red Hat 11.5.0-2) CentOS Stream 10 Kernel: Depends on container host Compiler: gcc 14.2.1 20241104 (Red Hat 14.2.1-6) Fedora 40 (Clang) Kernel: Depends on container host Compiler: clang 18.1.8 (Fedora 18.1.8-1.fc40) RHEL8 Kernel: Depends on container host Compiler: gcc 8.5.0 20210514 (Red Hat 8.5.0-22) Debian 12 Kernel: Depends on container host Compiler: gcc (Debian 12.2.0-14) 12.2.0 Fedora 41 (Clang) Kernel: Depends on container host Compiler: clang 19.1.5 (Fedora 19.1.5-1.fc41) Fedora 41 Kernel: Depends on container host Compiler: gcc 14.2.1 20240912 (Red Hat 14.2.1-3) Ubuntu 20.04 Kernel: Depends on container host Compiler: gcc (Ubuntu 9.4.0-1ubuntu1~20.04.2) 9.4.0 Ubuntu 22.04 Kernel: Depends on container host Compiler: gcc (Ubuntu 11.4.0-1ubuntu1~22.04) 11.4.0 RHEL9 Kernel: Depends on container host Compiler: gcc 11.5.0 20240719 (Red Hat 11.5.0-2) Ubuntu 24.04 Kernel: Depends on container host Compiler: gcc (Ubuntu 13.3.0-6ubuntu2~24.04) 13.3.0 Windows Server 2022 Kernel: 10.0.20348.2031 Compiler: clang 15.0.7, gcc 14.1.0 (MinGW), and MSVC VS 19.39.33521 To view detailed results, visit: https://lab.dpdk.org/results/dashboard/patchsets/33163/ UNH-IOL DPDK Community Lab To manage your email subscriptions, visit: https://lab.dpdk.org/results/dashboard/preferences/subscriptions/