From mboxrd@z Thu Jan 1 00:00:00 1970 Return-Path: Received: from mails.dpdk.org (mails.dpdk.org [217.70.189.124]) by inbox.dpdk.org (Postfix) with ESMTP id D4B8A4673B for ; Tue, 13 May 2025 20:36:55 +0200 (CEST) Received: from mails.dpdk.org (localhost [127.0.0.1]) by mails.dpdk.org (Postfix) with ESMTP id AEE5A4025D; Tue, 13 May 2025 20:36:55 +0200 (CEST) Received: from mail-yw1-f228.google.com (mail-yw1-f228.google.com [209.85.128.228]) by mails.dpdk.org (Postfix) with ESMTP id 2A9D840041 for ; Tue, 13 May 2025 20:36:54 +0200 (CEST) Received: by mail-yw1-f228.google.com with SMTP id 00721157ae682-70a32708b4eso40788287b3.3 for ; Tue, 13 May 2025 11:36:54 -0700 (PDT) DKIM-Signature: v=1; a=rsa-sha256; c=relaxed/relaxed; d=iol.unh.edu; s=unh-iol; t=1747161413; x=1747766213; darn=dpdk.org; h=references:in-reply-to:cc:to:from:subject:message-id:date:from:to :cc:subject:date:message-id:reply-to; bh=NKYFP8AkGb+k50oQY/JsJmoqacej6UGll5cuFNxKGFs=; b=HIsLR+mScm7X4ktakZ5Z38hy9PwMYmjo4vc003i3tB1a928l0G7jnZNxQR/kguYeZt AeJOSpbzXVZS1oKxYp7znDNcrinmPFBHOWavsSdUOiN+a5DEl3SgTGp1C11EpygfDK0g qrIjZTpGKBGyKoqgyATsTflRYmlvf3QmWsKo4= X-Google-DKIM-Signature: v=1; a=rsa-sha256; c=relaxed/relaxed; d=1e100.net; s=20230601; t=1747161413; x=1747766213; h=references:in-reply-to:cc:to:from:subject:message-id:date :x-gm-message-state:from:to:cc:subject:date:message-id:reply-to; bh=NKYFP8AkGb+k50oQY/JsJmoqacej6UGll5cuFNxKGFs=; b=fCK8ZK99K3Bv6jpebTZC0Nf1Q617s1CsLIfbgvohswR0iqROQBN5YrOV09lvewVkuE xHFPGL0B3ii12tU/0umLkh6kN35A5ReogL2VdYX1sxbwt9RvaZukWCDavL43I6ntI3XD VijG7psYlxLTgd+RJKuM4tjCS9JfxbKwPS0Qacqp6GzvGjVZveNu6NUwHx0p2dXknyI2 n0NO8Pe+7ejOxZhd+y591lKm5ycHTugr4gi/JY/5k/TMk3OcgKSLnS58kcH7knuRRGVX IN/ek+AKHre0YHpjKZGESexgw12hJTcuagunNpnmkqE7ubI/ndwo9V9eYLnxWZvH5e9Z k25g== X-Gm-Message-State: AOJu0YxEhuw5gVZv9E0KOaNsQbUOEL/ddgEUiXuPr1IjCkls5s4gpnaV 7aH3PL0ujqeN3tP6IjBuR7ntqhA23NNE5S/jDhVR8gsGQj9JX7DwP4Lud5mr9hOfWgae2KU+HBJ jnME5PFHfa/tZERo/KL2ZM/6R5F75YW3wkpM7lkUcWPREteaZzzNhS+VO X-Gm-Gg: ASbGncuhC56yFo9O6Co+5cTtheRsuaA1LhK2GjonYHAwob91V9JICLeD0ojM3WNfGDN 4pezYRORhvX4JHOlnIpceWfhHhwzkbFqXe+2Yyi2P5wuJ1YNEBr01PkHldmOaMlAtVMapHkJ7qm I8CMfppWYOIs7Xu0XtIdRjzlQwdJcFoi7ct1oRfCGSbDxXqwEHvhRYPyrhG87wv5XQLH4OsrSbQ DyTWwtMFsBR5CFOzZev/mTq43oQK/M84s1xtRFgHFGUgsFdWx1ThyOiEaNOqno1uNkMqPtuPqZK yTUDRtJEWBU2Or5RCK2BpToW5vhxdo9ZroHq X-Google-Smtp-Source: AGHT+IEmDaLGIAvyHs3IDcuPHiWbitVeeUicB1Cvso5m+MylfXP2PuEREZbdSThHZxh14ZhLi5/K2uQjOnBX X-Received: by 2002:a05:690c:45c7:b0:709:176d:2b5 with SMTP id 00721157ae682-70c7f10c045mr11212437b3.2.1747161413247; Tue, 13 May 2025 11:36:53 -0700 (PDT) Received: from postal.iol.unh.edu (postal.iol.unh.edu. [2606:4100:3880:1234::84]) by smtp-relay.gmail.com with ESMTPS id 00721157ae682-70a55a6d9a9sm2605327b3.50.2025.05.13.11.36.53 (version=TLS1_2 cipher=ECDHE-ECDSA-AES128-GCM-SHA256 bits=128/128); Tue, 13 May 2025 11:36:53 -0700 (PDT) X-Relaying-Domain: iol.unh.edu Date: Tue, 13 May 2025 11:36:53 -0700 (PDT) Message-ID: <68239145.050a0220.38a1e9.d482SMTPIN_ADDED_MISSING@mx.google.com> Received: from [172.17.0.2] (unknown [172.18.0.76]) by postal.iol.unh.edu (Postfix) with ESMTP id DAB066052471; Tue, 13 May 2025 14:36:52 -0400 (EDT) Subject: |SUCCESS| pw153428 [PATCH] [v2] bus/vdev: revert fix devargs after m From: dpdklab@iol.unh.edu To: Test Report Cc: dpdk-test-reports@iol.unh.edu In-Reply-To: <20250513092156.1198659-1-mingjinx.ye@intel.com> References: <20250513092156.1198659-1-mingjinx.ye@intel.com> Content-Type: text/plain X-BeenThere: test-report@dpdk.org X-Mailman-Version: 2.1.29 Precedence: list List-Id: automatic DPDK test reports List-Unsubscribe: , List-Archive: List-Post: List-Help: List-Subscribe: , Errors-To: test-report-bounces@dpdk.org Test-Label: iol-abi-testing Test-Status: SUCCESS http://dpdk.org/patch/153428 _Testing PASS_ Submitter: Mingjin Ye Date: Tuesday, May 13 2025 09:21:56 DPDK git baseline: Repo:dpdk Branch: master CommitID:2bf836de46d36a81f9321f947fbfce52b3180782 153428 --> testing pass Upstream job id: Generic-DPDK-Compile-ABI#126225 Test environment and result as below: +-------------------+----------+ | Environment | abi_test | +===================+==========+ | CentOS Stream 10 | PASS | +-------------------+----------+ | CentOS Stream 9 | PASS | +-------------------+----------+ | Fedora 40 (Clang) | PASS | +-------------------+----------+ | Debian 12 | PASS | +-------------------+----------+ | Fedora 40 | PASS | +-------------------+----------+ | Fedora 41 (Clang) | PASS | +-------------------+----------+ | Fedora 41 | PASS | +-------------------+----------+ | RHEL8 | PASS | +-------------------+----------+ | openSUSE Leap 15 | PASS | +-------------------+----------+ | RHEL9 | PASS | +-------------------+----------+ | Ubuntu 24.04 | PASS | +-------------------+----------+ | Ubuntu 22.04 | PASS | +-------------------+----------+ CentOS Stream 10 Kernel: Depends on container host Compiler: gcc 14.2.1 20241104 (Red Hat 14.2.1-6) CentOS Stream 9 Kernel: Depends on container host Compiler: gcc 11.5.0 20240719 (Red Hat 11.5.0-2) Fedora 40 (Clang) Kernel: Depends on container host Compiler: clang 18.1.8 (Fedora 18.1.8-1.fc40) Debian 12 Kernel: Depends on container host Compiler: gcc (Debian 12.2.0-14) 12.2.0 Fedora 40 Kernel: Depends on container host Compiler: gcc 14.2.1 20240912 (Red Hat 14.2.1-3) Fedora 41 (Clang) Kernel: Depends on container host Compiler: clang 19.1.5 (Fedora 19.1.5-1.fc41) Fedora 41 Kernel: Depends on container host Compiler: gcc 14.2.1 20240912 (Red Hat 14.2.1-3) RHEL8 Kernel: Depends on container host Compiler: gcc 8.5.0 20210514 (Red Hat 8.5.0-22) openSUSE Leap 15 Kernel: Depends on container host Compiler: gcc (SUSE Linux) 7.5.0 RHEL9 Kernel: Depends on container host Compiler: gcc 11.5.0 20240719 (Red Hat 11.5.0-2) Ubuntu 24.04 Kernel: Depends on container host Compiler: gcc (Ubuntu 13.3.0-6ubuntu2~24.04) 13.3.0 Ubuntu 22.04 Kernel: Depends on container host Compiler: gcc (Ubuntu 11.4.0-1ubuntu1~22.04) 11.4.0 To view detailed results, visit: https://lab.dpdk.org/results/dashboard/patchsets/33163/ UNH-IOL DPDK Community Lab To manage your email subscriptions, visit: https://lab.dpdk.org/results/dashboard/preferences/subscriptions/