From mboxrd@z Thu Jan 1 00:00:00 1970 Return-Path: Received: from mails.dpdk.org (mails.dpdk.org [217.70.189.124]) by inbox.dpdk.org (Postfix) with ESMTP id 6463E4673B for ; Tue, 13 May 2025 20:54:01 +0200 (CEST) Received: from mails.dpdk.org (localhost [127.0.0.1]) by mails.dpdk.org (Postfix) with ESMTP id 417354025D; Tue, 13 May 2025 20:54:01 +0200 (CEST) Received: from mail-pl1-f227.google.com (mail-pl1-f227.google.com [209.85.214.227]) by mails.dpdk.org (Postfix) with ESMTP id 19DC540041 for ; Tue, 13 May 2025 20:53:59 +0200 (CEST) Received: by mail-pl1-f227.google.com with SMTP id d9443c01a7336-22e7eff58a0so61023305ad.3 for ; Tue, 13 May 2025 11:53:58 -0700 (PDT) DKIM-Signature: v=1; a=rsa-sha256; c=relaxed/relaxed; d=iol.unh.edu; s=unh-iol; t=1747162438; x=1747767238; darn=dpdk.org; h=references:in-reply-to:cc:to:from:subject:message-id:date:from:to :cc:subject:date:message-id:reply-to; bh=YZV0+C9Ar5TpFXcV1f7uIrZf/Kd58sdeLGUjLapfeQ0=; b=jq1zZbLJF8j4bPwd0m8iFDFSRXJr26V3Aawfxw33Xc3D1PYL58KQjsQEgDZBXw1p8o 7KiXZRMU5YH3nmq3vbT6hwPVxMlF287uiSlYo0AC+86kdaNK4s87mFcCd4SNfb92HeMt zyGu6t+BhburLg4jUgbRe/42ZxAG1o55KDmEU= X-Google-DKIM-Signature: v=1; a=rsa-sha256; c=relaxed/relaxed; d=1e100.net; s=20230601; t=1747162438; x=1747767238; h=references:in-reply-to:cc:to:from:subject:message-id:date :x-gm-message-state:from:to:cc:subject:date:message-id:reply-to; bh=YZV0+C9Ar5TpFXcV1f7uIrZf/Kd58sdeLGUjLapfeQ0=; b=oxiCOLbfk6s+ok/zrOYH9tcEuX2GDYZZf5bFQpB8goQHyYLKP7zOq4HR2yH3TPgtFd F1LqlFCoUSantYEZo+oOIL2cRpLV3wL+sdI4sdu67CsKZqzsxZE2VBBWKeEYZaJ+MCOc 1DF8a3E5GrgApvP623I94GXyi1M/L4lNPTra0vrZ3UFCwytYJ+iI+7mnYdt2lSvlWl+j vz5zdIfcFhMAwv47SMHpWydVM6nqsB/Z+W0dqq8IpRFjo88Hda0GcIthO08hyShUJto4 jJ/6jwLGdK7KY8E3cKqa+TynfoVVBZhFB26z8+dHlXaMqhwp/4McpvEUm9P8lA1w7Fj+ RH/Q== X-Gm-Message-State: AOJu0YxpdScLw1HvyP3eIHNvozCrbNjW+8oSXaHvaksG+l7fWdiTAYpw Ul98RPYZRLjcOK42lL5FlMSO3H60TT+DywOw71fm7o6Y+4kbDz68fORTp86a772IS/6pfW0R9un sMVsYXNBrXmtgCHfgQF9Ih1Z9bYn7Fx1iBnsj92ZZqCbnQaIPuatnkv6V X-Gm-Gg: ASbGncsGo+eFplbSHtixjmM2kHJNX4hrzNZr34s8eOocxmZkywfg0jcyxsK7fC97J1F X1D8EzA8qGQOeuMveMy0UZxVJIMpKROXb6sQvzd+qJaraGMvU49xClwDkic6CRLz90NypHpC2Eg gCR+dcVm7eISHoL67s6qyWuu/62c/CmrcwKWgDGrUM3VEbrZuFI3TeOz1w51BZyoWUmO3JwAUbj w4lTteQMu5syU/KB2JUA+8Q+6td9q8ItLyARIINwqfZ2lvN/rUbbAJy4MnyySXqeLE1LJuoMSKL TmfKsyMNvTsnZuqh5zG9pak0meQe5qxT6pY0 X-Google-Smtp-Source: AGHT+IHuClW3yay5eyDYOZRfKZWbvnEUAbfOMDjL3OzC8JEDRMv3X4uQjb6iJIVfVhysVXUoB41byXbI0Ehd X-Received: by 2002:a17:902:e5c6:b0:22e:62cf:498f with SMTP id d9443c01a7336-231981c9195mr7918675ad.38.1747162437905; Tue, 13 May 2025 11:53:57 -0700 (PDT) Received: from postal.iol.unh.edu (postal.iol.unh.edu. [2606:4100:3880:1234::84]) by smtp-relay.gmail.com with ESMTPS id d9443c01a7336-22fc6f11192sm5591445ad.83.2025.05.13.11.53.57 (version=TLS1_2 cipher=ECDHE-ECDSA-AES128-GCM-SHA256 bits=128/128); Tue, 13 May 2025 11:53:57 -0700 (PDT) X-Relaying-Domain: iol.unh.edu Date: Tue, 13 May 2025 11:53:57 -0700 (PDT) Message-ID: <68239545.170a0220.1f814b.d231SMTPIN_ADDED_MISSING@mx.google.com> Received: from [172.17.0.2] (unknown [172.18.0.74]) by postal.iol.unh.edu (Postfix) with ESMTP id 60E0C6052471; Tue, 13 May 2025 14:53:57 -0400 (EDT) Subject: |SUCCESS| pw153428 [PATCH] [v2] bus/vdev: revert fix devargs after m From: dpdklab@iol.unh.edu To: Test Report Cc: dpdk-test-reports@iol.unh.edu In-Reply-To: <20250513092156.1198659-1-mingjinx.ye@intel.com> References: <20250513092156.1198659-1-mingjinx.ye@intel.com> Content-Type: text/plain X-BeenThere: test-report@dpdk.org X-Mailman-Version: 2.1.29 Precedence: list List-Id: automatic DPDK test reports List-Unsubscribe: , List-Archive: List-Post: List-Help: List-Subscribe: , Errors-To: test-report-bounces@dpdk.org Test-Label: iol-sample-apps-testing Test-Status: SUCCESS http://dpdk.org/patch/153428 _Testing PASS_ Submitter: Mingjin Ye Date: Tuesday, May 13 2025 09:21:56 DPDK git baseline: Repo:dpdk Branch: master CommitID:2bf836de46d36a81f9321f947fbfce52b3180782 153428 --> testing pass Upstream job id: ACVP-FIPS-testing#9797 Test environment and result as below: +--------------------+----------------------+----------------------+ | Environment | compressdev_zlib_pmd | dpdk_fips_validation | +====================+======================+======================+ | Ubuntu 22.04 (ARM) | PASS | SKIPPED | +--------------------+----------------------+----------------------+ | Ubuntu 22.04 | PASS | SKIPPED | +--------------------+----------------------+----------------------+ | Ubuntu 20.04 | SKIPPED | PASS | +--------------------+----------------------+----------------------+ Ubuntu 22.04 (ARM) Kernel: 5.15.0-97-generic Compiler: gcc gcc (Ubuntu 11.4.0-1ubuntu1~22.04) 11.4.0 Ubuntu 22.04 Kernel: 5.15.0-100-generic Compiler: gcc gcc (Ubuntu 11.4.0-1ubuntu1~22.04) 11.4.0 Ubuntu 20.04 Kernel: Depends on container host Compiler: gcc (Ubuntu 9.4.0-1ubuntu1~20.04.2) 9.4.0 To view detailed results, visit: https://lab.dpdk.org/results/dashboard/patchsets/33163/ UNH-IOL DPDK Community Lab To manage your email subscriptions, visit: https://lab.dpdk.org/results/dashboard/preferences/subscriptions/