From mboxrd@z Thu Jan 1 00:00:00 1970 Return-Path: Received: from mails.dpdk.org (mails.dpdk.org [217.70.189.124]) by inbox.dpdk.org (Postfix) with ESMTP id 8DFC44673B for ; Tue, 13 May 2025 21:47:00 +0200 (CEST) Received: from mails.dpdk.org (localhost [127.0.0.1]) by mails.dpdk.org (Postfix) with ESMTP id 5E9964025D; Tue, 13 May 2025 21:47:00 +0200 (CEST) Received: from mail-io1-f98.google.com (mail-io1-f98.google.com [209.85.166.98]) by mails.dpdk.org (Postfix) with ESMTP id E78CD40041 for ; Tue, 13 May 2025 21:46:58 +0200 (CEST) Received: by mail-io1-f98.google.com with SMTP id ca18e2360f4ac-85b41281b50so190854239f.3 for ; Tue, 13 May 2025 12:46:58 -0700 (PDT) DKIM-Signature: v=1; a=rsa-sha256; c=relaxed/relaxed; d=iol.unh.edu; s=unh-iol; t=1747165618; x=1747770418; darn=dpdk.org; h=references:in-reply-to:cc:to:from:subject:message-id:date:from:to :cc:subject:date:message-id:reply-to; bh=O9L0HdzrdFRt2ZsO/rl0kP8zgr9zEkCuUdYL6FIyD28=; b=XFEUzb5Xdimk/HImcEZ4zXt8otsyH7bpPomyDr5mebJCN/WN3B+Es593m+InrcMihF B7IxfilAR1JHPCvfStFpxIwgxDNJD23g+Bf8QOz3S00yXLIXqJRH+jbyAp/IneOZ+zbE hM9J2fTG2leAk/WmI+Y0Mt2BsubSblbHM2ggs= X-Google-DKIM-Signature: v=1; a=rsa-sha256; c=relaxed/relaxed; d=1e100.net; s=20230601; t=1747165618; x=1747770418; h=references:in-reply-to:cc:to:from:subject:message-id:date :x-gm-message-state:from:to:cc:subject:date:message-id:reply-to; bh=O9L0HdzrdFRt2ZsO/rl0kP8zgr9zEkCuUdYL6FIyD28=; b=J+K/mt+i8tdWNEZGHhyug+CLKiFWzeQBKCiZXSAHpcPKZ8k5KS56RVWNyTAJmwZAwH Q0i7gcr9M/YS09aakcMtpQOnzVsOrlovwoMIn8dH1MlIcjgYkchXKSkTilngH/8cs1Ai TdWNTtrC2hqthNN6lOfrcuWbZhHaZ2FW4FCQENWw+yz2xvNHVQvCZ5JDZXafQl8Y8IUL TGkplVrP3G0/JuY3hER1XWRUdAySS7HCVk70d2zNuBs60P7GfNLpVW1Z3xGYaKy0WLyZ mokUgcfNnI39XQQk9muxY+WHdhpBnmoDq0I1mQp+TnDBya14UCQ6+dYeflLQAvNqyvmV H/TQ== X-Gm-Message-State: AOJu0Yz80tmTCxgqO+J6Zvom5xGFUeexirxaEXk42pYbxosQ56jpZQcd Njnoz4hp5MJr9nMRciSxgR5awc03ljgfHqBtXMWfLTPJCJHYjXqhMdiJ8uugPcKXm+noVh5IWfI 2mE6o8cUe+HnsH90jCJCBFQfPf3ot33J9gr/gOrEj X-Gm-Gg: ASbGncu8zZQdLVhfO5nEA9hQt2STHyw2/pgNk6RO9wnVYvop9UP8VrGTU9A3Am69us4 FXLiqPFHBFm5uk62aiC/YyykzYKGd5W61DT0dpyIynUzXwKQ7C3KPQUDwH6NCBWXUbnvbA9Swx3 g65w8E+F+sNfaoSnoBQ0/yNfXLxy22Olp32IimlO67e+QiGRcnzQLF8hm5L5/qqrPLfVBqDZVE9 kt0abGEPM3Y6ZviB/QcSDWKTCJWw/qDE7JLkSRK0pJdOGRvYTQuNcn1uPFOu3rDwzWaFaGR24e5 FxNEpuADnq8nPCp/iHfpNeCd5tBdSeHCdGg9kt+7v4RXm+kh+qi2ZbtSrOw= X-Google-Smtp-Source: AGHT+IF4SlL38WPeV3b/ZaJ6XgmPZp9aV0Gq4tJSiqakBmlJTXcOoK9z6VynssFdP6C5mKo1UnMKLZIIRUQq X-Received: by 2002:a05:6e02:180e:b0:3da:71c7:5c8c with SMTP id e9e14a558f8ab-3db6f7ecf58mr10317785ab.15.1747165617903; Tue, 13 May 2025 12:46:57 -0700 (PDT) Received: from postal.iol.unh.edu (postal.iol.unh.edu. [132.177.123.84]) by smtp-relay.gmail.com with ESMTPS id 8926c6da1cb9f-4fa2243416asm164085173.12.2025.05.13.12.46.57 (version=TLS1_2 cipher=ECDHE-ECDSA-AES128-GCM-SHA256 bits=128/128); Tue, 13 May 2025 12:46:57 -0700 (PDT) X-Relaying-Domain: iol.unh.edu Date: Tue, 13 May 2025 12:46:57 -0700 (PDT) Message-ID: <6823a1b1.020a0220.33045.8c4cSMTPIN_ADDED_MISSING@mx.google.com> Received: from [172.17.0.2] (unknown [172.18.0.74]) by postal.iol.unh.edu (Postfix) with ESMTP id 69E596052471; Tue, 13 May 2025 15:46:57 -0400 (EDT) Subject: |SUCCESS| pw153428 [PATCH] [v2] bus/vdev: revert fix devargs after m From: dpdklab@iol.unh.edu To: Test Report Cc: dpdk-test-reports@iol.unh.edu In-Reply-To: <20250513092156.1198659-1-mingjinx.ye@intel.com> References: <20250513092156.1198659-1-mingjinx.ye@intel.com> Content-Type: text/plain X-BeenThere: test-report@dpdk.org X-Mailman-Version: 2.1.29 Precedence: list List-Id: automatic DPDK test reports List-Unsubscribe: , List-Archive: List-Post: List-Help: List-Subscribe: , Errors-To: test-report-bounces@dpdk.org Test-Label: iol-compile-arm64-testing Test-Status: SUCCESS http://dpdk.org/patch/153428 _Testing PASS_ Submitter: Mingjin Ye Date: Tuesday, May 13 2025 09:21:56 DPDK git baseline: Repo:dpdk Branch: master CommitID:2bf836de46d36a81f9321f947fbfce52b3180782 153428 --> testing pass Upstream job id: Generic-DPDK-Compile-Meson#387609 Test environment and result as below: +----------------------------------------+--------------------+ | Environment | dpdk_meson_compile | +========================================+====================+ | RHEL9 (ARM) | PASS | +----------------------------------------+--------------------+ | Debian 12 with MUSDK | PASS | +----------------------------------------+--------------------+ | Fedora 40 (ARM) | PASS | +----------------------------------------+--------------------+ | Ubuntu 20.04 ARM GCC Cross Compile | PASS | +----------------------------------------+--------------------+ | Ubuntu 20.04 (ARM) | PASS | +----------------------------------------+--------------------+ | Fedora 40 (ARM Clang) | PASS | +----------------------------------------+--------------------+ | Ubuntu 20.04 ARM SVE | PASS | +----------------------------------------+--------------------+ | Ubuntu 24.04 (ARM) | PASS | +----------------------------------------+--------------------+ | Fedora 41 (ARM) | PASS | +----------------------------------------+--------------------+ | Ubuntu 22.04 (ARM) | PASS | +----------------------------------------+--------------------+ | Fedora 41 (ARM Clang) | PASS | +----------------------------------------+--------------------+ | CentOS Stream 9 (ARM) | PASS | +----------------------------------------+--------------------+ | Ubuntu 20.04 ARM Clang Cross Compile | PASS | +----------------------------------------+--------------------+ | Debian 12 (arm) | PASS | +----------------------------------------+--------------------+ | Ubuntu 20.04 aarch32 GCC Cross Compile | PASS | +----------------------------------------+--------------------+ | CentOS Stream 10 (ARM) | PASS | +----------------------------------------+--------------------+ RHEL9 (ARM) Kernel: Depends on container host Compiler: gcc 11.5.0 20240719 (Red Hat 11.5.0-2) Debian 12 with MUSDK Kernel: Depends on container host Compiler: gcc (Debian 12.2.0-14) 12.2.0 Fedora 40 (ARM) Kernel: Depends on container host Compiler: gcc 14.2.1 20240912 (Red Hat 14.2.1-3) Ubuntu 20.04 ARM GCC Cross Compile Kernel: Depends on container host Compiler: aarch64-linux-gnu-gcc (Ubuntu 9.4.0-1ubuntu1~20.04.2) 9.4.0 Ubuntu 20.04 (ARM) Kernel: Depends on container host Compiler: gcc (Ubuntu 9.4.0-1ubuntu1~20.04.2) 9.4.0 Fedora 40 (ARM Clang) Kernel: Depends on container host Compiler: clang 18.1.8 (Fedora 18.1.8-1.fc40) Ubuntu 20.04 ARM SVE Kernel: Depends on container host Compiler: gcc (Ubuntu 10.5.0-1ubuntu1~20.04) 10.5.0 Ubuntu 24.04 (ARM) Kernel: Depends on container host Compiler: gcc (Ubuntu 13.3.0-6ubuntu2~24.04) 13.3.0 Fedora 41 (ARM) Kernel: Depends on container host Compiler: gcc 14.2.1 20240912 (Red Hat 14.2.1-3) Ubuntu 22.04 (ARM) Kernel: Depends on container host Compiler: gcc (Ubuntu 11.4.0-1ubuntu1~22.04) 11.4.0 Fedora 41 (ARM Clang) Kernel: Depends on container host Compiler: clang 19.1.5 (Fedora 19.1.5-1.fc41) CentOS Stream 9 (ARM) Kernel: Depends on container host Compiler: gcc 11.5.0 20240719 (Red Hat 11.5.0-2) Ubuntu 20.04 ARM Clang Cross Compile Kernel: Depends on container host Compiler: clang 10.0.0-4ubuntu1 Debian 12 (arm) Kernel: Depends on container host Compiler: gcc (Debian 12.2.0-14) 12.2.0 Ubuntu 20.04 aarch32 GCC Cross Compile Kernel: Depends on container host Compiler: gcc 9.4.0 CentOS Stream 10 (ARM) Kernel: Depends on container host Compiler: gcc 14.2.1 20241104 (Red Hat 14.2.1-6) To view detailed results, visit: https://lab.dpdk.org/results/dashboard/patchsets/33163/ UNH-IOL DPDK Community Lab To manage your email subscriptions, visit: https://lab.dpdk.org/results/dashboard/preferences/subscriptions/