From mboxrd@z Thu Jan 1 00:00:00 1970 Return-Path: Received: from mails.dpdk.org (mails.dpdk.org [217.70.189.124]) by inbox.dpdk.org (Postfix) with ESMTP id 8CF4B4673C for ; Tue, 13 May 2025 22:25:39 +0200 (CEST) Received: from mails.dpdk.org (localhost [127.0.0.1]) by mails.dpdk.org (Postfix) with ESMTP id 6A6294025D; Tue, 13 May 2025 22:25:39 +0200 (CEST) Received: from mail-vk1-f226.google.com (mail-vk1-f226.google.com [209.85.221.226]) by mails.dpdk.org (Postfix) with ESMTP id E65BF40041 for ; Tue, 13 May 2025 22:25:37 +0200 (CEST) Received: by mail-vk1-f226.google.com with SMTP id 71dfb90a1353d-52c82c67992so177378e0c.0 for ; Tue, 13 May 2025 13:25:37 -0700 (PDT) DKIM-Signature: v=1; a=rsa-sha256; c=relaxed/relaxed; d=iol.unh.edu; s=unh-iol; t=1747167937; x=1747772737; darn=dpdk.org; h=references:in-reply-to:cc:to:from:subject:message-id:date:from:to :cc:subject:date:message-id:reply-to; bh=FeYH5+cX6wXEPj8KTiWf9tkzkhAAoH42xYVMTVjDxp0=; b=MdWsSNMbqUwvbh7OjLYfn5t0/qUphhl+UssxEnr9dAWvMN+zT6m2Ouh4VcepAfLdlr m4IN8n7fSE6jzpmCsSM1fOlhbwoTpCkagOeH1sNJaa66gRvdFWOXSqY6nUh7B1yvvGlH bdq55VPqv4O2F1/N3I/EgNA9dfJYlaX8sDkoI= X-Google-DKIM-Signature: v=1; a=rsa-sha256; c=relaxed/relaxed; d=1e100.net; s=20230601; t=1747167937; x=1747772737; h=references:in-reply-to:cc:to:from:subject:message-id:date :x-gm-message-state:from:to:cc:subject:date:message-id:reply-to; bh=FeYH5+cX6wXEPj8KTiWf9tkzkhAAoH42xYVMTVjDxp0=; b=i09ESGJPyObSW0IdN/pcwz2VGGbpkH3TILjMekVHFpOyDs56P0BzYws1/xsZYEtues 568MxLgP/keEiRe5007kaIVpjGbQYAo1MSQXaBZnJ/vUBtK8G+euDHW5Exw8hsgR5LvE kMeSgx/i73WaEX77P0B+n5+yRrp9wfYy84KOuxjsVMNIZo2ArCq2UpBppPN2BB+CCfln t3SHjm4RGJL/W6NU8Z+dIB8RZqJ4XMuiayAmzJSk6rWJKBI431+VOmGnu+4qEkwVQy2H CiohbiVoGuue3rZFExGVWaiJbnN6fue3CqARDGZ6kYfB0yaEd8d1PQPBiIjIHLTOgB5e 1aRw== X-Gm-Message-State: AOJu0YzoJouQybjXSQhMYG8KItU1wstvdnE4nug5Lfq3oJyh82SyiajX VgmQ4X0BlY4Uf256p4lx6Seut7Z05wxXwtDOevHw09Kp1zLiHcW9CnOtLYKVy4BWPzQbFrrPa/K PLQjB7wl+6XnfAGLss56f4yIbpjMUlFrApdfOi6m1 X-Gm-Gg: ASbGncvxrvuM0tDPcc5D+quuNxjAw6HNa+mAQteZ8dwREZ+XOTQ0jn48OuF0NEpa7a/ /5Gv9TcSI846An5oxl7tgcsqqT0FwIpXiFab2IuR3kva3NNVkj/xh4LlwcRBIlXMNGP+badaFHD s1jo3Mq9fU/JRl/CsrSREx1ZxPIE1eX0vZ91jV55gCFUrp2gFfMg0dyjOiku2m125UwyTmplDF7 oHdxAOAdkLPfZ+RRM8PliF+gZRwRYvwFgMFQsvAJ284zN1NtUUcx0eme5GWnmVK+/mzMDEopmxq f/mUNDDhfc7G5AXcrJglI1amSM96hQBGZ8oQY3yRufm4QF4S1n6wfqB/d0c= X-Google-Smtp-Source: AGHT+IHWqiMlliwpd5Hg0eJ2Xsv4rVrt2yWVbeBPn34ic96QfOLBB3rHbWQ/WMZ5yU+O6vX8gJx/Q1fl8VnP X-Received: by 2002:ac5:ce10:0:b0:527:b804:ff78 with SMTP id 71dfb90a1353d-52c88a28028mr3618161e0c.1.1747167937204; Tue, 13 May 2025 13:25:37 -0700 (PDT) Received: from postal.iol.unh.edu (postal.iol.unh.edu. [132.177.123.84]) by smtp-relay.gmail.com with ESMTPS id 71dfb90a1353d-52c536ff1e4sm218746e0c.1.2025.05.13.13.25.37 (version=TLS1_2 cipher=ECDHE-ECDSA-AES128-GCM-SHA256 bits=128/128); Tue, 13 May 2025 13:25:37 -0700 (PDT) X-Relaying-Domain: iol.unh.edu Date: Tue, 13 May 2025 13:25:37 -0700 (PDT) Message-ID: <6823aac1.050a0220.3ab11.b0baSMTPIN_ADDED_MISSING@mx.google.com> Received: from [172.17.0.2] (unknown [172.18.0.74]) by postal.iol.unh.edu (Postfix) with ESMTP id 97E266052471; Tue, 13 May 2025 16:25:36 -0400 (EDT) Subject: |SUCCESS| pw153429-153431 [PATCH] [v4,3/3] doc: provide examples of From: dpdklab@iol.unh.edu To: Test Report Cc: dpdk-test-reports@iol.unh.edu In-Reply-To: <20250513161710.410000-4-bruce.richardson@intel.com> References: <20250513161710.410000-4-bruce.richardson@intel.com> Content-Type: text/plain X-BeenThere: test-report@dpdk.org X-Mailman-Version: 2.1.29 Precedence: list List-Id: automatic DPDK test reports List-Unsubscribe: , List-Archive: List-Post: List-Help: List-Subscribe: , Errors-To: test-report-bounces@dpdk.org Test-Label: iol-compile-arm64-testing Test-Status: SUCCESS http://dpdk.org/patch/153431 _Testing PASS_ Submitter: Bruce Richardson Date: Tuesday, May 13 2025 16:17:10 DPDK git baseline: Repo:dpdk Branch: master CommitID:2bf836de46d36a81f9321f947fbfce52b3180782 153429-153431 --> testing pass Upstream job id: Generic-DPDK-Compile-Meson#387578 Test environment and result as below: +----------------------------------------+--------------------+ | Environment | dpdk_meson_compile | +========================================+====================+ | RHEL9 (ARM) | PASS | +----------------------------------------+--------------------+ | Ubuntu 20.04 ARM GCC Cross Compile | PASS | +----------------------------------------+--------------------+ | Fedora 40 (ARM) | PASS | +----------------------------------------+--------------------+ | Ubuntu 20.04 ARM SVE | PASS | +----------------------------------------+--------------------+ | Fedora 40 (ARM Clang) | PASS | +----------------------------------------+--------------------+ | Fedora 41 (ARM) | PASS | +----------------------------------------+--------------------+ | Fedora 41 (ARM Clang) | PASS | +----------------------------------------+--------------------+ | Ubuntu 20.04 (ARM) | PASS | +----------------------------------------+--------------------+ | Ubuntu 22.04 (ARM) | PASS | +----------------------------------------+--------------------+ | Ubuntu 24.04 (ARM) | PASS | +----------------------------------------+--------------------+ | CentOS Stream 9 (ARM) | PASS | +----------------------------------------+--------------------+ | Ubuntu 20.04 ARM Clang Cross Compile | PASS | +----------------------------------------+--------------------+ | Ubuntu 20.04 aarch32 GCC Cross Compile | PASS | +----------------------------------------+--------------------+ | CentOS Stream 10 (ARM) | PASS | +----------------------------------------+--------------------+ | Debian 12 (arm) | PASS | +----------------------------------------+--------------------+ | Debian 12 with MUSDK | PASS | +----------------------------------------+--------------------+ RHEL9 (ARM) Kernel: Depends on container host Compiler: gcc 11.5.0 20240719 (Red Hat 11.5.0-2) Ubuntu 20.04 ARM GCC Cross Compile Kernel: Depends on container host Compiler: aarch64-linux-gnu-gcc (Ubuntu 9.4.0-1ubuntu1~20.04.2) 9.4.0 Fedora 40 (ARM) Kernel: Depends on container host Compiler: gcc 14.2.1 20240912 (Red Hat 14.2.1-3) Ubuntu 20.04 ARM SVE Kernel: Depends on container host Compiler: gcc (Ubuntu 10.5.0-1ubuntu1~20.04) 10.5.0 Fedora 40 (ARM Clang) Kernel: Depends on container host Compiler: clang 18.1.8 (Fedora 18.1.8-1.fc40) Fedora 41 (ARM) Kernel: Depends on container host Compiler: gcc 14.2.1 20240912 (Red Hat 14.2.1-3) Fedora 41 (ARM Clang) Kernel: Depends on container host Compiler: clang 19.1.5 (Fedora 19.1.5-1.fc41) Ubuntu 20.04 (ARM) Kernel: Depends on container host Compiler: gcc (Ubuntu 9.4.0-1ubuntu1~20.04.2) 9.4.0 Ubuntu 22.04 (ARM) Kernel: Depends on container host Compiler: gcc (Ubuntu 11.4.0-1ubuntu1~22.04) 11.4.0 Ubuntu 24.04 (ARM) Kernel: Depends on container host Compiler: gcc (Ubuntu 13.3.0-6ubuntu2~24.04) 13.3.0 CentOS Stream 9 (ARM) Kernel: Depends on container host Compiler: gcc 11.5.0 20240719 (Red Hat 11.5.0-2) Ubuntu 20.04 ARM Clang Cross Compile Kernel: Depends on container host Compiler: clang 10.0.0-4ubuntu1 Ubuntu 20.04 aarch32 GCC Cross Compile Kernel: Depends on container host Compiler: gcc 9.4.0 CentOS Stream 10 (ARM) Kernel: Depends on container host Compiler: gcc 14.2.1 20241104 (Red Hat 14.2.1-6) Debian 12 (arm) Kernel: Depends on container host Compiler: gcc (Debian 12.2.0-14) 12.2.0 Debian 12 with MUSDK Kernel: Depends on container host Compiler: gcc (Debian 12.2.0-14) 12.2.0 To view detailed results, visit: https://lab.dpdk.org/results/dashboard/patchsets/33164/ UNH-IOL DPDK Community Lab To manage your email subscriptions, visit: https://lab.dpdk.org/results/dashboard/preferences/subscriptions/