From mboxrd@z Thu Jan 1 00:00:00 1970 Return-Path: Received: from mails.dpdk.org (mails.dpdk.org [217.70.189.124]) by inbox.dpdk.org (Postfix) with ESMTP id 6CEB24673D for ; Wed, 14 May 2025 03:01:41 +0200 (CEST) Received: from mails.dpdk.org (localhost [127.0.0.1]) by mails.dpdk.org (Postfix) with ESMTP id 3FAAF4025D; Wed, 14 May 2025 03:01:41 +0200 (CEST) Received: from mail-yb1-f228.google.com (mail-yb1-f228.google.com [209.85.219.228]) by mails.dpdk.org (Postfix) with ESMTP id 1D50C40041 for ; Wed, 14 May 2025 03:01:40 +0200 (CEST) Received: by mail-yb1-f228.google.com with SMTP id 3f1490d57ef6-e694601f624so4714788276.1 for ; Tue, 13 May 2025 18:01:40 -0700 (PDT) DKIM-Signature: v=1; a=rsa-sha256; c=relaxed/relaxed; d=iol.unh.edu; s=unh-iol; t=1747184499; x=1747789299; darn=dpdk.org; h=cc:to:from:subject:message-id:date:from:to:cc:subject:date :message-id:reply-to; bh=fyjT6DtqtTQN8WyQQgqADkKB6erY066Ecq36Hhyhl9g=; b=DDTO3dP/Dtl0HKetiXEa7uT74Vk70D48QDSmqyjm6sC5Cha/0pfjx/3JhlNgiSKvQc QvXnNRU49mGVNNBCawQMWj/nyqIG+73TrXP6cu0vLuit1mdsPFNqkS3GqQivQV0aTDLw lEYhesCClWxIcQEDkc0xehpeb2xN+OerQtqYw= X-Google-DKIM-Signature: v=1; a=rsa-sha256; c=relaxed/relaxed; d=1e100.net; s=20230601; t=1747184499; x=1747789299; h=cc:to:from:subject:message-id:date:x-gm-message-state:from:to:cc :subject:date:message-id:reply-to; bh=fyjT6DtqtTQN8WyQQgqADkKB6erY066Ecq36Hhyhl9g=; b=lZRGjT2EXXGrH8w7ffDZBJLGo29tmMstt6nol14JFLkoFqy1JjjeX06x/fnzyuRKkd 3dLfvI/wyq2+OL+4axfVfAXIGttXS7wmIuiUQuhzW8ZOgJq7eOTm5q33Gmn5VMT5ZnkV Mb5I7ikDROv4Ulj0PcqzXfX5rS7Odv5Q6pzYrhkNws1J7ExgAJ2AWWCu2pcLTeukcBlU 8gTeWkO17eIYbmwyLqSl3gM4eZa4WuvrmZQMvwJK/oeY/fplrsAshkjh2LWAF/sp+Neb vpMF+UdL9Shx46RSNzwvE+Gvc4poV9a1zf6ACwrq+tv0g8pqaLcfJnIMwjdjNPZ1fuya eSeA== X-Gm-Message-State: AOJu0YyskrAB7lXaU+OgSg7LuzuCWUv3GHntqwZOL+gcYmIvzBzYXm+D hSJOD2M5wP2zC/xqorqbRWCWQUvl5yPvayg0sk3BqyMMG1d3QDBymhlWtW/uKbsRv6oDqc29xfq NcGIx7xGAVi81One6lydsQzeXG3MRure69OQ4ln8/ X-Gm-Gg: ASbGnctyUk5jNpCezpd10LpveuHptzus20ZsHY9Uvx/GbmhkIgRDep/1ki5cxmg0syW FvIVp8bJD8LQrCsyypK393yxmD0GpUE3inwPj9iKDeH9gfBlEw0cKo1muERoPCJHaOw/jGGckwW c1hGamHwYj+08ebkwCtV4tD1jAoIrSCQ/mCdIWHkfDpQiULJWs7cRQPW3m5AED93/O0jXn2v/5q XUIu2VcbUBDYecQLBe8aS20Zgf9xjErum/XitOo69wo6rXE+TIH5Wcf5cdJpwHAgNO2cBkOyHFz dm4uNvLuQbXnTLlAlRoGavNEy0GlaZS5OtD+l2G7D2fMJKvYtGUK+LSYMMA= X-Google-Smtp-Source: AGHT+IH4dShnu/ID+JRBkneiAFSMX1+mnn9ZAQSoumNtW+3B7mGNFUe3Qc1SBNQt/3HatdaXAw+gh198R29t X-Received: by 2002:a05:6902:1b81:b0:e7a:b544:d43f with SMTP id 3f1490d57ef6-e7b3d50a298mr1906973276.24.1747184499236; Tue, 13 May 2025 18:01:39 -0700 (PDT) Received: from postal.iol.unh.edu (postal.iol.unh.edu. [132.177.123.84]) by smtp-relay.gmail.com with ESMTPS id 3f1490d57ef6-e78fd4f2eabsm271038276.13.2025.05.13.18.01.39 (version=TLS1_2 cipher=ECDHE-ECDSA-AES128-GCM-SHA256 bits=128/128); Tue, 13 May 2025 18:01:39 -0700 (PDT) X-Relaying-Domain: iol.unh.edu Date: Tue, 13 May 2025 18:01:39 -0700 (PDT) Message-ID: <6823eb73.050a0220.3504e8.d5b2SMTPIN_ADDED_MISSING@mx.google.com> Received: from [172.17.0.3] (unknown [172.18.0.74]) by postal.iol.unh.edu (Postfix) with ESMTP id B41C46052471; Tue, 13 May 2025 21:01:38 -0400 (EDT) Subject: |SUCCESS| [GIT MASTER] 2bf836de46d36a81f9321f947fbfce52b3180782 From: dpdklab@iol.unh.edu To: Test Report Cc: dpdk-test-reports@iol.unh.edu Content-Type: text/plain X-BeenThere: test-report@dpdk.org X-Mailman-Version: 2.1.29 Precedence: list List-Id: automatic DPDK test reports List-Unsubscribe: , List-Archive: List-Post: List-Help: List-Subscribe: , Errors-To: test-report-bounces@dpdk.org _Testing PASS_ Branch: dpdk 2bf836de46d36a81f9321f947fbfce52b3180782 --> testing pass Upstream job id: Template-DTS-Pipeline#225616 Test environment and result as below: +--------------------+----------------------+----------------------+ | Environment | dpdk_fips_validation | compressdev_zlib_pmd | +====================+======================+======================+ | Ubuntu 20.04 | PASS | SKIPPED | +--------------------+----------------------+----------------------+ | Ubuntu 22.04 (ARM) | SKIPPED | PASS | +--------------------+----------------------+----------------------+ | Ubuntu 22.04 | SKIPPED | PASS | +--------------------+----------------------+----------------------+ Ubuntu 20.04 Kernel: Depends on container host Compiler: gcc (Ubuntu 9.4.0-1ubuntu1~20.04.2) 9.4.0 Ubuntu 22.04 (ARM) Kernel: 5.15.0-97-generic Compiler: gcc gcc (Ubuntu 11.4.0-1ubuntu1~22.04) 11.4.0 Ubuntu 22.04 Kernel: 5.15.0-100-generic Compiler: gcc gcc (Ubuntu 11.4.0-1ubuntu1~22.04) 11.4.0 To view detailed results, visit: https://lab.dpdk.org/results/dashboard/tarballs/33518/ UNH-IOL DPDK Community Lab To manage your email subscriptions, visit: https://lab.dpdk.org/results/dashboard/preferences/subscriptions/