From mboxrd@z Thu Jan 1 00:00:00 1970 Return-Path: Received: from mails.dpdk.org (mails.dpdk.org [217.70.189.124]) by inbox.dpdk.org (Postfix) with ESMTP id A58A54673D for ; Wed, 14 May 2025 03:14:23 +0200 (CEST) Received: from mails.dpdk.org (localhost [127.0.0.1]) by mails.dpdk.org (Postfix) with ESMTP id A29624025D; Wed, 14 May 2025 03:14:23 +0200 (CEST) Received: from mail-qv1-f100.google.com (mail-qv1-f100.google.com [209.85.219.100]) by mails.dpdk.org (Postfix) with ESMTP id 808F040041 for ; Wed, 14 May 2025 03:14:22 +0200 (CEST) Received: by mail-qv1-f100.google.com with SMTP id 6a1803df08f44-6f53d271b7cso54937886d6.2 for ; Tue, 13 May 2025 18:14:22 -0700 (PDT) DKIM-Signature: v=1; a=rsa-sha256; c=relaxed/relaxed; d=iol.unh.edu; s=unh-iol; t=1747185262; x=1747790062; darn=dpdk.org; h=cc:to:from:subject:message-id:date:from:to:cc:subject:date :message-id:reply-to; bh=bBMOiqQlo4DtUpN0cAffaXVaLz2CuTzr15qdL9UNdpw=; b=cX1kN06+zWGTj/3wXKn1D7wp5Ef3NHHRbXrhvUflVcGn3U+q3wJq8BlWXIY+g53MOT 7wA2nH4eZoSF01Rc8Ywchinii+vhRIzvkZWMTXAQrDbL714yRBnfwpIBDZtG33iQH2io /JcsjP9bfJ5pQexZFXwXQlkisB4Lq2FtH2QEA= X-Google-DKIM-Signature: v=1; a=rsa-sha256; c=relaxed/relaxed; d=1e100.net; s=20230601; t=1747185262; x=1747790062; h=cc:to:from:subject:message-id:date:x-gm-message-state:from:to:cc :subject:date:message-id:reply-to; bh=bBMOiqQlo4DtUpN0cAffaXVaLz2CuTzr15qdL9UNdpw=; b=obRp5h+pwyX4FNrjNia7fNtRs/j/a0TojfdwfMSyRNcGfIEpQwerNrYH+QSXu3YIWZ gTHDW3liUAf8jH78CtZHYLprJ5VVM3FxNOASVMW+MIpjsqVNHXo29QlrWiaibQ0lMjz/ 3nFSkfC13bLPup8NrFKfCpMBbgLqeCSX2PfntaTQvu1Y56dvAX5VLYPw2mszNjmRKS2B dmJppLLRZiFE4XTSgWbteXaGOvQAWH3odKsrWM4O7+jU8sz4CQldKWEdoqJrYyH9nK75 lId5KzQLxcyd0DdCiQC3q6GJbDLuCf0d7T+1dbRIID0kIM6aj0MXLGGspi7kaAobrohJ u08g== X-Gm-Message-State: AOJu0YwQFmQZW5+2RvdEwb3IQflNVYBWEKYkp0lVSfmNQwlr68FG70nn X3F1SYndlA/LqOJomDpMydMXpbCMkjLbNxVRj4F16hwss0E41NCeFhXIFLayv5EO57cBUS1QG+d phtcYiuLEHT2paKuQV1SSWeQxYAYUPUKqat11s75QTPtOEvTKe6YyWOWr X-Gm-Gg: ASbGnctCfczc5q85XJHAU1UqFARjLNvWTrcWvQ+mXmuFTjvK9xRvItVFnK230z+7p3X MbXqf8aat/ANfL1gAKe+dsBzm03P9vmvtywkqmYatBbP1Q/Zd1OvRMaK9CiuSke7Lhzijln5dke o3Xpm6INdc5JGDFTF0/oMtL0TfqpkUiqa1GgnWfs171qIqkip2gr6TmwlZYotx/AZeaQPxOfZk4 ANN7VMAX1fITz2tqOWaGIrnScgjFSTQdB+7xlHawlM9O8odXP85Oz2FLd3ozz3JHpAb/CoQXxJc ID6VLh7AlXVbhCDtEP/iLdEtfU4D11zYIol+ X-Google-Smtp-Source: AGHT+IF9BVvdR6HubeZVTGqGf9fBy65R35XuQyp5Wg91Q6Q3zIEbXlq0eRofnR78McvAx9jmZwbYgDsGPGzh X-Received: by 2002:a05:6214:226f:b0:6f5:3f0a:7d22 with SMTP id 6a1803df08f44-6f896ebdb87mr26181266d6.37.1747185261932; Tue, 13 May 2025 18:14:21 -0700 (PDT) Received: from postal.iol.unh.edu (postal.iol.unh.edu. [2606:4100:3880:1234::84]) by smtp-relay.gmail.com with ESMTPS id 6a1803df08f44-6f6e3a4854bsm6418256d6.48.2025.05.13.18.14.21 (version=TLS1_2 cipher=ECDHE-ECDSA-AES128-GCM-SHA256 bits=128/128); Tue, 13 May 2025 18:14:21 -0700 (PDT) X-Relaying-Domain: iol.unh.edu Date: Tue, 13 May 2025 18:14:21 -0700 (PDT) Message-ID: <6823ee6d.050a0220.b8216.2246SMTPIN_ADDED_MISSING@mx.google.com> Received: from [172.21.0.5] (unknown [172.18.0.240]) by postal.iol.unh.edu (Postfix) with ESMTP id A34C96052471; Tue, 13 May 2025 21:14:21 -0400 (EDT) Subject: |SUCCESS| [GIT MASTER] 2bf836de46d36a81f9321f947fbfce52b3180782 From: dpdklab@iol.unh.edu To: Test Report Cc: dpdk-test-reports@iol.unh.edu Content-Type: text/plain X-BeenThere: test-report@dpdk.org X-Mailman-Version: 2.1.29 Precedence: list List-Id: automatic DPDK test reports List-Unsubscribe: , List-Archive: List-Post: List-Help: List-Subscribe: , Errors-To: test-report-bounces@dpdk.org _Testing PASS_ Branch: dpdk 2bf836de46d36a81f9321f947fbfce52b3180782 --> testing pass Upstream job id: Generic-DPDK-Compile-ABI#126233 Test environment and result as below: +-------------------+----------+ | Environment | abi_test | +===================+==========+ | CentOS Stream 9 | PASS | +-------------------+----------+ | CentOS Stream 10 | PASS | +-------------------+----------+ | Ubuntu 24.04 | PASS | +-------------------+----------+ | Arch Linux | PASS | +-------------------+----------+ | Fedora 40 | PASS | +-------------------+----------+ | Fedora 41 | PASS | +-------------------+----------+ | Fedora 41 (Clang) | PASS | +-------------------+----------+ | Fedora 40 (Clang) | PASS | +-------------------+----------+ | RHEL9 | PASS | +-------------------+----------+ | openSUSE Leap 15 | PASS | +-------------------+----------+ | Ubuntu 22.04 | PASS | +-------------------+----------+ | RHEL8 | PASS | +-------------------+----------+ | Debian 12 | PASS | +-------------------+----------+ CentOS Stream 9 Kernel: Depends on container host Compiler: gcc 11.5.0 20240719 (Red Hat 11.5.0-2) CentOS Stream 10 Kernel: Depends on container host Compiler: gcc 14.2.1 20241104 (Red Hat 14.2.1-6) Ubuntu 24.04 Kernel: Depends on container host Compiler: gcc (Ubuntu 13.3.0-6ubuntu2~24.04) 13.3.0 Arch Linux Kernel: Depends on container host Compiler: gcc 14.2.1 20240910 Fedora 40 Kernel: Depends on container host Compiler: gcc 14.2.1 20240912 (Red Hat 14.2.1-3) Fedora 41 Kernel: Depends on container host Compiler: gcc 14.2.1 20240912 (Red Hat 14.2.1-3) Fedora 41 (Clang) Kernel: Depends on container host Compiler: clang 19.1.5 (Fedora 19.1.5-1.fc41) Fedora 40 (Clang) Kernel: Depends on container host Compiler: clang 18.1.8 (Fedora 18.1.8-1.fc40) RHEL9 Kernel: Depends on container host Compiler: gcc 11.5.0 20240719 (Red Hat 11.5.0-2) openSUSE Leap 15 Kernel: Depends on container host Compiler: gcc (SUSE Linux) 7.5.0 Ubuntu 22.04 Kernel: Depends on container host Compiler: gcc (Ubuntu 11.4.0-1ubuntu1~22.04) 11.4.0 RHEL8 Kernel: Depends on container host Compiler: gcc 8.5.0 20210514 (Red Hat 8.5.0-22) Debian 12 Kernel: Depends on container host Compiler: gcc (Debian 12.2.0-14) 12.2.0 To view detailed results, visit: https://lab.dpdk.org/results/dashboard/tarballs/33518/ UNH-IOL DPDK Community Lab To manage your email subscriptions, visit: https://lab.dpdk.org/results/dashboard/preferences/subscriptions/