From mboxrd@z Thu Jan 1 00:00:00 1970 Return-Path: Received: from mails.dpdk.org (mails.dpdk.org [217.70.189.124]) by inbox.dpdk.org (Postfix) with ESMTP id A927C4673D for ; Wed, 14 May 2025 03:27:52 +0200 (CEST) Received: from mails.dpdk.org (localhost [127.0.0.1]) by mails.dpdk.org (Postfix) with ESMTP id 3F2734025D; Wed, 14 May 2025 03:27:52 +0200 (CEST) Received: from mail-io1-f98.google.com (mail-io1-f98.google.com [209.85.166.98]) by mails.dpdk.org (Postfix) with ESMTP id AEC5F40041 for ; Wed, 14 May 2025 03:27:50 +0200 (CEST) Received: by mail-io1-f98.google.com with SMTP id ca18e2360f4ac-85e46f5c50fso615609539f.3 for ; Tue, 13 May 2025 18:27:50 -0700 (PDT) DKIM-Signature: v=1; a=rsa-sha256; c=relaxed/relaxed; d=iol.unh.edu; s=unh-iol; t=1747186070; x=1747790870; darn=dpdk.org; h=cc:to:from:subject:message-id:date:from:to:cc:subject:date :message-id:reply-to; bh=RN2OnGPrHJfa+bS3+tTqV6P62sqIGJ/SsefaFWQIU/0=; b=N4VKRz+T8ygav20knLbEHbgMvSSHvK5ZOVpYI/hGLVcSXxCh6JLLnOABe1yoMdGC7J 0b9xwTyr91HnY8Sc67MNCzv5aViAQUSuQfDYL/JGHLQr9tsUcpl8ZHnjsTAgSiIHxYrk 2Jrc8h3D5Ba4H1MiwkvFLugrptTGMkWQDZHoM= X-Google-DKIM-Signature: v=1; a=rsa-sha256; c=relaxed/relaxed; d=1e100.net; s=20230601; t=1747186070; x=1747790870; h=cc:to:from:subject:message-id:date:x-gm-message-state:from:to:cc :subject:date:message-id:reply-to; bh=RN2OnGPrHJfa+bS3+tTqV6P62sqIGJ/SsefaFWQIU/0=; b=oaTRHCn2xZklFlMIdk9Mtd61zyAJONRiXKITbxFqlDnnTsCuu0GfDhGjz+eVtjatem oqlft5BiJf4o8RZSWUqFLLHsszNd0K7P/LwYH6ORLUrkGH1miefP8y4AH5Z5BPu9dFqs 65miCRKYD9uL4VmkZ4ubTuS5kQeSpNs0RlEkJs0RR1q0hK9EsS6Kbsclr2NcaA58s8P2 d0FVX8qGdHHeBT1SW+DCT2FGEQA8j8+IywbL4i0jao4yJmb6smnCjjEEB7+LZx6a6s99 g1+2KR88DaN1QXuwwJOBArFcOsV4Yb5lyMtQaT4vMbyd+hKJOB2epxi2tOkYy0VMY/1T MB3A== X-Gm-Message-State: AOJu0Yy+OApqeLNgNhL9ry27NmoFSWRCEFL2/yNaYxXtZjWkoqbeNB1E 1CrGVNFRN8JuB91/srCV5t1aUXAV337THZ0BrvPfHjDh6/ybIuZeas17dQ6y8oOgJtPAkFyO7Uc pyoc4lFicyw/X1A65RYNQWrqZ8jXgd5vWxOhYAi8Y X-Gm-Gg: ASbGncuJQztQswkEGSIaXLinnJX2RrDhfad2ybBFimm+Z2fZGC8MnfMpWlMQ5lPOtuJ pZOhn1W3+S+Z50jggpepkDWtUxw5P0vE3anxL14tmVlnH5QtM4scMh0uwqTB1twmG05V2fQVMq9 ieDg5XRXyd9kEk0oCDCPBLQE8YM+HIbbqIX6lOxn3PmiSnJMiiZyQXCjpsFE0jeTgnytzigx16Z qgfsJgTqrjRjCU5R+IqEClVptjkHDVTG/iQnDSxNPtuUc4wEHK6R1zl13GI6rmTyw7pA0OsGuIA AepEXNXkDcKZIqeezcNwi0QqNBTspmEHp03hlM5nI7BghvRaFFA9hUuvt9o= X-Google-Smtp-Source: AGHT+IGN7KgvD4jhVLaLIfVtR7x7VcrK9Oai1kYVAucaLOlPtQR83fzfWQE/wgMjRatWboyIp+32njggGyNA X-Received: by 2002:a6b:dc03:0:b0:86a:93c:f5fb with SMTP id ca18e2360f4ac-86a093cf6admr121196539f.1.1747186069898; Tue, 13 May 2025 18:27:49 -0700 (PDT) Received: from postal.iol.unh.edu (postal.iol.unh.edu. [132.177.123.84]) by smtp-relay.gmail.com with ESMTPS id ca18e2360f4ac-8676362063dsm53297139f.2.2025.05.13.18.27.49 (version=TLS1_2 cipher=ECDHE-ECDSA-AES128-GCM-SHA256 bits=128/128); Tue, 13 May 2025 18:27:49 -0700 (PDT) X-Relaying-Domain: iol.unh.edu Date: Tue, 13 May 2025 18:27:49 -0700 (PDT) Message-ID: <6823f195.050a0220.3079b0.c4a4SMTPIN_ADDED_MISSING@mx.google.com> Received: from [172.21.0.5] (unknown [172.18.0.240]) by postal.iol.unh.edu (Postfix) with ESMTP id 5F4CB6052471; Tue, 13 May 2025 21:27:49 -0400 (EDT) Subject: |SUCCESS| [GIT MASTER] 2bf836de46d36a81f9321f947fbfce52b3180782 From: dpdklab@iol.unh.edu To: Test Report Cc: dpdk-test-reports@iol.unh.edu Content-Type: text/plain X-BeenThere: test-report@dpdk.org X-Mailman-Version: 2.1.29 Precedence: list List-Id: automatic DPDK test reports List-Unsubscribe: , List-Archive: List-Post: List-Help: List-Subscribe: , Errors-To: test-report-bounces@dpdk.org _Testing PASS_ Branch: dpdk 2bf836de46d36a81f9321f947fbfce52b3180782 --> testing pass Upstream job id: Generic-Unit-Test-DPDK#337506 Test environment and result as below: +-----------------------------+--------------+---------------------------+------------------------------+----------------+ | Environment | lpm_autotest | cryptodev_sw_zuc_autotest | cryptodev_sw_snow3g_autotest | dpdk_unit_test | +=============================+==============+===========================+==============================+================+ | Ubuntu 20.04 ARM SVE | PASS | SKIPPED | SKIPPED | SKIPPED | +-----------------------------+--------------+---------------------------+------------------------------+----------------+ | Debian 12 (arm) | SKIPPED | PASS | PASS | PASS | +-----------------------------+--------------+---------------------------+------------------------------+----------------+ | CentOS Stream 10 (ARM) | SKIPPED | SKIPPED | SKIPPED | PASS | +-----------------------------+--------------+---------------------------+------------------------------+----------------+ | CentOS Stream 9 (ARM) | SKIPPED | SKIPPED | SKIPPED | PASS | +-----------------------------+--------------+---------------------------+------------------------------+----------------+ | Fedora 40 (ARM) | SKIPPED | SKIPPED | SKIPPED | PASS | +-----------------------------+--------------+---------------------------+------------------------------+----------------+ | Fedora 41 (ARM Clang) | SKIPPED | SKIPPED | SKIPPED | PASS | +-----------------------------+--------------+---------------------------+------------------------------+----------------+ | Fedora 41 (ARM) | SKIPPED | SKIPPED | SKIPPED | PASS | +-----------------------------+--------------+---------------------------+------------------------------+----------------+ | Ubuntu 20.04 (ARM) | SKIPPED | SKIPPED | SKIPPED | PASS | +-----------------------------+--------------+---------------------------+------------------------------+----------------+ | Fedora 40 (ARM Clang) | SKIPPED | SKIPPED | SKIPPED | PASS | +-----------------------------+--------------+---------------------------+------------------------------+----------------+ | RHEL9 (ARM) | SKIPPED | SKIPPED | SKIPPED | PASS | +-----------------------------+--------------+---------------------------+------------------------------+----------------+ | Ubuntu 22.04 (ARM) | SKIPPED | SKIPPED | SKIPPED | PASS | +-----------------------------+--------------+---------------------------+------------------------------+----------------+ | Ubuntu 24.04 (ARM) | SKIPPED | SKIPPED | SKIPPED | PASS | +-----------------------------+--------------+---------------------------+------------------------------+----------------+ | 32-bit Ubuntu 22.04.4 (ARM) | SKIPPED | SKIPPED | SKIPPED | PASS | +-----------------------------+--------------+---------------------------+------------------------------+----------------+ Ubuntu 20.04 ARM SVE Kernel: Depends on container host Compiler: gcc (Ubuntu 10.5.0-1ubuntu1~20.04) 10.5.0 Debian 12 (arm) Kernel: Depends on container host Compiler: gcc (Debian 12.2.0-14) 12.2.0 CentOS Stream 10 (ARM) Kernel: Depends on container host Compiler: gcc 14.2.1 20241104 (Red Hat 14.2.1-6) CentOS Stream 9 (ARM) Kernel: Depends on container host Compiler: gcc 11.5.0 20240719 (Red Hat 11.5.0-2) Fedora 40 (ARM) Kernel: Depends on container host Compiler: gcc 14.2.1 20240912 (Red Hat 14.2.1-3) Fedora 41 (ARM Clang) Kernel: Depends on container host Compiler: clang 19.1.5 (Fedora 19.1.5-1.fc41) Fedora 41 (ARM) Kernel: Depends on container host Compiler: gcc 14.2.1 20240912 (Red Hat 14.2.1-3) Ubuntu 20.04 (ARM) Kernel: Depends on container host Compiler: gcc (Ubuntu 9.4.0-1ubuntu1~20.04.2) 9.4.0 Fedora 40 (ARM Clang) Kernel: Depends on container host Compiler: clang 18.1.8 (Fedora 18.1.8-1.fc40) RHEL9 (ARM) Kernel: Depends on container host Compiler: gcc 11.5.0 20240719 (Red Hat 11.5.0-2) Ubuntu 22.04 (ARM) Kernel: Depends on container host Compiler: gcc (Ubuntu 11.4.0-1ubuntu1~22.04) 11.4.0 Ubuntu 24.04 (ARM) Kernel: Depends on container host Compiler: gcc (Ubuntu 13.3.0-6ubuntu2~24.04) 13.3.0 32-bit Ubuntu 22.04.4 (ARM) Kernel: 5.15.83+ aarch64 Compiler: gcc (Ubuntu 11.4.0-1ubuntu1~22.04) 11.4.0 To view detailed results, visit: https://lab.dpdk.org/results/dashboard/tarballs/33518/ UNH-IOL DPDK Community Lab To manage your email subscriptions, visit: https://lab.dpdk.org/results/dashboard/preferences/subscriptions/