From mboxrd@z Thu Jan 1 00:00:00 1970 Return-Path: Received: from mails.dpdk.org (mails.dpdk.org [217.70.189.124]) by inbox.dpdk.org (Postfix) with ESMTP id 5E87E4673D for ; Wed, 14 May 2025 04:09:26 +0200 (CEST) Received: from mails.dpdk.org (localhost [127.0.0.1]) by mails.dpdk.org (Postfix) with ESMTP id 3B7B74025D; Wed, 14 May 2025 04:09:26 +0200 (CEST) Received: from mail-pf1-f227.google.com (mail-pf1-f227.google.com [209.85.210.227]) by mails.dpdk.org (Postfix) with ESMTP id 3AA4B40041 for ; Wed, 14 May 2025 04:09:25 +0200 (CEST) Received: by mail-pf1-f227.google.com with SMTP id d2e1a72fcca58-74264d1832eso3604763b3a.0 for ; Tue, 13 May 2025 19:09:25 -0700 (PDT) DKIM-Signature: v=1; a=rsa-sha256; c=relaxed/relaxed; d=iol.unh.edu; s=unh-iol; t=1747188564; x=1747793364; darn=dpdk.org; h=references:in-reply-to:cc:to:from:subject:message-id:date:from:to :cc:subject:date:message-id:reply-to; bh=xg/MN4RfkG9t5fxvJQFYen8hmM4vEilHkSWcH2ncksA=; b=ClyYWYXZkw3pRWmOYUkSUraar22yL/CSaKpoHD+eVDmmtMMWr6zUL4nPJNpYnZQ9g6 tKZOAXqPoKI6YAvrTKmUe1/0k7+tuCe31YXsr6j4MAudbfQAYQTGvivIrERuCfVAFa40 poQG01OTC9XO/8rz5+UKrRdRKW2Fg29d7AdFI= X-Google-DKIM-Signature: v=1; a=rsa-sha256; c=relaxed/relaxed; d=1e100.net; s=20230601; t=1747188564; x=1747793364; h=references:in-reply-to:cc:to:from:subject:message-id:date :x-gm-message-state:from:to:cc:subject:date:message-id:reply-to; bh=xg/MN4RfkG9t5fxvJQFYen8hmM4vEilHkSWcH2ncksA=; b=BPt6ZmJTEFVPM04CrGFMNfAS2+q/vVA5S/Cx4i3qIYYMg6AcexvbrNNmB2Doh8UNdl huREZ8WzmfsgvZp9XYlQtOJzG0RCW4Rhqfuxi2xEUJS8mhbN8uE5q0Q0dwYQ02ySmJdQ SJg2WFNhtQRtJAf1bRgeFIvNl8JNsLGaXTEdmV0ZGfN0LKYL83HBRc7Bvk3Is3Gy3tPx 2qhIc4grMXUx9qor5rncvmmksPIdvt5mtqbJpIw1lT1MJHAKeczhfTtDfKt3UfyewUwR fzb89EKU165avwS2+jTYFIGUWTyZeAIlFuVVq04NA5m9XufEHhvbcto9FNkf9FoQLcj4 I0/w== X-Gm-Message-State: AOJu0Yx/BNIs8I30Fbi/AAzihWv7T/cLDUjMQB8pjKznA4LO8gFrG/5W bF9ajdzRZxFVUKBtqzEj1DwDGkrxC2nZOZon5vilbEWoQ46bMiclMXxZlkhpqKVllmHhZ71kPVW KqeePa0wAwu9ekAOH42Inw0RXkSsirkRDH0l02n5niNHE7zZ5e3N1HVx+ X-Gm-Gg: ASbGncvo+vCxUBhZHT6lwTfvzwuTfyO9X1ZhUMyRxFr+farkT5xz8y+RjUmFSVOI9q1 MvESidKrL8gZcEiKZ6xukrnhmRXX8XArkfrD5vykaOfIRp+x2T23KiEjvuPSYY3NyDWtnlcrkf+ n56lJMtxvMVARv/N4K12BeDoYQeff9QIP7NNw0lsTeicmIHQUECxAelA4eJ9M2EUQIza5jDDl0D 6NciskjNETi4QUgBPHzDK/iNa+GvjbQXSw6MBk/V5DrRnxlsppCplwhwcG1/9LwRD4zMDrKl8DU e2+ICMYzH4/UqMm/HS02ZdT5bOES+gRJ3Wqj X-Google-Smtp-Source: AGHT+IGFcQzc1sRI+/CLRY7vYawJYrGZdchULJX8ZbUDKBNtD9vgMKzWQ1HAUqA+S/RaG8qhc3G2l4t1URB9 X-Received: by 2002:a05:6a00:1ca6:b0:736:520a:58f9 with SMTP id d2e1a72fcca58-74289337cfcmr2002386b3a.17.1747188563961; Tue, 13 May 2025 19:09:23 -0700 (PDT) Received: from postal.iol.unh.edu (postal.iol.unh.edu. [2606:4100:3880:1234::84]) by smtp-relay.gmail.com with ESMTPS id d2e1a72fcca58-7423770428csm572888b3a.4.2025.05.13.19.09.23 (version=TLS1_2 cipher=ECDHE-ECDSA-AES128-GCM-SHA256 bits=128/128); Tue, 13 May 2025 19:09:23 -0700 (PDT) X-Relaying-Domain: iol.unh.edu Date: Tue, 13 May 2025 19:09:23 -0700 (PDT) Message-ID: <6823fb53.050a0220.289985.e9edSMTPIN_ADDED_MISSING@mx.google.com> Received: from [172.17.0.3] (unknown [172.18.0.74]) by postal.iol.unh.edu (Postfix) with ESMTP id 23D8A6052471; Tue, 13 May 2025 22:09:23 -0400 (EDT) Subject: |SUCCESS| pw153433 [PATCH] net/gve: remove gve-specific PCI revision From: dpdklab@iol.unh.edu To: Test Report Cc: dpdk-test-reports@iol.unh.edu In-Reply-To: <20250513235308.2200865-1-joshwash@google.com> References: <20250513235308.2200865-1-joshwash@google.com> Content-Type: text/plain X-BeenThere: test-report@dpdk.org X-Mailman-Version: 2.1.29 Precedence: list List-Id: automatic DPDK test reports List-Unsubscribe: , List-Archive: List-Post: List-Help: List-Subscribe: , Errors-To: test-report-bounces@dpdk.org Test-Label: iol-unit-amd64-testing Test-Status: SUCCESS http://dpdk.org/patch/153433 _Testing PASS_ Submitter: Joshua Washington Date: Tuesday, May 13 2025 23:53:08 DPDK git baseline: Repo:dpdk Branch: master CommitID:ff05ee3e3f8fb4ce958a2ce6461e8141aea959c6 153433 --> testing pass Upstream job id: Generic-Unit-Test-DPDK#337536 Test environment and result as below: +---------------------+----------------+ | Environment | dpdk_unit_test | +=====================+================+ | CentOS Stream 10 | PASS | +---------------------+----------------+ | CentOS Stream 9 | PASS | +---------------------+----------------+ | Debian 12 | PASS | +---------------------+----------------+ | Fedora 40 | PASS | +---------------------+----------------+ | Fedora 41 | PASS | +---------------------+----------------+ | RHEL8 | PASS | +---------------------+----------------+ | RHEL9 | PASS | +---------------------+----------------+ | Fedora 40 (Clang) | PASS | +---------------------+----------------+ | Fedora 41 (Clang) | PASS | +---------------------+----------------+ | Ubuntu 24.04 | PASS | +---------------------+----------------+ | Ubuntu 20.04 | PASS | +---------------------+----------------+ | Ubuntu 22.04 | PASS | +---------------------+----------------+ | Windows Server 2022 | PASS | +---------------------+----------------+ CentOS Stream 10 Kernel: Depends on container host Compiler: gcc 14.2.1 20241104 (Red Hat 14.2.1-6) CentOS Stream 9 Kernel: Depends on container host Compiler: gcc 11.5.0 20240719 (Red Hat 11.5.0-2) Debian 12 Kernel: Depends on container host Compiler: gcc (Debian 12.2.0-14) 12.2.0 Fedora 40 Kernel: Depends on container host Compiler: gcc 14.2.1 20240912 (Red Hat 14.2.1-3) Fedora 41 Kernel: Depends on container host Compiler: gcc 14.2.1 20240912 (Red Hat 14.2.1-3) RHEL8 Kernel: Depends on container host Compiler: gcc 8.5.0 20210514 (Red Hat 8.5.0-22) RHEL9 Kernel: Depends on container host Compiler: gcc 11.5.0 20240719 (Red Hat 11.5.0-2) Fedora 40 (Clang) Kernel: Depends on container host Compiler: clang 18.1.8 (Fedora 18.1.8-1.fc40) Fedora 41 (Clang) Kernel: Depends on container host Compiler: clang 19.1.5 (Fedora 19.1.5-1.fc41) Ubuntu 24.04 Kernel: Depends on container host Compiler: gcc (Ubuntu 13.3.0-6ubuntu2~24.04) 13.3.0 Ubuntu 20.04 Kernel: Depends on container host Compiler: gcc (Ubuntu 9.4.0-1ubuntu1~20.04.2) 9.4.0 Ubuntu 22.04 Kernel: Depends on container host Compiler: gcc (Ubuntu 11.4.0-1ubuntu1~22.04) 11.4.0 Windows Server 2022 Kernel: 10.0.20348.2031 Compiler: clang 15.0.7, gcc 14.1.0 (MinGW), and MSVC VS 19.39.33521 To view detailed results, visit: https://lab.dpdk.org/results/dashboard/patchsets/33165/ UNH-IOL DPDK Community Lab To manage your email subscriptions, visit: https://lab.dpdk.org/results/dashboard/preferences/subscriptions/