From mboxrd@z Thu Jan  1 00:00:00 1970
Return-Path: <test-report-bounces@dpdk.org>
Received: from mails.dpdk.org (mails.dpdk.org [217.70.189.124])
	by inbox.dpdk.org (Postfix) with ESMTP id A1DB94673D
	for <public@inbox.dpdk.org>; Wed, 14 May 2025 04:20:37 +0200 (CEST)
Received: from mails.dpdk.org (localhost [127.0.0.1])
	by mails.dpdk.org (Postfix) with ESMTP id 815314025D;
	Wed, 14 May 2025 04:20:37 +0200 (CEST)
Received: from mail-qv1-f100.google.com (mail-qv1-f100.google.com
 [209.85.219.100])
 by mails.dpdk.org (Postfix) with ESMTP id B1FFD40041
 for <test-report@dpdk.org>; Wed, 14 May 2025 04:20:35 +0200 (CEST)
Received: by mail-qv1-f100.google.com with SMTP id
 6a1803df08f44-6f89980f659so1209416d6.3
 for <test-report@dpdk.org>; Tue, 13 May 2025 19:20:35 -0700 (PDT)
DKIM-Signature: v=1; a=rsa-sha256; c=relaxed/relaxed;
 d=iol.unh.edu; s=unh-iol; t=1747189235; x=1747794035; darn=dpdk.org;
 h=references:in-reply-to:cc:to:from:subject:message-id:date:from:to
 :cc:subject:date:message-id:reply-to;
 bh=U6yhgkDNBJndtVyAKHW0bgzAcZP6GzWlW0uzojJg1c0=;
 b=MWrdPuHp7V7uBzm76zJbmqgWkmH5loRcNPgGsIwKVptCPbr5N89ZNdPGD61ESU04lB
 HRt2diM+eMTLfVnEla4Q90Q75A8cD9TY495WenZRfAwMLYxjIePinDtnRGnTS1+gtVbU
 0j8LZzTl/Embksxi+QaWTM0i0MUJ+H8B/bGp0=
X-Google-DKIM-Signature: v=1; a=rsa-sha256; c=relaxed/relaxed;
 d=1e100.net; s=20230601; t=1747189235; x=1747794035;
 h=references:in-reply-to:cc:to:from:subject:message-id:date
 :x-gm-message-state:from:to:cc:subject:date:message-id:reply-to;
 bh=U6yhgkDNBJndtVyAKHW0bgzAcZP6GzWlW0uzojJg1c0=;
 b=gYId7M8J58CZszgxuxI2zaKs1Hr25mzD7r/aZnAgJU2MRgSzEvTEm5rIYLa0D6oXPd
 DQVclUjo5CjqrBzyl0phFoDIRhVLyUXWTWEj8hKyoN0jynkIleWnnlT9iZrwFPTklCAZ
 icRLrl7Uoypsh8zPZ5i/qPZ0kl8wBwv9ccIcn+QTcrSUYYhXcdus1Rd9/T0sGGnH8gMt
 scvx/DfVWm8G8zNnKu7GWsaLp9BRjmuL3+HsPr59bQmv+6isxmPBbpZXH8fvkCqme05S
 /zR/j+IZxuv+QXeC07qFs7EdDaSWTKqh1WVN1VQ3wzTldi5ivCAusMoqnMC3fAlf5kHL
 LBXQ==
X-Gm-Message-State: AOJu0Yx0fD74x5n5yEWbMHBhtfQSlyt/ZwyHHp8x5tifiQkVOCgrmMsg
 l6Oh9teE4GWz79A+E+XFH2t+MFdsMuGtUFEDr++MX18+OngVpIGBlGKmx+8/roAxx00cyTMT/91
 g9IkZOARZgHp7W8T9+bqZ+TPqK8mFy4o2F1PfGuTHYsgEd937KDzpb2dA
X-Gm-Gg: ASbGncs+td2S4vrvOaoWJlEtCvVf7UrdTr9xDyZnQRk21yAsimwik9njIlsUjn+nQnv
 dMcKJu9FG8Z5Qd7s6FkQgfmnkLYcUrMO7GjeHbxNQF76sglJyfuRyrxhog4c4pEVAyrTVQwxGLI
 MhrO+1J1IZ7kHQ9SGhdhxC8+MmO+f5Jg3dzPz+kFUjLxHqqOZn5buQlz46eNJo9ntjbH/U3OhgF
 1oUAh5sXlEVm33vHwXpunDpApL2gg8ECu9ZJqShZObR7kPk5u4d1e5gTOJhDVHnqqV/iKvzIDmG
 ZXn0V+2N8p1M6CrhJpKQYK2XI+lPYc+zofRr
X-Google-Smtp-Source: AGHT+IHsXHQXl/D0ux4uNXJBIWqfrsThrTwmKNHJc+5YsB9SRNA8DbUL+y/ls3stbkjpWRiA95LVuhAF8CF6
X-Received: by 2002:a05:6214:cad:b0:6f4:cbcf:5cea with SMTP id
 6a1803df08f44-6f896ec2c0amr22649446d6.44.1747189234901; 
 Tue, 13 May 2025 19:20:34 -0700 (PDT)
Received: from postal.iol.unh.edu (postal.iol.unh.edu.
 [2606:4100:3880:1234::84]) by smtp-relay.gmail.com with ESMTPS id
 6a1803df08f44-6f6e39e7d31sm6089486d6.5.2025.05.13.19.20.34
 (version=TLS1_2 cipher=ECDHE-ECDSA-AES128-GCM-SHA256 bits=128/128);
 Tue, 13 May 2025 19:20:34 -0700 (PDT)
X-Relaying-Domain: iol.unh.edu
Date: Tue, 13 May 2025 19:20:34 -0700 (PDT)
Message-ID: <6823fdf2.050a0220.32026c.0c8dSMTPIN_ADDED_MISSING@mx.google.com>
Received: from [172.17.0.2] (unknown [172.18.0.74])
 by postal.iol.unh.edu (Postfix) with ESMTP id 88F036052471;
 Tue, 13 May 2025 22:20:34 -0400 (EDT)
Subject: |SUCCESS| pw153433 [PATCH] net/gve: remove gve-specific PCI revision
From: dpdklab@iol.unh.edu
To: Test Report <test-report@dpdk.org>
Cc: dpdk-test-reports@iol.unh.edu
In-Reply-To: <20250513235308.2200865-1-joshwash@google.com>
References: <20250513235308.2200865-1-joshwash@google.com>
Content-Type: text/plain
X-BeenThere: test-report@dpdk.org
X-Mailman-Version: 2.1.29
Precedence: list
List-Id: automatic DPDK test reports <test-report.dpdk.org>
List-Unsubscribe: <https://mails.dpdk.org/options/test-report>,
 <mailto:test-report-request@dpdk.org?subject=unsubscribe>
List-Archive: <http://mails.dpdk.org/archives/test-report/>
List-Post: <mailto:test-report@dpdk.org>
List-Help: <mailto:test-report-request@dpdk.org?subject=help>
List-Subscribe: <https://mails.dpdk.org/listinfo/test-report>,
 <mailto:test-report-request@dpdk.org?subject=subscribe>
Errors-To: test-report-bounces@dpdk.org

Test-Label: iol-unit-arm64-testing
Test-Status: SUCCESS
http://dpdk.org/patch/153433

_Testing PASS_

Submitter: Joshua Washington <joshwash@google.com>
Date: Tuesday, May 13 2025 23:53:08 
DPDK git baseline: Repo:dpdk
  Branch: master
  CommitID:ff05ee3e3f8fb4ce958a2ce6461e8141aea959c6

153433 --> testing pass

Upstream job id: Generic-Unit-Test-DPDK#337528

Test environment and result as below:

+-----------------------------+--------------+------------------------------+---------------------------+----------------+
|         Environment         | lpm_autotest | cryptodev_sw_snow3g_autotest | cryptodev_sw_zuc_autotest | dpdk_unit_test |
+=============================+==============+==============================+===========================+================+
| Ubuntu 20.04 ARM SVE        | PASS         | SKIPPED                      | SKIPPED                   | SKIPPED        |
+-----------------------------+--------------+------------------------------+---------------------------+----------------+
| Debian 12 (arm)             | SKIPPED      | PASS                         | PASS                      | PASS           |
+-----------------------------+--------------+------------------------------+---------------------------+----------------+
| Fedora 40 (ARM)             | SKIPPED      | SKIPPED                      | SKIPPED                   | PASS           |
+-----------------------------+--------------+------------------------------+---------------------------+----------------+
| CentOS Stream 9 (ARM)       | SKIPPED      | SKIPPED                      | SKIPPED                   | PASS           |
+-----------------------------+--------------+------------------------------+---------------------------+----------------+
| CentOS Stream 10 (ARM)      | SKIPPED      | SKIPPED                      | SKIPPED                   | PASS           |
+-----------------------------+--------------+------------------------------+---------------------------+----------------+
| Fedora 41 (ARM Clang)       | SKIPPED      | SKIPPED                      | SKIPPED                   | PASS           |
+-----------------------------+--------------+------------------------------+---------------------------+----------------+
| Fedora 40 (ARM Clang)       | SKIPPED      | SKIPPED                      | SKIPPED                   | PASS           |
+-----------------------------+--------------+------------------------------+---------------------------+----------------+
| RHEL9 (ARM)                 | SKIPPED      | SKIPPED                      | SKIPPED                   | PASS           |
+-----------------------------+--------------+------------------------------+---------------------------+----------------+
| Ubuntu 24.04 (ARM)          | SKIPPED      | SKIPPED                      | SKIPPED                   | PASS           |
+-----------------------------+--------------+------------------------------+---------------------------+----------------+
| Ubuntu 20.04 (ARM)          | SKIPPED      | SKIPPED                      | SKIPPED                   | PASS           |
+-----------------------------+--------------+------------------------------+---------------------------+----------------+
| Fedora 41 (ARM)             | SKIPPED      | SKIPPED                      | SKIPPED                   | PASS           |
+-----------------------------+--------------+------------------------------+---------------------------+----------------+
| Ubuntu 22.04 (ARM)          | SKIPPED      | SKIPPED                      | SKIPPED                   | PASS           |
+-----------------------------+--------------+------------------------------+---------------------------+----------------+
| 32-bit Ubuntu 22.04.4 (ARM) | SKIPPED      | SKIPPED                      | SKIPPED                   | PASS           |
+-----------------------------+--------------+------------------------------+---------------------------+----------------+


Ubuntu 20.04 ARM SVE
	Kernel: Depends on container host
	Compiler: gcc (Ubuntu 10.5.0-1ubuntu1~20.04) 10.5.0

Debian 12 (arm)
	Kernel: Depends on container host
	Compiler: gcc (Debian 12.2.0-14) 12.2.0

Fedora 40 (ARM)
	Kernel: Depends on container host
	Compiler: gcc 14.2.1 20240912 (Red Hat 14.2.1-3)

CentOS Stream 9 (ARM)
	Kernel: Depends on container host
	Compiler: gcc 11.5.0 20240719 (Red Hat 11.5.0-2)

CentOS Stream 10 (ARM)
	Kernel: Depends on container host
	Compiler: gcc 14.2.1 20241104 (Red Hat 14.2.1-6)

Fedora 41 (ARM Clang)
	Kernel: Depends on container host
	Compiler: clang 19.1.5 (Fedora 19.1.5-1.fc41)

Fedora 40 (ARM Clang)
	Kernel: Depends on container host
	Compiler: clang 18.1.8 (Fedora 18.1.8-1.fc40)

RHEL9 (ARM)
	Kernel: Depends on container host
	Compiler: gcc 11.5.0 20240719 (Red Hat 11.5.0-2)

Ubuntu 24.04 (ARM)
	Kernel: Depends on container host
	Compiler: gcc (Ubuntu 13.3.0-6ubuntu2~24.04) 13.3.0

Ubuntu 20.04 (ARM)
	Kernel: Depends on container host
	Compiler: gcc (Ubuntu 9.4.0-1ubuntu1~20.04.2) 9.4.0

Fedora 41 (ARM)
	Kernel: Depends on container host
	Compiler: gcc 14.2.1 20240912 (Red Hat 14.2.1-3)

Ubuntu 22.04 (ARM)
	Kernel: Depends on container host
	Compiler: gcc (Ubuntu 11.4.0-1ubuntu1~22.04) 11.4.0

32-bit Ubuntu 22.04.4 (ARM)
	Kernel: 5.15.83+ aarch64
	Compiler: gcc (Ubuntu 11.4.0-1ubuntu1~22.04) 11.4.0

To view detailed results, visit:
https://lab.dpdk.org/results/dashboard/patchsets/33165/

UNH-IOL DPDK Community Lab

To manage your email subscriptions, visit: 
https://lab.dpdk.org/results/dashboard/preferences/subscriptions/