From mboxrd@z Thu Jan 1 00:00:00 1970 Return-Path: Received: from mails.dpdk.org (mails.dpdk.org [217.70.189.124]) by inbox.dpdk.org (Postfix) with ESMTP id 1B1D34673D for ; Wed, 14 May 2025 04:24:54 +0200 (CEST) Received: from mails.dpdk.org (localhost [127.0.0.1]) by mails.dpdk.org (Postfix) with ESMTP id E778A4025D; Wed, 14 May 2025 04:24:53 +0200 (CEST) Received: from mail-qv1-f99.google.com (mail-qv1-f99.google.com [209.85.219.99]) by mails.dpdk.org (Postfix) with ESMTP id 3BB3E40041 for ; Wed, 14 May 2025 04:24:52 +0200 (CEST) Received: by mail-qv1-f99.google.com with SMTP id 6a1803df08f44-6f6e5172edcso80449266d6.2 for ; Tue, 13 May 2025 19:24:52 -0700 (PDT) DKIM-Signature: v=1; a=rsa-sha256; c=relaxed/relaxed; d=iol.unh.edu; s=unh-iol; t=1747189491; x=1747794291; darn=dpdk.org; h=references:in-reply-to:cc:to:from:subject:message-id:date:from:to :cc:subject:date:message-id:reply-to; bh=LVWOIRC3gKXQn8kHTfXmg6tQFE8T6MEQCtLgEZTKiDw=; b=JWKIadAgxgtvyT4QRFGMe3PFlyMYTAmSjIqVTT1wljnWa+iTRV3O4e6RrhLTDEGE7e zHtJXX9yWtj3jV8V6CEXfZm6RJbX1RC5FDFI3My9kg45qmXf/g5OVqry5IF70fw1V+MB ZM43sHUDrLfqgj0rlmW9PSChhttz0gBxV+NBg= X-Google-DKIM-Signature: v=1; a=rsa-sha256; c=relaxed/relaxed; d=1e100.net; s=20230601; t=1747189491; x=1747794291; h=references:in-reply-to:cc:to:from:subject:message-id:date :x-gm-message-state:from:to:cc:subject:date:message-id:reply-to; bh=LVWOIRC3gKXQn8kHTfXmg6tQFE8T6MEQCtLgEZTKiDw=; b=Svgn0ESPNsx6Ec4E/t8yzcI5KTsz3XN45BTvKpls7fsTmMnaUqR/IuXTtQDvGlRwP0 +ltBU+rewiGsG8tBT9bFmYm7JTG/XLL2LhWMmZvy5SJxhoWMNxdYE5YwIOA1MOUo2Sik 4l2AuLN7Ok9CkOt22Yr3vnj5XRIAR7KoN25cuN+GRydFLjizpl4fAnDq9SLV9w9e/pxQ LNWunIwlgwoXA7pJ7lhX9Tk52S/BAvVYZ+vZq2iDW6LI0ZusYmXbtsVUxYGI/8PabCd/ lUppKnXpT+jrVN4DNVAtlkwqS8YSAdXQGIp9wwwOhYzgdvkpHQ97dt/3oXA1TUpIuHU7 jMQg== X-Gm-Message-State: AOJu0Yyg7lrbdXZcoJ3ELXfqvbmGFEcN39Nq7Ok0Ha2DnTAyHBQHaE7a g3s/kJuOLo5LEvu+m5xb5syZSzkJfcXCc/T1A8t1kxue8k8gRsAhIpyiaQcx2tj6JMTYbYRcKH6 nYT18zBJcA+oPD/Ngv2IX4B4xwsa3B1n4MoDqjqig6Zy0BFaAzWvEnMxt X-Gm-Gg: ASbGnctfnLJwq3KrSaKQXOIQEaPKqnrOLYnnY/26MizTAammwOYCreuy8+KAjXJt4+X FFuv6Xn3ZtgMLFDXqMNGoQ7R2lTegflP7f9TjppJfxI9hZNtU70AAYnEZSQqMYWy+7wmG3qTfCD rjTGWCf2A45+0BqCGp+SdH6Drz8RECuVqt+Je983Q4mb9cnBjXTiehtjaBrXmjaeP0vyNjJg1ND 6aBfTu82ooV0C5hP3hi/7i9Pa8IzbVl3LyCmdiC+kWYwGd7fXUUy/rdkxHfWpY20ZfYBUAyowsW H6BSPuo4x6s7vppv7lD8ccwj4NmThVz38yqG X-Google-Smtp-Source: AGHT+IEFH9L+sEhEjOJ8dmTuOx6odJ3jkrp4DKNmf81pYVg/EMaR3G22p68IfyqTTdehtsW2oNt2njF+0tFJ X-Received: by 2002:a05:6214:20e3:b0:6f5:e0c:b203 with SMTP id 6a1803df08f44-6f896e3940dmr26824076d6.11.1747189491616; Tue, 13 May 2025 19:24:51 -0700 (PDT) Received: from postal.iol.unh.edu (postal.iol.unh.edu. [2606:4100:3880:1234::84]) by smtp-relay.gmail.com with ESMTPS id 6a1803df08f44-6f6e3a0e51dsm6178336d6.34.2025.05.13.19.24.51 (version=TLS1_2 cipher=ECDHE-ECDSA-AES128-GCM-SHA256 bits=128/128); Tue, 13 May 2025 19:24:51 -0700 (PDT) X-Relaying-Domain: iol.unh.edu Date: Tue, 13 May 2025 19:24:51 -0700 (PDT) Message-ID: <6823fef3.050a0220.39e606.087fSMTPIN_ADDED_MISSING@mx.google.com> Received: from [172.17.0.2] (unknown [172.18.0.74]) by postal.iol.unh.edu (Postfix) with ESMTP id 499776052471; Tue, 13 May 2025 22:24:51 -0400 (EDT) Subject: |SUCCESS| pw153433 [PATCH] net/gve: remove gve-specific PCI revision From: dpdklab@iol.unh.edu To: Test Report Cc: dpdk-test-reports@iol.unh.edu In-Reply-To: <20250513235308.2200865-1-joshwash@google.com> References: <20250513235308.2200865-1-joshwash@google.com> Content-Type: text/plain X-BeenThere: test-report@dpdk.org X-Mailman-Version: 2.1.29 Precedence: list List-Id: automatic DPDK test reports List-Unsubscribe: , List-Archive: List-Post: List-Help: List-Subscribe: , Errors-To: test-report-bounces@dpdk.org Test-Label: iol-sample-apps-testing Test-Status: SUCCESS http://dpdk.org/patch/153433 _Testing PASS_ Submitter: Joshua Washington Date: Tuesday, May 13 2025 23:53:08 DPDK git baseline: Repo:dpdk Branch: master CommitID:ff05ee3e3f8fb4ce958a2ce6461e8141aea959c6 153433 --> testing pass Upstream job id: ACVP-FIPS-testing#9799 Test environment and result as below: +--------------------+----------------------+----------------------+ | Environment | compressdev_zlib_pmd | dpdk_fips_validation | +====================+======================+======================+ | Ubuntu 22.04 (ARM) | PASS | SKIPPED | +--------------------+----------------------+----------------------+ | Ubuntu 22.04 | PASS | SKIPPED | +--------------------+----------------------+----------------------+ | Ubuntu 20.04 | SKIPPED | PASS | +--------------------+----------------------+----------------------+ Ubuntu 22.04 (ARM) Kernel: 5.15.0-97-generic Compiler: gcc gcc (Ubuntu 11.4.0-1ubuntu1~22.04) 11.4.0 Ubuntu 22.04 Kernel: 5.15.0-100-generic Compiler: gcc gcc (Ubuntu 11.4.0-1ubuntu1~22.04) 11.4.0 Ubuntu 20.04 Kernel: Depends on container host Compiler: gcc (Ubuntu 9.4.0-1ubuntu1~20.04.2) 9.4.0 To view detailed results, visit: https://lab.dpdk.org/results/dashboard/patchsets/33165/ UNH-IOL DPDK Community Lab To manage your email subscriptions, visit: https://lab.dpdk.org/results/dashboard/preferences/subscriptions/