From mboxrd@z Thu Jan 1 00:00:00 1970 Return-Path: Received: from mails.dpdk.org (mails.dpdk.org [217.70.189.124]) by inbox.dpdk.org (Postfix) with ESMTP id B9BF64673D for ; Wed, 14 May 2025 04:32:32 +0200 (CEST) Received: from mails.dpdk.org (localhost [127.0.0.1]) by mails.dpdk.org (Postfix) with ESMTP id 961E34025D; Wed, 14 May 2025 04:32:32 +0200 (CEST) Received: from mail-il1-f226.google.com (mail-il1-f226.google.com [209.85.166.226]) by mails.dpdk.org (Postfix) with ESMTP id 196AD40041 for ; Wed, 14 May 2025 04:32:31 +0200 (CEST) Received: by mail-il1-f226.google.com with SMTP id e9e14a558f8ab-3da73df6c4eso56672385ab.0 for ; Tue, 13 May 2025 19:32:31 -0700 (PDT) DKIM-Signature: v=1; a=rsa-sha256; c=relaxed/relaxed; d=iol.unh.edu; s=unh-iol; t=1747189950; x=1747794750; darn=dpdk.org; h=references:in-reply-to:cc:to:from:subject:message-id:date:from:to :cc:subject:date:message-id:reply-to; bh=InryhwPovhJU0/16qjZot8j/5AHQRSHsJh2lCejQ3LI=; b=URGo/1oPgO9zuzMTRDQbKsSt4UYkL5qRxSbfgRLKxVZOH4o+NBxYBihGyA8dqQJAww eg+r8RWJAPsWf5TngawXtBKC4TJGuhxnilF/InnLV28WOcbPhvaSYjZSCYE4groTbCEu yDBTLnDs+PdL7fXY72JBaLCFzGgPkHL7mSdhU= X-Google-DKIM-Signature: v=1; a=rsa-sha256; c=relaxed/relaxed; d=1e100.net; s=20230601; t=1747189950; x=1747794750; h=references:in-reply-to:cc:to:from:subject:message-id:date :x-gm-message-state:from:to:cc:subject:date:message-id:reply-to; bh=InryhwPovhJU0/16qjZot8j/5AHQRSHsJh2lCejQ3LI=; b=XpLliB6b5FSDZZF8FsmJqq0PuHaQuwrAGxlU8ejNZXVlnLMBmCRWySe0uhYL2p6W3Y Ppi5D4lTBAzPLJiW+ETUL2uSHqmn5/kOvbpuA2lYRyHS0F2zYp4QxGPdoq3iKcFU5nT0 nie87UYKfrW4zQ8Yr5KTTPWqqJPcaMd5fRqGsqawLOu52i6BDqKN3u2vza4n6nBaTmDU M0OGxdbGgo+95F6t8OBotNQ4S8GZk52U+FvA9/mjPAvDwe/mp9mrDDBjm6pcrvH/5f9q 6DPL0oCuOU95893Sakfww0fGQYtkWwRTZ2ZYjZ+UNwBgMvyEtm9Mx7n98kcAHUddZYh8 41Tg== X-Gm-Message-State: AOJu0Yyp/uD2UQN+BXz24Au4HHVJAvFfh333p2IPmLfIKQyE3IFbZP6i Bd/ovRx5Z0isjHKUoCY+OhUyqVKCUa8bkJ9M3nL751ujeeQLjPMr3mpwDdsSgopU398Rx+OfAnR +SCvBPd2zjhcGJYG79i1Y8aUuOy053i+RvQjBMKnX X-Gm-Gg: ASbGncvOzIDX30+Aw216Nlb40hzJlEFNfAkPMLGw+lOvpzQePXdMZ197yjaNkNYWpXr S2PVTu8fLLh5PCywGSczeFJ5qvBgsx/SeDYeJeAc78Q8Uu6kwexDivBKQ5xB14JrxOEJTvZ3zXz AKYXlSBh/LNa2Syzj/zTmrbsqveIDKdemAfUhyEVnCpPvCjRK6DWiqjkC5oK/n7W7TunWiuVNqc IOeCjgFyTmfWdxkcBC8vS0vqIUz3+2MozbGP0FiYwqO6cbvnaY2gBPhl1djkhSQsla4+zY4SMCJ nNm8kqDNstgYmCdonC8IdSx+PWq1Jd4hw5geaZmb4gcBxZRA4AOOPuTb9V4= X-Google-Smtp-Source: AGHT+IGNxbhVtyS6KOFThfTZw3Ekj0HEYDpv+7vR9s0WM1qa0MYmf0yKr2/HNCTDOadWiVp9k1dYYedqAoP2 X-Received: by 2002:a05:6e02:3986:b0:3d5:8103:1a77 with SMTP id e9e14a558f8ab-3db6f791729mr21485875ab.1.1747189940135; Tue, 13 May 2025 19:32:20 -0700 (PDT) Received: from postal.iol.unh.edu (postal.iol.unh.edu. [132.177.123.84]) by smtp-relay.gmail.com with ESMTPS id e9e14a558f8ab-3da7e164496sm6849125ab.70.2025.05.13.19.32.20 (version=TLS1_2 cipher=ECDHE-ECDSA-AES128-GCM-SHA256 bits=128/128); Tue, 13 May 2025 19:32:20 -0700 (PDT) X-Relaying-Domain: iol.unh.edu Date: Tue, 13 May 2025 19:32:20 -0700 (PDT) Message-ID: <682400b4.050a0220.1a6db5.5489SMTPIN_ADDED_MISSING@mx.google.com> Received: from [172.17.0.2] (unknown [172.18.0.74]) by postal.iol.unh.edu (Postfix) with ESMTP id 95ECB6052471; Tue, 13 May 2025 22:32:19 -0400 (EDT) Subject: |SUCCESS| pw153433 [PATCH] net/gve: remove gve-specific PCI revision From: dpdklab@iol.unh.edu To: Test Report Cc: dpdk-test-reports@iol.unh.edu In-Reply-To: <20250513235308.2200865-1-joshwash@google.com> References: <20250513235308.2200865-1-joshwash@google.com> Content-Type: text/plain X-BeenThere: test-report@dpdk.org X-Mailman-Version: 2.1.29 Precedence: list List-Id: automatic DPDK test reports List-Unsubscribe: , List-Archive: List-Post: List-Help: List-Subscribe: , Errors-To: test-report-bounces@dpdk.org Test-Label: iol-compile-amd64-testing Test-Status: SUCCESS http://dpdk.org/patch/153433 _Testing PASS_ Submitter: Joshua Washington Date: Tuesday, May 13 2025 23:53:08 DPDK git baseline: Repo:dpdk Branch: master CommitID:ff05ee3e3f8fb4ce958a2ce6461e8141aea959c6 153433 --> testing pass Upstream job id: Generic-DPDK-Compile-Meson#387663 Test environment and result as below: +-----------------------------------+--------------------+-------------------+------------------+-------------------+-------------------------+----------------------+ | Environment | dpdk_meson_compile | dpdk_compile_spdk | dpdk_compile_ovs | dpdk_msvc_compile | dpdk_llvm_clang_compile | dpdk_mingw64_compile | +===================================+====================+===================+==================+===================+=========================+======================+ | CentOS Stream 9 | PASS | PASS | SKIPPED | SKIPPED | SKIPPED | SKIPPED | +-----------------------------------+--------------------+-------------------+------------------+-------------------+-------------------------+----------------------+ | CentOS Stream 10 | PASS | SKIPPED | SKIPPED | SKIPPED | SKIPPED | SKIPPED | +-----------------------------------+--------------------+-------------------+------------------+-------------------+-------------------------+----------------------+ | Debian 12 | PASS | PASS | SKIPPED | SKIPPED | SKIPPED | SKIPPED | +-----------------------------------+--------------------+-------------------+------------------+-------------------+-------------------------+----------------------+ | Fedora 40 (Clang) | PASS | PASS | SKIPPED | SKIPPED | SKIPPED | SKIPPED | +-----------------------------------+--------------------+-------------------+------------------+-------------------+-------------------------+----------------------+ | openSUSE Leap 15 | PASS | SKIPPED | SKIPPED | SKIPPED | SKIPPED | SKIPPED | +-----------------------------------+--------------------+-------------------+------------------+-------------------+-------------------------+----------------------+ | Fedora 41 (Clang) | PASS | PASS | PASS | SKIPPED | SKIPPED | SKIPPED | +-----------------------------------+--------------------+-------------------+------------------+-------------------+-------------------------+----------------------+ | Fedora 41 | PASS | PASS | PASS | SKIPPED | SKIPPED | SKIPPED | +-----------------------------------+--------------------+-------------------+------------------+-------------------+-------------------------+----------------------+ | Fedora 40 | PASS | PASS | SKIPPED | SKIPPED | SKIPPED | SKIPPED | +-----------------------------------+--------------------+-------------------+------------------+-------------------+-------------------------+----------------------+ | Ubuntu 22.04 | PASS | PASS | SKIPPED | SKIPPED | SKIPPED | SKIPPED | +-----------------------------------+--------------------+-------------------+------------------+-------------------+-------------------------+----------------------+ | Ubuntu 24.04 | PASS | PASS | PASS | SKIPPED | SKIPPED | SKIPPED | +-----------------------------------+--------------------+-------------------+------------------+-------------------+-------------------------+----------------------+ | RHEL8 | PASS | SKIPPED | SKIPPED | SKIPPED | SKIPPED | SKIPPED | +-----------------------------------+--------------------+-------------------+------------------+-------------------+-------------------------+----------------------+ | Ubuntu 20.04 | PASS | SKIPPED | SKIPPED | SKIPPED | SKIPPED | SKIPPED | +-----------------------------------+--------------------+-------------------+------------------+-------------------+-------------------------+----------------------+ | RHEL9 | PASS | SKIPPED | SKIPPED | SKIPPED | SKIPPED | SKIPPED | +-----------------------------------+--------------------+-------------------+------------------+-------------------+-------------------------+----------------------+ | Alpine | PASS | SKIPPED | SKIPPED | SKIPPED | SKIPPED | SKIPPED | +-----------------------------------+--------------------+-------------------+------------------+-------------------+-------------------------+----------------------+ | Ubuntu 24.04 32 Bit Cross Compile | PASS | SKIPPED | SKIPPED | SKIPPED | SKIPPED | SKIPPED | +-----------------------------------+--------------------+-------------------+------------------+-------------------+-------------------------+----------------------+ | FreeBSD 13.5 | PASS | SKIPPED | SKIPPED | SKIPPED | SKIPPED | SKIPPED | +-----------------------------------+--------------------+-------------------+------------------+-------------------+-------------------------+----------------------+ | FreeBSD 14.2 | PASS | SKIPPED | SKIPPED | SKIPPED | SKIPPED | SKIPPED | +-----------------------------------+--------------------+-------------------+------------------+-------------------+-------------------------+----------------------+ | Windows Server 2022 | SKIPPED | SKIPPED | SKIPPED | PASS | PASS | PASS | +-----------------------------------+--------------------+-------------------+------------------+-------------------+-------------------------+----------------------+ CentOS Stream 9 Kernel: Depends on container host Compiler: gcc 11.5.0 20240719 (Red Hat 11.5.0-2) CentOS Stream 10 Kernel: Depends on container host Compiler: gcc 14.2.1 20241104 (Red Hat 14.2.1-6) Debian 12 Kernel: Depends on container host Compiler: gcc (Debian 12.2.0-14) 12.2.0 Fedora 40 (Clang) Kernel: Depends on container host Compiler: clang 18.1.8 (Fedora 18.1.8-1.fc40) openSUSE Leap 15 Kernel: Depends on container host Compiler: gcc (SUSE Linux) 7.5.0 Fedora 41 (Clang) Kernel: Depends on container host Compiler: clang 19.1.5 (Fedora 19.1.5-1.fc41) Fedora 41 Kernel: Depends on container host Compiler: gcc 14.2.1 20240912 (Red Hat 14.2.1-3) Fedora 40 Kernel: Depends on container host Compiler: gcc 14.2.1 20240912 (Red Hat 14.2.1-3) Ubuntu 22.04 Kernel: Depends on container host Compiler: gcc (Ubuntu 11.4.0-1ubuntu1~22.04) 11.4.0 Ubuntu 24.04 Kernel: Depends on container host Compiler: gcc (Ubuntu 13.3.0-6ubuntu2~24.04) 13.3.0 RHEL8 Kernel: Depends on container host Compiler: gcc 8.5.0 20210514 (Red Hat 8.5.0-22) Ubuntu 20.04 Kernel: Depends on container host Compiler: gcc (Ubuntu 9.4.0-1ubuntu1~20.04.2) 9.4.0 RHEL9 Kernel: Depends on container host Compiler: gcc 11.5.0 20240719 (Red Hat 11.5.0-2) Alpine Kernel: Depends on container host Compiler: gcc (Alpine 14.2.0) 14.2.0 Ubuntu 24.04 32 Bit Cross Compile Kernel: Depends on container host Compiler: gcc (Ubuntu 13.3.0-6ubuntu2~24.04) 13.3.0 FreeBSD 13.5 Kernel: 13.5-RELEASE Compiler: clang 19.1.7 FreeBSD 14.2 Kernel: 14.2-RELEASE Compiler: clang 18.1.6 Windows Server 2022 Kernel: 10.0.20348.2031 Compiler: clang 15.0.7, gcc 14.1.0 (MinGW), and MSVC VS 19.39.33521 To view detailed results, visit: https://lab.dpdk.org/results/dashboard/patchsets/33165/ UNH-IOL DPDK Community Lab To manage your email subscriptions, visit: https://lab.dpdk.org/results/dashboard/preferences/subscriptions/