From mboxrd@z Thu Jan 1 00:00:00 1970 Return-Path: Received: from mails.dpdk.org (mails.dpdk.org [217.70.189.124]) by inbox.dpdk.org (Postfix) with ESMTP id 161514673D for ; Wed, 14 May 2025 05:27:59 +0200 (CEST) Received: from mails.dpdk.org (localhost [127.0.0.1]) by mails.dpdk.org (Postfix) with ESMTP id DD6DD4025D; Wed, 14 May 2025 05:27:58 +0200 (CEST) Received: from mail-yb1-f226.google.com (mail-yb1-f226.google.com [209.85.219.226]) by mails.dpdk.org (Postfix) with ESMTP id DD4D140041 for ; Wed, 14 May 2025 05:27:56 +0200 (CEST) Received: by mail-yb1-f226.google.com with SMTP id 3f1490d57ef6-e732386e4b7so6436994276.1 for ; Tue, 13 May 2025 20:27:56 -0700 (PDT) DKIM-Signature: v=1; a=rsa-sha256; c=relaxed/relaxed; d=iol.unh.edu; s=unh-iol; t=1747193276; x=1747798076; darn=dpdk.org; h=cc:to:from:subject:message-id:date:from:to:cc:subject:date :message-id:reply-to; bh=17Kix1zV5JFQF8ri8mUwhlyLHPaa4Om1S0dRdFc7vX4=; b=fpJjvqXCWpoQoyZesOwMhhYHdk+QvzGKRaVwByuZf/WQv7EjDTW7HK+A9LRXnkgGf/ Q1xQtYUFeyioLYXAwGvIErStkAPeQJPd2X1aDEIyXG6daXDo/cAZPIOc7yx2IepFFe9H IrBIin1kmLI4upuBS1XXJle8CS33tncPQthxY= X-Google-DKIM-Signature: v=1; a=rsa-sha256; c=relaxed/relaxed; d=1e100.net; s=20230601; t=1747193276; x=1747798076; h=cc:to:from:subject:message-id:date:x-gm-message-state:from:to:cc :subject:date:message-id:reply-to; bh=17Kix1zV5JFQF8ri8mUwhlyLHPaa4Om1S0dRdFc7vX4=; b=cCNqFHQyT7Hvb08QMmBcj63bMD01CTdm/ZnUZU70etlsUahOPtrOj+87eXcnoLCYp6 1WGjJdCTINzy+H+9S3Z0cIzGTnTD5rqrxKp8G1OuiCpqvIQxXY1648kMSeUrWXsKgU+N LxMlMwO4q90EdcPnQELeYICdBMNxuuaVAz109IygC2bbZVY4SQfMksFo46/PeezQbkag WQ+vRURiu/IIdmG/lIR16aEjtay8vRaUcymnROsr7dQj5253WlSKhY9RuarT3hY0AQPm kAoUMD8CgxHzqeqIHXOfLiodFq0rRJh4BHE7oVMKPZnYOlKGVSfb86Ntz4nVi2oeG3t9 RaiA== X-Gm-Message-State: AOJu0YwELQnpoAM7MbkMcoHTXYoIeaUGULH6oBAXi689v7Cf6akGZoe6 2C05FG6gD9CiEm91a0Ha40/du7zveikZlAdW9fLmCftO9EdKAW6PET2wE97660Ri8Yo3dXWnxku zzn7tx5IxgrJ39PehHns8v3XeZGltHkxpHUyJAz5x X-Gm-Gg: ASbGnctaZ0EZCy7MAu4lMxeiuhUIpvjdSDLEaYaCqdseKUcg1UoqDw17m7vEEHCh+Cr eJ67M3JVLIYVwuOMKjOiublwyEdfxRnL2lWSmGCg1EC1Mf5Pfmu02lKH57cYqauS5KbpxJl/pxV WzwjIAjVn/ZB4+/sfqCZSOfTjYppepqMcBloOx9PLXchtKKq5NIe4ezF5m4O/Zm8NQVxFi5pUMN yAuv0vW63z4FHPegsYcwTrOVddBN9I9xoYX3AXrJPmSFLbZMnPzIBfwbne4gj3BhZ4U+AoSwizm ZakyYA1QW7nIz7f4nKQAoh7wGAZwWPHFkpQPlvM7VhK2lS+yxmT2LjPdVNc= X-Google-Smtp-Source: AGHT+IEISyIuRzK7X1WI25pTs+++JTTdaaL4VPHF7T/6CkE9W6jDJguKGzfF22h5uRuymKu/fgyr/L/z1d8e X-Received: by 2002:a05:6902:2410:b0:e7a:b2b3:56a2 with SMTP id 3f1490d57ef6-e7b3d592948mr2166699276.39.1747193276196; Tue, 13 May 2025 20:27:56 -0700 (PDT) Received: from postal.iol.unh.edu (postal.iol.unh.edu. [132.177.123.84]) by smtp-relay.gmail.com with ESMTPS id 00721157ae682-70a3d878b89sm4119717b3.61.2025.05.13.20.27.56 (version=TLS1_2 cipher=ECDHE-ECDSA-AES128-GCM-SHA256 bits=128/128); Tue, 13 May 2025 20:27:56 -0700 (PDT) X-Relaying-Domain: iol.unh.edu Date: Tue, 13 May 2025 20:27:56 -0700 (PDT) Message-ID: <68240dbc.050a0220.345cb9.5201SMTPIN_ADDED_MISSING@mx.google.com> Received: from [172.17.0.2] (unknown [172.18.0.74]) by postal.iol.unh.edu (Postfix) with ESMTP id C2A096052471; Tue, 13 May 2025 23:27:55 -0400 (EDT) Subject: |SUCCESS| [GIT MASTER] 2bf836de46d36a81f9321f947fbfce52b3180782 From: dpdklab@iol.unh.edu To: Test Report Cc: dpdk-test-reports@iol.unh.edu Content-Type: text/plain X-BeenThere: test-report@dpdk.org X-Mailman-Version: 2.1.29 Precedence: list List-Id: automatic DPDK test reports List-Unsubscribe: , List-Archive: List-Post: List-Help: List-Subscribe: , Errors-To: test-report-bounces@dpdk.org _Testing PASS_ Branch: dpdk 2bf836de46d36a81f9321f947fbfce52b3180782 --> testing pass Upstream job id: Generic-DPDK-Compile-Meson#387623 Test environment and result as below: +----------------------------------------+--------------------+ | Environment | dpdk_meson_compile | +========================================+====================+ | RHEL9 (ARM) | PASS | +----------------------------------------+--------------------+ | Ubuntu 20.04 ARM GCC Cross Compile | PASS | +----------------------------------------+--------------------+ | Fedora 40 (ARM) | PASS | +----------------------------------------+--------------------+ | Ubuntu 20.04 ARM SVE | PASS | +----------------------------------------+--------------------+ | Debian 12 with MUSDK | PASS | +----------------------------------------+--------------------+ | Fedora 41 (ARM) | PASS | +----------------------------------------+--------------------+ | Fedora 40 (ARM Clang) | PASS | +----------------------------------------+--------------------+ | Fedora 41 (ARM Clang) | PASS | +----------------------------------------+--------------------+ | Ubuntu 22.04 (ARM) | PASS | +----------------------------------------+--------------------+ | CentOS Stream 9 (ARM) | PASS | +----------------------------------------+--------------------+ | Ubuntu 20.04 (ARM) | PASS | +----------------------------------------+--------------------+ | Ubuntu 24.04 (ARM) | PASS | +----------------------------------------+--------------------+ | CentOS Stream 10 (ARM) | PASS | +----------------------------------------+--------------------+ | Debian 12 (arm) | PASS | +----------------------------------------+--------------------+ | Ubuntu 20.04 ARM Clang Cross Compile | PASS | +----------------------------------------+--------------------+ | Ubuntu 20.04 aarch32 GCC Cross Compile | PASS | +----------------------------------------+--------------------+ RHEL9 (ARM) Kernel: Depends on container host Compiler: gcc 11.5.0 20240719 (Red Hat 11.5.0-2) Ubuntu 20.04 ARM GCC Cross Compile Kernel: Depends on container host Compiler: aarch64-linux-gnu-gcc (Ubuntu 9.4.0-1ubuntu1~20.04.2) 9.4.0 Fedora 40 (ARM) Kernel: Depends on container host Compiler: gcc 14.2.1 20240912 (Red Hat 14.2.1-3) Ubuntu 20.04 ARM SVE Kernel: Depends on container host Compiler: gcc (Ubuntu 10.5.0-1ubuntu1~20.04) 10.5.0 Debian 12 with MUSDK Kernel: Depends on container host Compiler: gcc (Debian 12.2.0-14) 12.2.0 Fedora 41 (ARM) Kernel: Depends on container host Compiler: gcc 14.2.1 20240912 (Red Hat 14.2.1-3) Fedora 40 (ARM Clang) Kernel: Depends on container host Compiler: clang 18.1.8 (Fedora 18.1.8-1.fc40) Fedora 41 (ARM Clang) Kernel: Depends on container host Compiler: clang 19.1.5 (Fedora 19.1.5-1.fc41) Ubuntu 22.04 (ARM) Kernel: Depends on container host Compiler: gcc (Ubuntu 11.4.0-1ubuntu1~22.04) 11.4.0 CentOS Stream 9 (ARM) Kernel: Depends on container host Compiler: gcc 11.5.0 20240719 (Red Hat 11.5.0-2) Ubuntu 20.04 (ARM) Kernel: Depends on container host Compiler: gcc (Ubuntu 9.4.0-1ubuntu1~20.04.2) 9.4.0 Ubuntu 24.04 (ARM) Kernel: Depends on container host Compiler: gcc (Ubuntu 13.3.0-6ubuntu2~24.04) 13.3.0 CentOS Stream 10 (ARM) Kernel: Depends on container host Compiler: gcc 14.2.1 20241104 (Red Hat 14.2.1-6) Debian 12 (arm) Kernel: Depends on container host Compiler: gcc (Debian 12.2.0-14) 12.2.0 Ubuntu 20.04 ARM Clang Cross Compile Kernel: Depends on container host Compiler: clang 10.0.0-4ubuntu1 Ubuntu 20.04 aarch32 GCC Cross Compile Kernel: Depends on container host Compiler: gcc 9.4.0 To view detailed results, visit: https://lab.dpdk.org/results/dashboard/tarballs/33518/ UNH-IOL DPDK Community Lab To manage your email subscriptions, visit: https://lab.dpdk.org/results/dashboard/preferences/subscriptions/