From mboxrd@z Thu Jan 1 00:00:00 1970 Return-Path: Received: from mails.dpdk.org (mails.dpdk.org [217.70.189.124]) by inbox.dpdk.org (Postfix) with ESMTP id 193184673F for ; Wed, 14 May 2025 06:32:42 +0200 (CEST) Received: from mails.dpdk.org (localhost [127.0.0.1]) by mails.dpdk.org (Postfix) with ESMTP id E9EDB4025D; Wed, 14 May 2025 06:32:41 +0200 (CEST) Received: from mail-pg1-f225.google.com (mail-pg1-f225.google.com [209.85.215.225]) by mails.dpdk.org (Postfix) with ESMTP id 6D68440041 for ; Wed, 14 May 2025 06:32:41 +0200 (CEST) Received: by mail-pg1-f225.google.com with SMTP id 41be03b00d2f7-b200178c011so5378541a12.3 for ; Tue, 13 May 2025 21:32:41 -0700 (PDT) DKIM-Signature: v=1; a=rsa-sha256; c=relaxed/relaxed; d=iol.unh.edu; s=unh-iol; t=1747197160; x=1747801960; darn=dpdk.org; h=references:in-reply-to:cc:to:from:subject:message-id:date:from:to :cc:subject:date:message-id:reply-to; bh=VjFQxfzxcJm8631WdhsH/xjqN4lgHZn1p0vabjxj8HI=; b=bx7XS8ZHgbXK/PAarUY2fAv9ABTiA11X7dTbcrUE91MxFlveCIkGQYKcMCCIrTKkVQ xu7uvHHcvmMAnYRAlD6555zEHsGXOllFGAVKCFsYJcoqZZ1HntBqZxd+zmM5lHwOLuAJ p2hnk/xUo07190FU2z4N5JxQ+vf5YMwudYCoI= X-Google-DKIM-Signature: v=1; a=rsa-sha256; c=relaxed/relaxed; d=1e100.net; s=20230601; t=1747197160; x=1747801960; h=references:in-reply-to:cc:to:from:subject:message-id:date :x-gm-message-state:from:to:cc:subject:date:message-id:reply-to; bh=VjFQxfzxcJm8631WdhsH/xjqN4lgHZn1p0vabjxj8HI=; b=inoOlRvB6vXQEJjOrqEy2D7QpKCgWJQgQTS1PGiwyLrG/0+2B/BPpTrrAr7yymSaNV Hgei38GyE+ChZUGjr4YcXtrAooRiOM8bi/Pr1FgNCU3xoubZvQj7BVghSIxpSSr8+yPV tcym/1HCCFscjPmN8+uVXdEgOTDloXWp4iNDORLZOfRcFpBbAHmY6xSgGg0ZhNhbIbJM psEiMAIgsnSW2YZm7frY86bmvw/efhjetj7jRH3C+R2NCZGwd81brZkJDfepRuzKDdfM QeawnF1CbrXbmM7t17K1SiJkUuSKXRBWpoUma0CMXE1faanyR/NvcehaPTS1oG1VV3m1 WMNw== X-Gm-Message-State: AOJu0Yx7GIVJl+pL/7ykU2S4jRIU8OZVbMX8Yx+ssfirMDTNFlmQj13s D/L6ZUdkPYcDe7ZmF0hpzNtZ6toNXjPvbNTjIAnd6TKVi6wIdHYzqpiM4F7wAQP6rwi4weNo7VE nOpXfR2FpaigV6FK4Dsub3YHjR4PpgYfD5QlNVR28 X-Gm-Gg: ASbGnctK/1kd/gW4m0rIXgvitYnUJwVYDkZvEJOQSyBkVFfsCqDA2eFZILdvRN8m8fI m02w77S3GwG6DH3Iks35voA1hq56S0/4tMrJvD5Q3U7KhfyITCj3QBmyIll+gu1lQv2gPGpGz// C02hu/OTjmaL0ZcAlNzRpU5ehOZ+obGTQ6kjG2MauqGzL8ULMKwweoftLXk9EU53iXy2zQidBNl 87QrBS7SskXVm1A2YNkgUvDDTrm7fpU3KErTyP3heQDkOKX0zqikkdw+/6VbPRzKjf9bF8WAU9X GKReJoKzkf49Z02MRB4sh+nQSJGHDxrGjUD4jVr1ytqPdg0Ea17jAu4TMtw= X-Google-Smtp-Source: AGHT+IGCAYqwch5gZpRGPNTKTxFMMbpK3djhOCLTG4eT+PCngM3svoMeA/d84c9bq0blF7QV+HfCAKv+2ElY X-Received: by 2002:a17:902:e483:b0:22f:c83d:d726 with SMTP id d9443c01a7336-23198197796mr17817485ad.33.1747197160434; Tue, 13 May 2025 21:32:40 -0700 (PDT) Received: from postal.iol.unh.edu (postal.iol.unh.edu. [132.177.123.84]) by smtp-relay.gmail.com with ESMTPS id d9443c01a7336-22fc6f26952sm6125805ad.115.2025.05.13.21.32.40 (version=TLS1_2 cipher=ECDHE-ECDSA-AES128-GCM-SHA256 bits=128/128); Tue, 13 May 2025 21:32:40 -0700 (PDT) X-Relaying-Domain: iol.unh.edu Date: Tue, 13 May 2025 21:32:40 -0700 (PDT) Message-ID: <68241ce8.170a0220.19db9c.1236SMTPIN_ADDED_MISSING@mx.google.com> Received: from [172.21.0.5] (unknown [172.18.0.240]) by postal.iol.unh.edu (Postfix) with ESMTP id 957F36052471; Wed, 14 May 2025 00:32:39 -0400 (EDT) Subject: |SUCCESS| pw153433 [PATCH] net/gve: remove gve-specific PCI revision From: dpdklab@iol.unh.edu To: Test Report Cc: dpdk-test-reports@iol.unh.edu In-Reply-To: <20250513235308.2200865-1-joshwash@google.com> References: <20250513235308.2200865-1-joshwash@google.com> Content-Type: text/plain X-BeenThere: test-report@dpdk.org X-Mailman-Version: 2.1.29 Precedence: list List-Id: automatic DPDK test reports List-Unsubscribe: , List-Archive: List-Post: List-Help: List-Subscribe: , Errors-To: test-report-bounces@dpdk.org Test-Label: iol-compile-arm64-testing Test-Status: SUCCESS http://dpdk.org/patch/153433 _Testing PASS_ Submitter: Joshua Washington Date: Tuesday, May 13 2025 23:53:08 DPDK git baseline: Repo:dpdk Branch: master CommitID:ff05ee3e3f8fb4ce958a2ce6461e8141aea959c6 153433 --> testing pass Upstream job id: Generic-DPDK-Compile-Meson#387670 Test environment and result as below: +----------------------------------------+--------------------+ | Environment | dpdk_meson_compile | +========================================+====================+ | RHEL9 (ARM) | PASS | +----------------------------------------+--------------------+ | Fedora 41 (ARM Clang) | PASS | +----------------------------------------+--------------------+ | Fedora 41 (ARM) | PASS | +----------------------------------------+--------------------+ | Ubuntu 20.04 ARM GCC Cross Compile | PASS | +----------------------------------------+--------------------+ | Fedora 40 (ARM) | PASS | +----------------------------------------+--------------------+ | Ubuntu 20.04 ARM SVE | PASS | +----------------------------------------+--------------------+ | Debian 12 with MUSDK | PASS | +----------------------------------------+--------------------+ | Ubuntu 20.04 (ARM) | PASS | +----------------------------------------+--------------------+ | Fedora 40 (ARM Clang) | PASS | +----------------------------------------+--------------------+ | Ubuntu 22.04 (ARM) | PASS | +----------------------------------------+--------------------+ | Ubuntu 24.04 (ARM) | PASS | +----------------------------------------+--------------------+ | CentOS Stream 10 (ARM) | PASS | +----------------------------------------+--------------------+ | CentOS Stream 9 (ARM) | PASS | +----------------------------------------+--------------------+ | Ubuntu 20.04 ARM Clang Cross Compile | PASS | +----------------------------------------+--------------------+ | Ubuntu 20.04 aarch32 GCC Cross Compile | PASS | +----------------------------------------+--------------------+ | Debian 12 (arm) | PASS | +----------------------------------------+--------------------+ RHEL9 (ARM) Kernel: Depends on container host Compiler: gcc 11.5.0 20240719 (Red Hat 11.5.0-2) Fedora 41 (ARM Clang) Kernel: Depends on container host Compiler: clang 19.1.5 (Fedora 19.1.5-1.fc41) Fedora 41 (ARM) Kernel: Depends on container host Compiler: gcc 14.2.1 20240912 (Red Hat 14.2.1-3) Ubuntu 20.04 ARM GCC Cross Compile Kernel: Depends on container host Compiler: aarch64-linux-gnu-gcc (Ubuntu 9.4.0-1ubuntu1~20.04.2) 9.4.0 Fedora 40 (ARM) Kernel: Depends on container host Compiler: gcc 14.2.1 20240912 (Red Hat 14.2.1-3) Ubuntu 20.04 ARM SVE Kernel: Depends on container host Compiler: gcc (Ubuntu 10.5.0-1ubuntu1~20.04) 10.5.0 Debian 12 with MUSDK Kernel: Depends on container host Compiler: gcc (Debian 12.2.0-14) 12.2.0 Ubuntu 20.04 (ARM) Kernel: Depends on container host Compiler: gcc (Ubuntu 9.4.0-1ubuntu1~20.04.2) 9.4.0 Fedora 40 (ARM Clang) Kernel: Depends on container host Compiler: clang 18.1.8 (Fedora 18.1.8-1.fc40) Ubuntu 22.04 (ARM) Kernel: Depends on container host Compiler: gcc (Ubuntu 11.4.0-1ubuntu1~22.04) 11.4.0 Ubuntu 24.04 (ARM) Kernel: Depends on container host Compiler: gcc (Ubuntu 13.3.0-6ubuntu2~24.04) 13.3.0 CentOS Stream 10 (ARM) Kernel: Depends on container host Compiler: gcc 14.2.1 20241104 (Red Hat 14.2.1-6) CentOS Stream 9 (ARM) Kernel: Depends on container host Compiler: gcc 11.5.0 20240719 (Red Hat 11.5.0-2) Ubuntu 20.04 ARM Clang Cross Compile Kernel: Depends on container host Compiler: clang 10.0.0-4ubuntu1 Ubuntu 20.04 aarch32 GCC Cross Compile Kernel: Depends on container host Compiler: gcc 9.4.0 Debian 12 (arm) Kernel: Depends on container host Compiler: gcc (Debian 12.2.0-14) 12.2.0 To view detailed results, visit: https://lab.dpdk.org/results/dashboard/patchsets/33165/ UNH-IOL DPDK Community Lab To manage your email subscriptions, visit: https://lab.dpdk.org/results/dashboard/preferences/subscriptions/