From mboxrd@z Thu Jan 1 00:00:00 1970 Return-Path: Received: from mails.dpdk.org (mails.dpdk.org [217.70.189.124]) by inbox.dpdk.org (Postfix) with ESMTP id F384B4673F for ; Wed, 14 May 2025 07:05:07 +0200 (CEST) Received: from mails.dpdk.org (localhost [127.0.0.1]) by mails.dpdk.org (Postfix) with ESMTP id ED00D4025D; Wed, 14 May 2025 07:05:07 +0200 (CEST) Received: from mail-io1-f100.google.com (mail-io1-f100.google.com [209.85.166.100]) by mails.dpdk.org (Postfix) with ESMTP id 8AF3E40041 for ; Wed, 14 May 2025 07:05:06 +0200 (CEST) Received: by mail-io1-f100.google.com with SMTP id ca18e2360f4ac-86135af1045so762398839f.1 for ; Tue, 13 May 2025 22:05:06 -0700 (PDT) DKIM-Signature: v=1; a=rsa-sha256; c=relaxed/relaxed; d=iol.unh.edu; s=unh-iol; t=1747199106; x=1747803906; darn=dpdk.org; h=cc:to:from:subject:message-id:date:from:to:cc:subject:date :message-id:reply-to; bh=7+YkdGcLGC2EGLMDiL0BgIjDpLegDN1uLYXBwxJXl1o=; b=fTyBHQOzrdtQvZDUwzKVwAXmjmM0UKNaMRSU7n82gh8DA/JRfluHCT1RUd8UTxxJ82 ytrriEunpRCZi20dijTMYwgheERcJJw5XCb0Js2M9afIRVzFiaXrmZn0ZgUCYUfcHAH9 ZdA5f/Ptg5rX9H3tzpuyUeXE8CuvmZD3WZK3g= X-Google-DKIM-Signature: v=1; a=rsa-sha256; c=relaxed/relaxed; d=1e100.net; s=20230601; t=1747199106; x=1747803906; h=cc:to:from:subject:message-id:date:x-gm-message-state:from:to:cc :subject:date:message-id:reply-to; bh=7+YkdGcLGC2EGLMDiL0BgIjDpLegDN1uLYXBwxJXl1o=; b=i52CelOe3F2dOY+inbLjWlwVJSdUO3QmCsZfW545CLlCrPIBKt2czkDHGG41TP+h9x ve8pKa43hfFjUa2EanlY2Be36qRkmqYP8yzpupaGAmCYUtiLlWx+fdYG2sT5TNQfKCXW ubDwIO8LjN5rE/Zjru4/K58D49DkU7e3MAAmWtA+ocQa5v8pmg/MBIArMsbWaaS1tnUV UXv14ZReK+TsQz7afW+O2Zw4fDCNXhuihm7nPevW0kyJBgg5gQyJfit6nE1rw0l54/cZ 1OH0GJCifYs5+hMWMfadMHJ5kss+zcUsMl1K3AJK5kNnafW57aeTTyS5sez5I7S3xQaF OP2Q== X-Gm-Message-State: AOJu0YyjnJbq4WUNv8JU6Az7/a+fdqHyjxkqWsl323X3n+cupJ7m3+6X VlfJ2PLOLwhdrIFPr1+m+uMCZPvMGnnLalJia3kt0x+XX6JfTCUm9/AgPuzDHk9xzh3/9RAVupx MZiX7b3F1wXneGFk1RAO7atx065lGOpNN1T0DasPueQfJTOif X-Gm-Gg: ASbGnctfWXjnAewG4z1eR5FjDC1XYSNfnKmMyyvd2hWfxBBEsLZg7UmqOLdwTyyv684 0cJc50p4B6RXUbU/JgVPoI62kdu6z9aNNo5ZgyM+IZRG4VUvuPWRyUi80QxX5Crna5r/PHwAJao WD0Wa8kKLc5I9amEjZfjZY5d498BXL438fzdpu+JgnSTXb1Us5cBI4GgPTNXLZ/yjX1SVeJ3MK1 9zBR4lSuznwjuDRT272jPNPAy2nC22SJ9BXZ/4NCbrpjRNi1YIdedfTJbypfm0HTn/tiXertrnb OrO6BRhq1PkY8u5/fV9GdHKqO0s7xO2mDKtJ X-Google-Smtp-Source: AGHT+IF1fKRABQyhX5PNLMYeq44d6IiTSf/jxgbLUElKTE8Int182OyS/5kpU943RosgLmBaaybhjp4O1fyS X-Received: by 2002:a05:6602:408a:b0:85b:3f06:1fd4 with SMTP id ca18e2360f4ac-86a08e501a6mr229055539f.9.1747199105901; Tue, 13 May 2025 22:05:05 -0700 (PDT) Received: from postal.iol.unh.edu (postal.iol.unh.edu. [2606:4100:3880:1234::84]) by smtp-relay.gmail.com with ESMTPS id ca18e2360f4ac-86763620c4asm51429039f.6.2025.05.13.22.05.05 (version=TLS1_2 cipher=ECDHE-ECDSA-AES128-GCM-SHA256 bits=128/128); Tue, 13 May 2025 22:05:05 -0700 (PDT) X-Relaying-Domain: iol.unh.edu Date: Tue, 13 May 2025 22:05:05 -0700 (PDT) Message-ID: <68242481.050a0220.312a94.ac75SMTPIN_ADDED_MISSING@mx.google.com> Received: from [172.21.0.6] (unknown [172.18.0.240]) by postal.iol.unh.edu (Postfix) with ESMTP id 6A1416052471; Wed, 14 May 2025 01:05:05 -0400 (EDT) Subject: |SUCCESS| [GIT MASTER] 4c5634de9f933555bab9c64a533d3dca999071cd From: dpdklab@iol.unh.edu To: Test Report Cc: dpdk-test-reports@iol.unh.edu, Xueming Li , Christian Ehrhardt , Kevin Traynor , Luca Boccassi Content-Type: text/plain X-BeenThere: test-report@dpdk.org X-Mailman-Version: 2.1.29 Precedence: list List-Id: automatic DPDK test reports List-Unsubscribe: , List-Archive: List-Post: List-Help: List-Subscribe: , Errors-To: test-report-bounces@dpdk.org _Testing PASS_ Branch: tags/v24.11 4c5634de9f933555bab9c64a533d3dca999071cd --> testing pass Upstream job id: Generic-DPDK-Compile-ABI#126257 Test environment and result as below: +-------------------+----------+ | Environment | abi_test | +===================+==========+ | CentOS Stream 9 | PASS | +-------------------+----------+ | CentOS Stream 10 | PASS | +-------------------+----------+ | Fedora 40 (Clang) | PASS | +-------------------+----------+ | Debian 12 | PASS | +-------------------+----------+ | Fedora 41 | PASS | +-------------------+----------+ | Fedora 40 | PASS | +-------------------+----------+ | Fedora 41 (Clang) | PASS | +-------------------+----------+ | openSUSE Leap 15 | PASS | +-------------------+----------+ | RHEL8 | PASS | +-------------------+----------+ | RHEL9 | PASS | +-------------------+----------+ | Ubuntu 22.04 | PASS | +-------------------+----------+ | Ubuntu 24.04 | PASS | +-------------------+----------+ CentOS Stream 9 Kernel: Depends on container host Compiler: gcc 11.5.0 20240719 (Red Hat 11.5.0-2) CentOS Stream 10 Kernel: Depends on container host Compiler: gcc 14.2.1 20241104 (Red Hat 14.2.1-6) Fedora 40 (Clang) Kernel: Depends on container host Compiler: clang 18.1.8 (Fedora 18.1.8-1.fc40) Debian 12 Kernel: Depends on container host Compiler: gcc (Debian 12.2.0-14) 12.2.0 Fedora 41 Kernel: Depends on container host Compiler: gcc 14.2.1 20240912 (Red Hat 14.2.1-3) Fedora 40 Kernel: Depends on container host Compiler: gcc 14.2.1 20240912 (Red Hat 14.2.1-3) Fedora 41 (Clang) Kernel: Depends on container host Compiler: clang 19.1.5 (Fedora 19.1.5-1.fc41) openSUSE Leap 15 Kernel: Depends on container host Compiler: gcc (SUSE Linux) 7.5.0 RHEL8 Kernel: Depends on container host Compiler: gcc 8.5.0 20210514 (Red Hat 8.5.0-22) RHEL9 Kernel: Depends on container host Compiler: gcc 11.5.0 20240719 (Red Hat 11.5.0-2) Ubuntu 22.04 Kernel: Depends on container host Compiler: gcc (Ubuntu 11.4.0-1ubuntu1~22.04) 11.4.0 Ubuntu 24.04 Kernel: Depends on container host Compiler: gcc (Ubuntu 13.3.0-6ubuntu2~24.04) 13.3.0 To view detailed results, visit: https://lab.dpdk.org/results/dashboard/tarballs/33520/ UNH-IOL DPDK Community Lab To manage your email subscriptions, visit: https://lab.dpdk.org/results/dashboard/preferences/subscriptions/