From mboxrd@z Thu Jan 1 00:00:00 1970 Return-Path: Received: from mails.dpdk.org (mails.dpdk.org [217.70.189.124]) by inbox.dpdk.org (Postfix) with ESMTP id 2390A4673F for ; Wed, 14 May 2025 07:05:27 +0200 (CEST) Received: from mails.dpdk.org (localhost [127.0.0.1]) by mails.dpdk.org (Postfix) with ESMTP id 1AC4A4025D; Wed, 14 May 2025 07:05:27 +0200 (CEST) Received: from mail-yw1-f228.google.com (mail-yw1-f228.google.com [209.85.128.228]) by mails.dpdk.org (Postfix) with ESMTP id E2B6340041 for ; Wed, 14 May 2025 07:05:25 +0200 (CEST) Received: by mail-yw1-f228.google.com with SMTP id 00721157ae682-708ac7dfc19so56661437b3.3 for ; Tue, 13 May 2025 22:05:25 -0700 (PDT) DKIM-Signature: v=1; a=rsa-sha256; c=relaxed/relaxed; d=iol.unh.edu; s=unh-iol; t=1747199125; x=1747803925; darn=dpdk.org; h=cc:to:from:subject:message-id:date:from:to:cc:subject:date :message-id:reply-to; bh=hA3iwye2pCFOAQVsPhmlj3EbFQjt6pXUy2KtVfQBuw4=; b=gHyrVAgfHiicyB9Qf7b4Vi5E9zZMBRkQedCtvYv0lCQZLTMDqBOKA7Davd8ml3hRoK CQG40dmJ/jGmSAJo3h4nC8rIB4KtJ2+pOiQpLEBVmZURT4QPKnLfAHJSzaI85uLk6UB0 /dMfytQXYS8XxzOBFtYT8LJvUfV5LUnUK/64c= X-Google-DKIM-Signature: v=1; a=rsa-sha256; c=relaxed/relaxed; d=1e100.net; s=20230601; t=1747199125; x=1747803925; h=cc:to:from:subject:message-id:date:x-gm-message-state:from:to:cc :subject:date:message-id:reply-to; bh=hA3iwye2pCFOAQVsPhmlj3EbFQjt6pXUy2KtVfQBuw4=; b=W6wvFE0ibZLJ6dQ2rzpI6f+qYWf/1vjr9dvqFZsg82Go7WsDQLst3zsK6Kla0AKjkp l+mPtS+IBFJG+oKapERD5d6PzGTs/G8+CsUmDCsP5M/JVkqM9tkH7nXJxjzQYMIMm4D8 yqnmBf4vQy4V11XBtmZZv3S9nVo1nXMms0QF1xbiKeti0ynTgfRt2CqJZtbJc9B+f9c7 kiTKz5L+zgcEIBQopq79iBQg7cSVpmvbasL/5nY77JIe58+5hbonldWiTZiKLpgC24vk GknGG9ps1DbOvCTQVqKglxB3upXPgWS2JPud51blDdMD4Z5+KntG08IA9hg14Z39FcdT nFVA== X-Gm-Message-State: AOJu0Yw2mj2IZIJiQUwn3C3MHRxSGIzU5dl+Z131h7i49yeHOi7ZBJj2 Pn8d2GxxPHGpLmM3RYt2y23HflD0CDCDO/R8qHLTuYksmETvy5tQoHTLdKkz35n54/frNooxsbz tKMHSRj6HXVlqB85N5ob0K1e+XKQZwizqa2mHHpHzkfNoUFlV X-Gm-Gg: ASbGnctkCg4vq1xCpRusbwnJ/qj1dghe4LUmE4ZzhY3SPrqVwD89hKXBlH2VN0GtDNI riI/Nz8mutZXlXswbt1XGYCBnXhjATOLrlVUsmOkgX5qodNDqmqZNX+X/7LM0ktxxGO2YUFnYQr j/hpC5U+nFAIMIY3FejMIqW2Nn82OUGBM8skuojndkSt12Uw6SOX3Lb3Gjd5DN5DPb2mlDgv55j VTpr0tR+mOhquAuIfDrJBV+G2b4ZELS3ZB+tU7z8BqOPV51d/TSwufsZ/FXwdDQRxlPZSiLzwPG +aP/GdSkKGdmqvvXinq2XahGVp3dxtSAidEE X-Google-Smtp-Source: AGHT+IEpijEgYia0biiL0l//eE8b3pA1cvVWAJPrlLHmprv9OHesp8FYnuBwxuBoss1pgpWmy9DmRA8JUbjk X-Received: by 2002:a05:690c:3343:b0:709:ad9e:e651 with SMTP id 00721157ae682-70c7f22290amr29481397b3.27.1747199125246; Tue, 13 May 2025 22:05:25 -0700 (PDT) Received: from postal.iol.unh.edu (postal.iol.unh.edu. [2606:4100:3880:1234::84]) by smtp-relay.gmail.com with ESMTPS id 00721157ae682-70a3d87a1b4sm4299987b3.62.2025.05.13.22.05.25 (version=TLS1_2 cipher=ECDHE-ECDSA-AES128-GCM-SHA256 bits=128/128); Tue, 13 May 2025 22:05:25 -0700 (PDT) X-Relaying-Domain: iol.unh.edu Date: Tue, 13 May 2025 22:05:25 -0700 (PDT) Message-ID: <68242495.050a0220.1562a4.720dSMTPIN_ADDED_MISSING@mx.google.com> Received: from [172.21.0.7] (unknown [172.18.0.240]) by postal.iol.unh.edu (Postfix) with ESMTP id D17446052471; Wed, 14 May 2025 01:05:24 -0400 (EDT) Subject: |SUCCESS| [GIT MASTER] 4c5634de9f933555bab9c64a533d3dca999071cd From: dpdklab@iol.unh.edu To: Test Report Cc: dpdk-test-reports@iol.unh.edu, Xueming Li , Christian Ehrhardt , Kevin Traynor , Luca Boccassi Content-Type: text/plain X-BeenThere: test-report@dpdk.org X-Mailman-Version: 2.1.29 Precedence: list List-Id: automatic DPDK test reports List-Unsubscribe: , List-Archive: List-Post: List-Help: List-Subscribe: , Errors-To: test-report-bounces@dpdk.org _Testing PASS_ Branch: tags/v24.11 4c5634de9f933555bab9c64a533d3dca999071cd --> testing pass Upstream job id: Generic-DPDK-Compile-ABI#126271 Test environment and result as below: +-------------------+----------+ | Environment | abi_test | +===================+==========+ | CentOS Stream 9 | PASS | +-------------------+----------+ | CentOS Stream 10 | PASS | +-------------------+----------+ | Fedora 40 (Clang) | PASS | +-------------------+----------+ | Debian 12 | PASS | +-------------------+----------+ | Fedora 41 | PASS | +-------------------+----------+ | Fedora 40 | PASS | +-------------------+----------+ | Fedora 41 (Clang) | PASS | +-------------------+----------+ | openSUSE Leap 15 | PASS | +-------------------+----------+ | RHEL8 | PASS | +-------------------+----------+ | RHEL9 | PASS | +-------------------+----------+ | Ubuntu 22.04 | PASS | +-------------------+----------+ | Ubuntu 24.04 | PASS | +-------------------+----------+ CentOS Stream 9 Kernel: Depends on container host Compiler: gcc 11.5.0 20240719 (Red Hat 11.5.0-2) CentOS Stream 10 Kernel: Depends on container host Compiler: gcc 14.2.1 20241104 (Red Hat 14.2.1-6) Fedora 40 (Clang) Kernel: Depends on container host Compiler: clang 18.1.8 (Fedora 18.1.8-1.fc40) Debian 12 Kernel: Depends on container host Compiler: gcc (Debian 12.2.0-14) 12.2.0 Fedora 41 Kernel: Depends on container host Compiler: gcc 14.2.1 20240912 (Red Hat 14.2.1-3) Fedora 40 Kernel: Depends on container host Compiler: gcc 14.2.1 20240912 (Red Hat 14.2.1-3) Fedora 41 (Clang) Kernel: Depends on container host Compiler: clang 19.1.5 (Fedora 19.1.5-1.fc41) openSUSE Leap 15 Kernel: Depends on container host Compiler: gcc (SUSE Linux) 7.5.0 RHEL8 Kernel: Depends on container host Compiler: gcc 8.5.0 20210514 (Red Hat 8.5.0-22) RHEL9 Kernel: Depends on container host Compiler: gcc 11.5.0 20240719 (Red Hat 11.5.0-2) Ubuntu 22.04 Kernel: Depends on container host Compiler: gcc (Ubuntu 11.4.0-1ubuntu1~22.04) 11.4.0 Ubuntu 24.04 Kernel: Depends on container host Compiler: gcc (Ubuntu 13.3.0-6ubuntu2~24.04) 13.3.0 To view detailed results, visit: https://lab.dpdk.org/results/dashboard/tarballs/33520/ UNH-IOL DPDK Community Lab To manage your email subscriptions, visit: https://lab.dpdk.org/results/dashboard/preferences/subscriptions/