From mboxrd@z Thu Jan 1 00:00:00 1970 Return-Path: Received: from mails.dpdk.org (mails.dpdk.org [217.70.189.124]) by inbox.dpdk.org (Postfix) with ESMTP id 9619A4673F for ; Wed, 14 May 2025 07:45:50 +0200 (CEST) Received: from mails.dpdk.org (localhost [127.0.0.1]) by mails.dpdk.org (Postfix) with ESMTP id 71CA84025D; Wed, 14 May 2025 07:45:50 +0200 (CEST) Received: from mail-qt1-f227.google.com (mail-qt1-f227.google.com [209.85.160.227]) by mails.dpdk.org (Postfix) with ESMTP id 4E2C640041 for ; Wed, 14 May 2025 07:45:49 +0200 (CEST) Received: by mail-qt1-f227.google.com with SMTP id d75a77b69052e-476f4e9cf92so53426681cf.3 for ; Tue, 13 May 2025 22:45:49 -0700 (PDT) DKIM-Signature: v=1; a=rsa-sha256; c=relaxed/relaxed; d=iol.unh.edu; s=unh-iol; t=1747201548; x=1747806348; darn=dpdk.org; h=cc:to:from:subject:message-id:date:from:to:cc:subject:date :message-id:reply-to; bh=MR0kkVgaVQZdNYiT4JxTPyNs50WbZ7BVybWdAU0DkGk=; b=DG3PT65XXxN1Ixb4ArJvDuXAMEb/GWfCLSF/feipybUmHiztQWVEpp8qASsEuvTxMg iBLFU1c1KtXRv6cmxNjPlObQC4xDd8S4N0lFMXRI/KGzBZE1/n/1F8795+9opN4Ms7rz A5+/vpt7+OVpcH7RVq/w2HLozjKavzzjbxJLw= X-Google-DKIM-Signature: v=1; a=rsa-sha256; c=relaxed/relaxed; d=1e100.net; s=20230601; t=1747201548; x=1747806348; h=cc:to:from:subject:message-id:date:x-gm-message-state:from:to:cc :subject:date:message-id:reply-to; bh=MR0kkVgaVQZdNYiT4JxTPyNs50WbZ7BVybWdAU0DkGk=; b=Via9RFuAGQbHJ3e91PCV62TnfGeJzWTO/SyCmOT0OBlOUNZJbbLEwy/TyDS+PR+XkL e9uBDqWtjftxQmDYyd/ecVl8u6ZN6aqw+e7GWtWTGKtVFYIPLAW1+/z10u6POlNVYGiM l8GpAUiALY5bWWJscdbVbO42ZFgJB6eUoM4tNtq8tX06/SVChoiyUdFhUxg9uyXjNPU9 lOAnBOi9YcwDXedu++SouAg5omE9oBVJOymMQKWEYdE4m9UF6cqQmWaz9GaBPZyGZbMS 1dQT7anRe2ehX47XrSiwwc5aAEAIXG5azntfcumVum9aUmpGe3bYCLxUdWNrwNlfStUC KkmQ== X-Gm-Message-State: AOJu0YwCkiB43v2AUAK0+D+dqgCOOlyywBcbcx7j89foT7PXB1P0hFbE PxfWv2zv4sZX1FArNkjUNfe7eWE29oRV+2R3T3ynqCrf6SmXGFgXFQNu1WqdU9aMKMGdeGXefFK Fl7Fybb5qZxpYg0k8ES41ac+lXscmO+aAfBva/hKCUATPnra9 X-Gm-Gg: ASbGnct+6CtFJl/XMlOByz34//0g9bGNSx80YFvZtPDjqgZqLwETffiCBgABcK3cuua lgUIATuzERMfAo0nS9vCYJc1YuWBr9Qpe+PrONes4HdqgI9cFGVsjJANvVn1V9HBGxWOfWi1+VI ZSKlVgy4aEICiUdzT41gTWwFQsg6BwyPN8r7pr1dhBltsdsw5JIet3K2VVX6WsIStwSW+rqNJi8 tRerlA2UA755HIRtPwdvCXUykhIBaFuzur3OGd8jbP1KEnb+gG35tX2HvgX30IkS5arNPFFrzk5 9+2HXc7rn9yqrmGCgcJNIkomXJXHXo5UDQkg X-Google-Smtp-Source: AGHT+IHftKJEh2dCx5Z3zvNCiKtmnDmyDoW4tsvKjHXp+s0OZZ0Z7SRzFqF7EEvdXEMfs7AxV92I5tA/SCd+ X-Received: by 2002:a05:622a:1e11:b0:476:c650:9839 with SMTP id d75a77b69052e-49495d020ecmr32775901cf.51.1747201548535; Tue, 13 May 2025 22:45:48 -0700 (PDT) Received: from postal.iol.unh.edu (postal.iol.unh.edu. [2606:4100:3880:1234::84]) by smtp-relay.gmail.com with ESMTPS id d75a77b69052e-4945244548bsm3128001cf.4.2025.05.13.22.45.48 (version=TLS1_2 cipher=ECDHE-ECDSA-AES128-GCM-SHA256 bits=128/128); Tue, 13 May 2025 22:45:48 -0700 (PDT) X-Relaying-Domain: iol.unh.edu Date: Tue, 13 May 2025 22:45:48 -0700 (PDT) Message-ID: <68242e0c.050a0220.4fdaf.0b3bSMTPIN_ADDED_MISSING@mx.google.com> Received: from [172.21.0.5] (unknown [172.18.0.240]) by postal.iol.unh.edu (Postfix) with ESMTP id 2E2646052471; Wed, 14 May 2025 01:45:48 -0400 (EDT) Subject: |SUCCESS| [GIT MASTER] 4c5634de9f933555bab9c64a533d3dca999071cd From: dpdklab@iol.unh.edu To: Test Report Cc: dpdk-test-reports@iol.unh.edu, Xueming Li , Christian Ehrhardt , Kevin Traynor , Luca Boccassi Content-Type: text/plain X-BeenThere: test-report@dpdk.org X-Mailman-Version: 2.1.29 Precedence: list List-Id: automatic DPDK test reports List-Unsubscribe: , List-Archive: List-Post: List-Help: List-Subscribe: , Errors-To: test-report-bounces@dpdk.org _Testing PASS_ Branch: tags/v24.11 4c5634de9f933555bab9c64a533d3dca999071cd --> testing pass Upstream job id: ACVP-FIPS-testing#9800 Test environment and result as below: +--------------------+----------------------+----------------------+ | Environment | compressdev_zlib_pmd | dpdk_fips_validation | +====================+======================+======================+ | Ubuntu 22.04 (ARM) | PASS | SKIPPED | +--------------------+----------------------+----------------------+ | Ubuntu 22.04 | PASS | SKIPPED | +--------------------+----------------------+----------------------+ | Ubuntu 20.04 | SKIPPED | PASS | +--------------------+----------------------+----------------------+ Ubuntu 22.04 (ARM) Kernel: 5.15.0-97-generic Compiler: gcc gcc (Ubuntu 11.4.0-1ubuntu1~22.04) 11.4.0 Ubuntu 22.04 Kernel: 5.15.0-100-generic Compiler: gcc gcc (Ubuntu 11.4.0-1ubuntu1~22.04) 11.4.0 Ubuntu 20.04 Kernel: Depends on container host Compiler: gcc (Ubuntu 9.4.0-1ubuntu1~20.04.2) 9.4.0 To view detailed results, visit: https://lab.dpdk.org/results/dashboard/tarballs/33520/ UNH-IOL DPDK Community Lab To manage your email subscriptions, visit: https://lab.dpdk.org/results/dashboard/preferences/subscriptions/