From mboxrd@z Thu Jan  1 00:00:00 1970
Return-Path: <test-report-bounces@dpdk.org>
Received: from mails.dpdk.org (mails.dpdk.org [217.70.189.124])
	by inbox.dpdk.org (Postfix) with ESMTP id E87E64673C
	for <public@inbox.dpdk.org>; Wed, 14 May 2025 07:49:25 +0200 (CEST)
Received: from mails.dpdk.org (localhost [127.0.0.1])
	by mails.dpdk.org (Postfix) with ESMTP id C41B44025D;
	Wed, 14 May 2025 07:49:25 +0200 (CEST)
Received: from mail-yw1-f226.google.com (mail-yw1-f226.google.com
 [209.85.128.226])
 by mails.dpdk.org (Postfix) with ESMTP id 4FE5140041
 for <test-report@dpdk.org>; Wed, 14 May 2025 07:49:24 +0200 (CEST)
Received: by mail-yw1-f226.google.com with SMTP id
 00721157ae682-70a35432c21so57141927b3.0
 for <test-report@dpdk.org>; Tue, 13 May 2025 22:49:24 -0700 (PDT)
DKIM-Signature: v=1; a=rsa-sha256; c=relaxed/relaxed;
 d=iol.unh.edu; s=unh-iol; t=1747201763; x=1747806563; darn=dpdk.org;
 h=cc:to:from:subject:message-id:date:from:to:cc:subject:date
 :message-id:reply-to;
 bh=tvjgB/6SpRq8dWuwlYfOKhEdHkT+qim0+6DYQOua5I8=;
 b=G+0cr0Pv6nWGFzHxszhw1UKmvu0CL/f5JA18YR7TzJ7nHifeEFxAL/YbDwOwBbg4ez
 BkzuNBSmXhr8xRgDdor6CxVxb6c/FhZX+GM+Gmsu5iyoIwo3bkClLUBpyikjBSQkCCW6
 uWXmtilLPo0WaNxSZ1OJzWlM9U1s9X1QidiCM=
X-Google-DKIM-Signature: v=1; a=rsa-sha256; c=relaxed/relaxed;
 d=1e100.net; s=20230601; t=1747201763; x=1747806563;
 h=cc:to:from:subject:message-id:date:x-gm-message-state:from:to:cc
 :subject:date:message-id:reply-to;
 bh=tvjgB/6SpRq8dWuwlYfOKhEdHkT+qim0+6DYQOua5I8=;
 b=PXSKxA9HTp2d0J1Tiq7VCkjA7MIiHPAyrUzkhJcrmVqajZWEd/xEITeKxnWSn7aNLT
 y4YjAaV2aklwEYijtG7Unrksdl33WhpQaucfb62Sfbmbywg31STpEzkRG7USFzO43/jr
 XBKtcbIqHDLS7EbeDK+X3AJhpSqbyVI9HWUAygzkdF1Whjdo2Mu58a4YlWV1CLmf3eex
 O65RSNU+ifn6Lshzfhruruw8rKGan7RQqcP4QDyxsPTMJbkwESV9nr8e/3/OszJx5DXZ
 1iOKVo2+i1rJY2lDXE81B/fbN5Z58xOGrXipHok8pI+E6OsVVIQwnUC5/kLFw0WKEtxZ
 syfw==
X-Gm-Message-State: AOJu0YxptrBNlWQ8fPrLBYveomZm7SI2r0TKKysonsmJIoM4u6Cehjck
 GFOsg4UGcbC5SDS3rmN8c/hHa+y8AGT8L1YQiwoqn4qv0WHNQRPIghVRyVsL+ikM4k0HW1GewFA
 PrfRhnscrc2SeUCNl4E1GidhAC3zJeKHP9UYGbTzKYzNlV2wA
X-Gm-Gg: ASbGncvRrs5dvtsYkrB0spfcJJ8UJV5V0v0rEdrExxY3cj+mUpLc/DS4DUK9m9NGfJQ
 LuWkA8stXhZVDPLGV2rDispuLVeQDJN8wUIpJh3BMzhar5VbJcKQa6HqHjgwRb0RZZ4U9FoeTR5
 sRCDSLKWmeVnWRuT4QGM8cXtZqLJR6Xi3+DDBfETlz/500G/uOS7PoWT7yiTMOa1GCr9yN2WkFS
 h0nybYhmMOodJWhIcgp5FcyZXmgs/jFQGGWbr4q/uNleuyzaWIflZQM8H1eBFcpTi5FTDOVzLCM
 4Sa3gBkOtmU4y1ZkqHKAo3HdqHDMAatrvKIc
X-Google-Smtp-Source: AGHT+IENfGBr+KOuzC9NeitxPQVz8B6vOzc1P+T09e4jLwymQAhXrGPLcz/kxU69JDsGVR6Bbyu+x5dD7wGL
X-Received: by 2002:a05:690c:4c02:b0:709:966c:b648 with SMTP id
 00721157ae682-70c7f11c5c0mr32736417b3.10.1747201763634; 
 Tue, 13 May 2025 22:49:23 -0700 (PDT)
Received: from postal.iol.unh.edu (postal.iol.unh.edu.
 [2606:4100:3880:1234::84]) by smtp-relay.gmail.com with ESMTPS id
 00721157ae682-70a3d7300e4sm4608997b3.10.2025.05.13.22.49.23
 (version=TLS1_2 cipher=ECDHE-ECDSA-AES128-GCM-SHA256 bits=128/128);
 Tue, 13 May 2025 22:49:23 -0700 (PDT)
X-Relaying-Domain: iol.unh.edu
Date: Tue, 13 May 2025 22:49:23 -0700 (PDT)
Message-ID: <68242ee3.050a0220.ecace.877cSMTPIN_ADDED_MISSING@mx.google.com>
Received: from [172.21.0.5] (unknown [172.18.0.240])
 by postal.iol.unh.edu (Postfix) with ESMTP id 2BF646052471;
 Wed, 14 May 2025 01:49:23 -0400 (EDT)
Subject: |SUCCESS| [GIT MASTER] 4c5634de9f933555bab9c64a533d3dca999071cd
From: dpdklab@iol.unh.edu
To: Test Report <test-report@dpdk.org>
Cc: dpdk-test-reports@iol.unh.edu, Xueming Li <xuemingl@nvidia.com>,
 Christian Ehrhardt <christian.ehrhardt@canonical.com>,
 Kevin Traynor <ktraynor@redhat.com>, Luca Boccassi <bluca@debian.org>
Content-Type: text/plain
X-BeenThere: test-report@dpdk.org
X-Mailman-Version: 2.1.29
Precedence: list
List-Id: automatic DPDK test reports <test-report.dpdk.org>
List-Unsubscribe: <https://mails.dpdk.org/options/test-report>,
 <mailto:test-report-request@dpdk.org?subject=unsubscribe>
List-Archive: <http://mails.dpdk.org/archives/test-report/>
List-Post: <mailto:test-report@dpdk.org>
List-Help: <mailto:test-report-request@dpdk.org?subject=help>
List-Subscribe: <https://mails.dpdk.org/listinfo/test-report>,
 <mailto:test-report-request@dpdk.org?subject=subscribe>
Errors-To: test-report-bounces@dpdk.org

_Testing PASS_

Branch: tags/v24.11

4c5634de9f933555bab9c64a533d3dca999071cd --> testing pass

Upstream job id: Generic-Unit-Test-DPDK#337565

Test environment and result as below:

+-----------------------------+----------------+------------------------------+--------------+---------------------------+
|         Environment         | dpdk_unit_test | cryptodev_sw_snow3g_autotest | lpm_autotest | cryptodev_sw_zuc_autotest |
+=============================+================+==============================+==============+===========================+
| CentOS Stream 9 (ARM)       | PASS           | SKIPPED                      | SKIPPED      | SKIPPED                   |
+-----------------------------+----------------+------------------------------+--------------+---------------------------+
| Fedora 41 (ARM)             | PASS           | SKIPPED                      | SKIPPED      | SKIPPED                   |
+-----------------------------+----------------+------------------------------+--------------+---------------------------+
| Ubuntu 22.04 (ARM)          | PASS           | SKIPPED                      | SKIPPED      | SKIPPED                   |
+-----------------------------+----------------+------------------------------+--------------+---------------------------+
| CentOS Stream 10 (ARM)      | PASS           | SKIPPED                      | SKIPPED      | SKIPPED                   |
+-----------------------------+----------------+------------------------------+--------------+---------------------------+
| RHEL9 (ARM)                 | PASS           | SKIPPED                      | SKIPPED      | SKIPPED                   |
+-----------------------------+----------------+------------------------------+--------------+---------------------------+
| Fedora 40 (ARM)             | PASS           | SKIPPED                      | SKIPPED      | SKIPPED                   |
+-----------------------------+----------------+------------------------------+--------------+---------------------------+
| Fedora 40 (ARM Clang)       | PASS           | SKIPPED                      | SKIPPED      | SKIPPED                   |
+-----------------------------+----------------+------------------------------+--------------+---------------------------+
| Debian 12 (arm)             | PASS           | PASS                         | SKIPPED      | PASS                      |
+-----------------------------+----------------+------------------------------+--------------+---------------------------+
| Ubuntu 20.04 (ARM)          | PASS           | SKIPPED                      | SKIPPED      | SKIPPED                   |
+-----------------------------+----------------+------------------------------+--------------+---------------------------+
| Ubuntu 24.04 (ARM)          | PASS           | SKIPPED                      | SKIPPED      | SKIPPED                   |
+-----------------------------+----------------+------------------------------+--------------+---------------------------+
| Fedora 41 (ARM Clang)       | PASS           | SKIPPED                      | SKIPPED      | SKIPPED                   |
+-----------------------------+----------------+------------------------------+--------------+---------------------------+
| 32-bit Ubuntu 22.04.4 (ARM) | PASS           | SKIPPED                      | SKIPPED      | SKIPPED                   |
+-----------------------------+----------------+------------------------------+--------------+---------------------------+
| Ubuntu 20.04 ARM SVE        | SKIPPED        | SKIPPED                      | PASS         | SKIPPED                   |
+-----------------------------+----------------+------------------------------+--------------+---------------------------+


CentOS Stream 9 (ARM)
	Kernel: Depends on container host
	Compiler: gcc 11.5.0 20240719 (Red Hat 11.5.0-2)

Fedora 41 (ARM)
	Kernel: Depends on container host
	Compiler: gcc 14.2.1 20240912 (Red Hat 14.2.1-3)

Ubuntu 22.04 (ARM)
	Kernel: Depends on container host
	Compiler: gcc (Ubuntu 11.4.0-1ubuntu1~22.04) 11.4.0

CentOS Stream 10 (ARM)
	Kernel: Depends on container host
	Compiler: gcc 14.2.1 20241104 (Red Hat 14.2.1-6)

RHEL9 (ARM)
	Kernel: Depends on container host
	Compiler: gcc 11.5.0 20240719 (Red Hat 11.5.0-2)

Fedora 40 (ARM)
	Kernel: Depends on container host
	Compiler: gcc 14.2.1 20240912 (Red Hat 14.2.1-3)

Fedora 40 (ARM Clang)
	Kernel: Depends on container host
	Compiler: clang 18.1.8 (Fedora 18.1.8-1.fc40)

Debian 12 (arm)
	Kernel: Depends on container host
	Compiler: gcc (Debian 12.2.0-14) 12.2.0

Ubuntu 20.04 (ARM)
	Kernel: Depends on container host
	Compiler: gcc (Ubuntu 9.4.0-1ubuntu1~20.04.2) 9.4.0

Ubuntu 24.04 (ARM)
	Kernel: Depends on container host
	Compiler: gcc (Ubuntu 13.3.0-6ubuntu2~24.04) 13.3.0

Fedora 41 (ARM Clang)
	Kernel: Depends on container host
	Compiler: clang 19.1.5 (Fedora 19.1.5-1.fc41)

32-bit Ubuntu 22.04.4 (ARM)
	Kernel: 5.15.83+ aarch64
	Compiler: gcc (Ubuntu 11.4.0-1ubuntu1~22.04) 11.4.0

Ubuntu 20.04 ARM SVE
	Kernel: Depends on container host
	Compiler: gcc (Ubuntu 10.5.0-1ubuntu1~20.04) 10.5.0

To view detailed results, visit:
https://lab.dpdk.org/results/dashboard/tarballs/33520/

UNH-IOL DPDK Community Lab

To manage your email subscriptions, visit: 
https://lab.dpdk.org/results/dashboard/preferences/subscriptions/