From mboxrd@z Thu Jan 1 00:00:00 1970 Return-Path: Received: from mails.dpdk.org (mails.dpdk.org [217.70.189.124]) by inbox.dpdk.org (Postfix) with ESMTP id 617FA46742 for ; Wed, 14 May 2025 09:54:33 +0200 (CEST) Received: from mails.dpdk.org (localhost [127.0.0.1]) by mails.dpdk.org (Postfix) with ESMTP id 5C3DE4025D; Wed, 14 May 2025 09:54:33 +0200 (CEST) Received: from mail-il1-f227.google.com (mail-il1-f227.google.com [209.85.166.227]) by mails.dpdk.org (Postfix) with ESMTP id E298240041 for ; Wed, 14 May 2025 09:54:31 +0200 (CEST) Received: by mail-il1-f227.google.com with SMTP id e9e14a558f8ab-3d96d16b369so59891275ab.0 for ; Wed, 14 May 2025 00:54:31 -0700 (PDT) DKIM-Signature: v=1; a=rsa-sha256; c=relaxed/relaxed; d=iol.unh.edu; s=unh-iol; t=1747209271; x=1747814071; darn=dpdk.org; h=cc:to:from:subject:message-id:date:from:to:cc:subject:date :message-id:reply-to; bh=SMXLLwWiEwUwN4QsdcJuLjdI7dcoAnndw/yWOTT8P9w=; b=ExHGNDqFi7Yt2h8k4kiBpcxHkIgiMqCYs+fCjT1h1kUQ0c05LBEthfBseXSNeMmDh7 jGbBNhGyug9eV629Ou15sBSgo7Q6a4j36/mJ/bxso23pHXmzC38XNTAdpL3ZYHGyTvnk UMCUJv2xyGj2okUpkMC4yxY0ZpCdYrV6F2n7M= X-Google-DKIM-Signature: v=1; a=rsa-sha256; c=relaxed/relaxed; d=1e100.net; s=20230601; t=1747209271; x=1747814071; h=cc:to:from:subject:message-id:date:x-gm-message-state:from:to:cc :subject:date:message-id:reply-to; bh=SMXLLwWiEwUwN4QsdcJuLjdI7dcoAnndw/yWOTT8P9w=; b=Lu7YmH0P9IL2sK/Roh48y+joUd3SKCiOyi3FC8pvCF34IEFTdk9p1D01EnQHY8jtR1 GutwcZEhfmfoHw9qQC9yfdFtKxFstd59jMVLD+Xep89u+yJd6A4Axj8zzwuqkvdZq/QW g44kqNqgRKK2YWVDXnnR9PDlFZT8IydAzsU0lg0b423v6cECsEuC35Hkt6p9GBfBSkXc fJe04yLoY3ROG7T9udo61v2EYkFM75JO21pZq8jfEkPPPOgQaEbcTM4j676R97kQ+8gk UT5Myg+Bw29hvut+aWpVeFCs0YkXw2g/729oS5PzhuMtZ+qDzEekgvJL58DdxKGReEZ/ 5OdA== X-Gm-Message-State: AOJu0Yx+CV5lg4mLxkq2+wSVX9kCpu9mhOkznMZRfxHCdfT6II0Y/Zm0 JJMZQf5HAgXjPj9oK4FwXw2JGApBTMdT665/I0yueMj+wZ598jn+PCOfcvm3vwACX94HrmA6Tn/ hkZr8TnW9QPLx+AICSEhYg9TuJnS26WK8 X-Gm-Gg: ASbGncvv3vJYOrvm8uHlJZrMpFaYaFtUEoGMRLdk6TfNxTQgDBcqnOMLw3eqgeGhU49 vYnXnYyIwYRsoe1jDksk9lRXVHRVDzyijQ/+ZM5PZnGSYIGHbWcjtlh0NrFpd6ET2K/LaYaTeus TTeXR5+tFf5gQ9OoMATIzgp/QALbyrW7tV/GC9lIqGAqyu77fFXCSznSCdrZ9HoTuD+jiB++lcf lN6iKm0HmmRMGnI3bsiBq8KLAZT6PCyoacMQ6rOza9PtnpJnzmK3CgXve7yun5H7AA5kHGUNp91 xt4i1BWlXPnjaEUiz/dFVfLvecyJOoBcMl5V9OQXQ/bOHogSJnobQbtXdt4= X-Google-Smtp-Source: AGHT+IH3FPy3X0FOhce6yxBXPwWhsvlbZLAtVlA+YRDhSIXW9ybxNSjtXcEY3zGVhnVvfZjNjn1N7eFewX+9 X-Received: by 2002:a05:6e02:1fc6:b0:3d9:39f3:f250 with SMTP id e9e14a558f8ab-3db6f794c00mr28900805ab.3.1747209271227; Wed, 14 May 2025 00:54:31 -0700 (PDT) Received: from postal.iol.unh.edu (postal.iol.unh.edu. [132.177.123.84]) by smtp-relay.gmail.com with ESMTPS id e9e14a558f8ab-3da7e0f9bfdsm7249255ab.6.2025.05.14.00.54.31 (version=TLS1_2 cipher=ECDHE-ECDSA-AES128-GCM-SHA256 bits=128/128); Wed, 14 May 2025 00:54:31 -0700 (PDT) X-Relaying-Domain: iol.unh.edu Date: Wed, 14 May 2025 00:54:31 -0700 (PDT) Message-ID: <68244c37.050a0220.65574.6c1dSMTPIN_ADDED_MISSING@mx.google.com> Received: from [172.17.0.2] (unknown [172.18.0.74]) by postal.iol.unh.edu (Postfix) with ESMTP id B13006052471; Wed, 14 May 2025 03:54:30 -0400 (EDT) Subject: |SUCCESS| [GIT MASTER] 4401486b5e30d43a134f80f9802f60b5f43e74a8 From: dpdklab@iol.unh.edu To: Test Report Cc: dpdk-test-reports@iol.unh.edu, Xueming Li , Christian Ehrhardt , Kevin Traynor , Luca Boccassi Content-Type: text/plain X-BeenThere: test-report@dpdk.org X-Mailman-Version: 2.1.29 Precedence: list List-Id: automatic DPDK test reports List-Unsubscribe: , List-Archive: List-Post: List-Help: List-Subscribe: , Errors-To: test-report-bounces@dpdk.org _Testing PASS_ Branch: tags/v22.11 4401486b5e30d43a134f80f9802f60b5f43e74a8 --> testing pass Upstream job id: ACVP-FIPS-testing#9801 Test environment and result as below: +--------------------+----------------------+----------------------+ | Environment | compressdev_zlib_pmd | dpdk_fips_validation | +====================+======================+======================+ | Ubuntu 22.04 (ARM) | PASS | SKIPPED | +--------------------+----------------------+----------------------+ | Ubuntu 22.04 | PASS | SKIPPED | +--------------------+----------------------+----------------------+ | Ubuntu 20.04 | SKIPPED | PASS | +--------------------+----------------------+----------------------+ Ubuntu 22.04 (ARM) Kernel: 5.15.0-97-generic Compiler: gcc gcc (Ubuntu 11.4.0-1ubuntu1~22.04) 11.4.0 Ubuntu 22.04 Kernel: 5.15.0-100-generic Compiler: gcc gcc (Ubuntu 11.4.0-1ubuntu1~22.04) 11.4.0 Ubuntu 20.04 Kernel: Depends on container host Compiler: gcc (Ubuntu 9.4.0-1ubuntu1~20.04.2) 9.4.0 To view detailed results, visit: https://lab.dpdk.org/results/dashboard/tarballs/33521/ UNH-IOL DPDK Community Lab To manage your email subscriptions, visit: https://lab.dpdk.org/results/dashboard/preferences/subscriptions/