From mboxrd@z Thu Jan 1 00:00:00 1970 Return-Path: Received: from mails.dpdk.org (mails.dpdk.org [217.70.189.124]) by inbox.dpdk.org (Postfix) with ESMTP id 8BD3D46742 for ; Wed, 14 May 2025 09:55:26 +0200 (CEST) Received: from mails.dpdk.org (localhost [127.0.0.1]) by mails.dpdk.org (Postfix) with ESMTP id 82CD34025D; Wed, 14 May 2025 09:55:26 +0200 (CEST) Received: from mail-pg1-f226.google.com (mail-pg1-f226.google.com [209.85.215.226]) by mails.dpdk.org (Postfix) with ESMTP id E257340041 for ; Wed, 14 May 2025 09:55:24 +0200 (CEST) Received: by mail-pg1-f226.google.com with SMTP id 41be03b00d2f7-7fd35b301bdso7321786a12.2 for ; Wed, 14 May 2025 00:55:24 -0700 (PDT) DKIM-Signature: v=1; a=rsa-sha256; c=relaxed/relaxed; d=iol.unh.edu; s=unh-iol; t=1747209324; x=1747814124; darn=dpdk.org; h=cc:to:from:subject:message-id:date:from:to:cc:subject:date :message-id:reply-to; bh=Hqpu3Y9Qm3JaBGLOZbrjn4wBwNOldDaApP5PUS1xbp0=; b=ZoTaVCN48XvGwvSGMQihdKDW8i7SnSS101JsQg/wZsSzEnLVhIlMM7QXJQO/Wz79hv jXPC1K8Td74uiUcFfGBVnajEfSjnrvCb5IFCj5xe5NlGOmgcgPSXdaDMmhWO3CdOUzjm U9hHXtd0nxtzpC8la52a5J9h+hSMEUKA0ddPM= X-Google-DKIM-Signature: v=1; a=rsa-sha256; c=relaxed/relaxed; d=1e100.net; s=20230601; t=1747209324; x=1747814124; h=cc:to:from:subject:message-id:date:x-gm-message-state:from:to:cc :subject:date:message-id:reply-to; bh=Hqpu3Y9Qm3JaBGLOZbrjn4wBwNOldDaApP5PUS1xbp0=; b=ShayUi+RDik3R8AtI+vML+Wv7cXgZ5xpi+Jtq5xLL3F06JwaiBc3l+vRyjqzJK+qHQ qiIYamYzWx6tl/lZDOMtqcA2ytBpwdUdwmUTGPLIKh29hMKKA5hH4yZ7zI+4l4FqA0bE HYiDxzGCjBwyVdeeSdHxes3MH0n+tBymXB3CTa7BHifuxKqyle05kdRjFxeLIAnbsQ0S yzrQhAuMGhLjdFBj8j+uCm4wwVSA/TeWOUt9QwrDR4UnKiqeVfoCqL6xtHJ0AW660aR/ 9OM0CXJa62wOGqbWcZH7Frv/HzdcdwQPXoo4NdFK8U4muiGv96ZGR16PM/E27+DWcOZh e1zg== X-Gm-Message-State: AOJu0YxCePf6nkBjEivLjRZSZmmnvk5fdWtJp8bEECKiMpsI7dIIfx10 9R+xVHVkEegkKfKneZYGeeene94VxxFS8YZOh0av7NjdzxuQW7xS16quRmxiFCxtj59H6HVBMLQ RZ80hKqtaiDaxNsV2bBAxgx8T5gZGz8GD X-Gm-Gg: ASbGnctGy14rW84OnundOOtfTEqK97JFkNu9StQNY58zNmbem06bpf967m1Efvxn59q b+eCLqPJd9I3znikFQslMUPmJgGqwEATXOdpIGdraGqJ3Ccw53FAfcdqOelISUV3aTqH2INFqWE KPoql+7fesU66v2DlYPXQLh15PeillpHBDC7P7eLnhMZLNurKXOVB+P7kbMDdI3n7TQ9/NiNejS apSOHS7UbWaGS15D/rq12v+Tc638YaJZgX7fCn8YDgSssiPXeejJVwghruo9eVqHg5wss0Ba0oC ionzx3QOW2o4synn2LIZOz+zKA7GyqHfa6akHNDuzAT64MxJN7nD3XrspJc= X-Google-Smtp-Source: AGHT+IEf6pN9HEcXGPi732EoGgCP7SicZB80S2ItJQ+fj6U03VyZXf7D1wmPdnHWnxmitZhhUhOXVU4Zsls1 X-Received: by 2002:a17:903:1109:b0:215:7421:262 with SMTP id d9443c01a7336-2319812565amr38197085ad.12.1747209324071; Wed, 14 May 2025 00:55:24 -0700 (PDT) Received: from postal.iol.unh.edu (postal.iol.unh.edu. [132.177.123.84]) by smtp-relay.gmail.com with ESMTPS id d9443c01a7336-22fc6f12e70sm6461455ad.95.2025.05.14.00.55.23 (version=TLS1_2 cipher=ECDHE-ECDSA-AES128-GCM-SHA256 bits=128/128); Wed, 14 May 2025 00:55:24 -0700 (PDT) X-Relaying-Domain: iol.unh.edu Date: Wed, 14 May 2025 00:55:24 -0700 (PDT) Message-ID: <68244c6c.170a0220.1ae4a9.2ba8SMTPIN_ADDED_MISSING@mx.google.com> Received: from [172.17.0.2] (unknown [172.18.0.76]) by postal.iol.unh.edu (Postfix) with ESMTP id 446F56052471; Wed, 14 May 2025 03:55:23 -0400 (EDT) Subject: |SUCCESS| [GIT MASTER] 4c5634de9f933555bab9c64a533d3dca999071cd From: dpdklab@iol.unh.edu To: Test Report Cc: dpdk-test-reports@iol.unh.edu, Xueming Li , Christian Ehrhardt , Kevin Traynor , Luca Boccassi Content-Type: text/plain X-BeenThere: test-report@dpdk.org X-Mailman-Version: 2.1.29 Precedence: list List-Id: automatic DPDK test reports List-Unsubscribe: , List-Archive: List-Post: List-Help: List-Subscribe: , Errors-To: test-report-bounces@dpdk.org _Testing PASS_ Branch: tags/v24.11 4c5634de9f933555bab9c64a533d3dca999071cd --> testing pass Upstream job id: Generic-DPDK-Compile-Meson#387701 Test environment and result as below: +------------------------------------+--------------------+ | Environment | dpdk_meson_compile | +====================================+====================+ | RHEL9 (ARM) | PASS | +------------------------------------+--------------------+ | Ubuntu 20.04 ARM GCC Cross Compile | PASS | +------------------------------------+--------------------+ | Debian 12 with MUSDK | PASS | +------------------------------------+--------------------+ | Ubuntu 20.04 ARM SVE | PASS | +------------------------------------+--------------------+ | Fedora 40 (ARM) | PASS | +------------------------------------+--------------------+ | Fedora 40 (ARM Clang) | PASS | +------------------------------------+--------------------+ | Ubuntu 20.04 (ARM) | PASS | +------------------------------------+--------------------+ | Fedora 41 (ARM Clang) | PASS | +------------------------------------+--------------------+ | Fedora 41 (ARM) | PASS | +------------------------------------+--------------------+ | Ubuntu 22.04 (ARM) | PASS | +------------------------------------+--------------------+ | CentOS Stream 10 (ARM) | PASS | +------------------------------------+--------------------+ | CentOS Stream 9 (ARM) | PASS | +------------------------------------+--------------------+ | Ubuntu 24.04 (ARM) | PASS | +------------------------------------+--------------------+ | Debian 12 (arm) | PASS | +------------------------------------+--------------------+ RHEL9 (ARM) Kernel: Depends on container host Compiler: gcc 11.5.0 20240719 (Red Hat 11.5.0-2) Ubuntu 20.04 ARM GCC Cross Compile Kernel: Depends on container host Compiler: aarch64-linux-gnu-gcc (Ubuntu 9.4.0-1ubuntu1~20.04.2) 9.4.0 Debian 12 with MUSDK Kernel: Depends on container host Compiler: gcc (Debian 12.2.0-14) 12.2.0 Ubuntu 20.04 ARM SVE Kernel: Depends on container host Compiler: gcc (Ubuntu 10.5.0-1ubuntu1~20.04) 10.5.0 Fedora 40 (ARM) Kernel: Depends on container host Compiler: gcc 14.2.1 20240912 (Red Hat 14.2.1-3) Fedora 40 (ARM Clang) Kernel: Depends on container host Compiler: clang 18.1.8 (Fedora 18.1.8-1.fc40) Ubuntu 20.04 (ARM) Kernel: Depends on container host Compiler: gcc (Ubuntu 9.4.0-1ubuntu1~20.04.2) 9.4.0 Fedora 41 (ARM Clang) Kernel: Depends on container host Compiler: clang 19.1.5 (Fedora 19.1.5-1.fc41) Fedora 41 (ARM) Kernel: Depends on container host Compiler: gcc 14.2.1 20240912 (Red Hat 14.2.1-3) Ubuntu 22.04 (ARM) Kernel: Depends on container host Compiler: gcc (Ubuntu 11.4.0-1ubuntu1~22.04) 11.4.0 CentOS Stream 10 (ARM) Kernel: Depends on container host Compiler: gcc 14.2.1 20241104 (Red Hat 14.2.1-6) CentOS Stream 9 (ARM) Kernel: Depends on container host Compiler: gcc 11.5.0 20240719 (Red Hat 11.5.0-2) Ubuntu 24.04 (ARM) Kernel: Depends on container host Compiler: gcc (Ubuntu 13.3.0-6ubuntu2~24.04) 13.3.0 Debian 12 (arm) Kernel: Depends on container host Compiler: gcc (Debian 12.2.0-14) 12.2.0 To view detailed results, visit: https://lab.dpdk.org/results/dashboard/tarballs/33520/ UNH-IOL DPDK Community Lab To manage your email subscriptions, visit: https://lab.dpdk.org/results/dashboard/preferences/subscriptions/