From mboxrd@z Thu Jan 1 00:00:00 1970 Return-Path: Received: from mails.dpdk.org (mails.dpdk.org [217.70.189.124]) by inbox.dpdk.org (Postfix) with ESMTP id 0909A46744 for ; Wed, 14 May 2025 10:32:58 +0200 (CEST) Received: from mails.dpdk.org (localhost [127.0.0.1]) by mails.dpdk.org (Postfix) with ESMTP id E24B34025D; Wed, 14 May 2025 10:32:57 +0200 (CEST) Received: from mail-io1-f99.google.com (mail-io1-f99.google.com [209.85.166.99]) by mails.dpdk.org (Postfix) with ESMTP id 00E5540041 for ; Wed, 14 May 2025 10:32:55 +0200 (CEST) Received: by mail-io1-f99.google.com with SMTP id ca18e2360f4ac-85e15dc801aso649579839f.2 for ; Wed, 14 May 2025 01:32:55 -0700 (PDT) DKIM-Signature: v=1; a=rsa-sha256; c=relaxed/relaxed; d=iol.unh.edu; s=unh-iol; t=1747211575; x=1747816375; darn=dpdk.org; h=cc:to:from:subject:message-id:date:from:to:cc:subject:date :message-id:reply-to; bh=kX7L+v7TNEBBMszTy42XRX4E0XyuwokiyM1rToxIqqw=; b=ETMY4TLHNAbLfCRN0rkHhECM7paAaX1wkamtJhmGy0HYEqsF90+UmXrRXHVBZZULpb Pjhq43dHVif1jR4k+PbabhOv0xLENlsVE4AEuf5IHJtsQPAOa7qQz8QQfI83CC/6xaHe 87Y2/SKJXXSlJt55p685pWYi/zLr6QaU3HZN4= X-Google-DKIM-Signature: v=1; a=rsa-sha256; c=relaxed/relaxed; d=1e100.net; s=20230601; t=1747211575; x=1747816375; h=cc:to:from:subject:message-id:date:x-gm-message-state:from:to:cc :subject:date:message-id:reply-to; bh=kX7L+v7TNEBBMszTy42XRX4E0XyuwokiyM1rToxIqqw=; b=kTN4NHNzi5Lqz762OQHQA8/g+6DR8dRymvVY6HK00HxIJ17Ed8ps359Z3NofsTa7aB 6Rp+jOZETCWJuTYT/phUHEAWhYhZV8lbjTINo6A/hBtS+ZAXWb6X/AavSIMuGb0BU+ii /O7UNlUs6SFkT7/Lb1SzXIfdn87W6XeDjCYTc9N0ot9u6mOLrBBwICcrze6KRT49AuZU tyio3qj+cLmVbdGsjKT5yV0lnSaDeWvpvPotoIPNW1WwbyDSv6gB66aX2ghl6f6wl8bE Q4Jus0jIwjJzFK2xnlE/In4s94OboLQsljgqCludoIOkngzu48vEToYd4lsHTGcwgcdk Dhlw== X-Gm-Message-State: AOJu0YwmmdoDtL7s/ib9N8q8Wg5tPNgGp2uwydAh4XA9nK+RAUND48tl d1UAMwH6o2crrDodzf9S1iqmwZxt9dd8MPgeaq2eRJjJSYTPal//o9AmVzN9sGAG496NZ9eyst0 4YDlekQo7kt7e27XYAxWo+9V9XguP1+nYgKWiVrWDg6z0+K/e X-Gm-Gg: ASbGncsXBwtGfIibvH+ljd3z2xqz/2mkA9iJZqZ8q93LORNrR1cIHioAiWJNvuwRd7Y 9XHxyvebaMMp6+Z4ncKf3TL8vwxHK4CUVRuy29vmviPYDB2qlIz+DpUWyO2xFCBn8qPw1wW3f66 j22fUwlXcy4B/a1iC6rw+UJXzawz5x40E2Y43hdm9Gi49GzCYMxpmsn83nJB/tGEXot5UySGi2E 8tV96ZrvjQnCI23QLr2RY6rnbXnQXhraxYbZSj1iSX0HCZRvz+DM9WytuxJImwVFkQL/Po7F7tn BrbLJRggJA9Jzk75qaRx6hh+17CgDVfXq/Bn X-Google-Smtp-Source: AGHT+IEYrGFg7VM1dGss/Y9/e7svIMaozZhe1KsaLbtulR/TA3oZwtwFjJ2Jsx3lw9TP49UhEVIZVNfbqtz1 X-Received: by 2002:a05:6602:29a2:b0:867:3889:45e2 with SMTP id ca18e2360f4ac-86a08e4ef7cmr236269739f.10.1747211575144; Wed, 14 May 2025 01:32:55 -0700 (PDT) Received: from postal.iol.unh.edu (postal.iol.unh.edu. [2606:4100:3880:1234::84]) by smtp-relay.gmail.com with ESMTPS id ca18e2360f4ac-867636b8959sm53821239f.18.2025.05.14.01.32.55 (version=TLS1_2 cipher=ECDHE-ECDSA-AES128-GCM-SHA256 bits=128/128); Wed, 14 May 2025 01:32:55 -0700 (PDT) X-Relaying-Domain: iol.unh.edu Date: Wed, 14 May 2025 01:32:55 -0700 (PDT) Message-ID: <68245537.050a0220.f788.c8afSMTPIN_ADDED_MISSING@mx.google.com> Received: from [172.17.0.4] (unknown [172.18.0.74]) by postal.iol.unh.edu (Postfix) with ESMTP id 7D60D6052471; Wed, 14 May 2025 04:32:54 -0400 (EDT) Subject: |SUCCESS| [GIT MASTER] 83a7a648344674c0269fcaeb71d8d16468421a0e From: dpdklab@iol.unh.edu To: Test Report Cc: dpdk-test-reports@iol.unh.edu, Xueming Li , Christian Ehrhardt , Kevin Traynor , Luca Boccassi Content-Type: text/plain X-BeenThere: test-report@dpdk.org X-Mailman-Version: 2.1.29 Precedence: list List-Id: automatic DPDK test reports List-Unsubscribe: , List-Archive: List-Post: List-Help: List-Subscribe: , Errors-To: test-report-bounces@dpdk.org _Testing PASS_ Branch: tags/v23.11 83a7a648344674c0269fcaeb71d8d16468421a0e --> testing pass Upstream job id: ACVP-FIPS-testing#9802 Test environment and result as below: +--------------------+----------------------+----------------------+ | Environment | compressdev_zlib_pmd | dpdk_fips_validation | +====================+======================+======================+ | Ubuntu 22.04 (ARM) | PASS | SKIPPED | +--------------------+----------------------+----------------------+ | Ubuntu 22.04 | PASS | SKIPPED | +--------------------+----------------------+----------------------+ | Ubuntu 20.04 | SKIPPED | PASS | +--------------------+----------------------+----------------------+ Ubuntu 22.04 (ARM) Kernel: 5.15.0-97-generic Compiler: gcc gcc (Ubuntu 11.4.0-1ubuntu1~22.04) 11.4.0 Ubuntu 22.04 Kernel: 5.15.0-100-generic Compiler: gcc gcc (Ubuntu 11.4.0-1ubuntu1~22.04) 11.4.0 Ubuntu 20.04 Kernel: Depends on container host Compiler: gcc (Ubuntu 9.4.0-1ubuntu1~20.04.2) 9.4.0 To view detailed results, visit: https://lab.dpdk.org/results/dashboard/tarballs/33522/ UNH-IOL DPDK Community Lab To manage your email subscriptions, visit: https://lab.dpdk.org/results/dashboard/preferences/subscriptions/