From mboxrd@z Thu Jan 1 00:00:00 1970 Return-Path: Received: from mails.dpdk.org (mails.dpdk.org [217.70.189.124]) by inbox.dpdk.org (Postfix) with ESMTP id BBB4A46744 for ; Wed, 14 May 2025 10:49:09 +0200 (CEST) Received: from mails.dpdk.org (localhost [127.0.0.1]) by mails.dpdk.org (Postfix) with ESMTP id B652D40650; Wed, 14 May 2025 10:49:09 +0200 (CEST) Received: from mail-yb1-f228.google.com (mail-yb1-f228.google.com [209.85.219.228]) by mails.dpdk.org (Postfix) with ESMTP id 51B274064F for ; Wed, 14 May 2025 10:49:08 +0200 (CEST) Received: by mail-yb1-f228.google.com with SMTP id 3f1490d57ef6-e733a6ff491so6579869276.2 for ; Wed, 14 May 2025 01:49:08 -0700 (PDT) DKIM-Signature: v=1; a=rsa-sha256; c=relaxed/relaxed; d=iol.unh.edu; s=unh-iol; t=1747212547; x=1747817347; darn=dpdk.org; h=cc:to:from:subject:message-id:date:from:to:cc:subject:date :message-id:reply-to; bh=OIDPw9yWEjA9GBZDGjcKtJafZEv97llqjVaApAYxNno=; b=B14+bz4+BYVlVGjOElv6uYdKRH0m9Aw9ZjiV91utIaTN7S9mIV2ppDtsMjWP+/mOem yZPTrgtI3YR4vNnBaspJhNFP+LVSPEkGR8U4gIJ2MFdZItm8w+JPD1699zigoI6Akwcv SntI762z8Fh6S/jMErBlUD2HRsJMhWzcGaFpc= X-Google-DKIM-Signature: v=1; a=rsa-sha256; c=relaxed/relaxed; d=1e100.net; s=20230601; t=1747212547; x=1747817347; h=cc:to:from:subject:message-id:date:x-gm-message-state:from:to:cc :subject:date:message-id:reply-to; bh=OIDPw9yWEjA9GBZDGjcKtJafZEv97llqjVaApAYxNno=; b=bJPdw6ox7Ln1//DiI6A0G10pSX5C8DMKk4Rl+ucGfKcfpXO9BWScHlxJP3ZF9vCBXl EFZm0L+r7Sf7VHY2IQ6SRG/1rY4XMDBvsWT0BCu5I1JYD2BIBVmdG9bUcjKvyeOSW6ET NpIsseREsN9d+0AEdfy2ni8q38fe4wJd1LuX5272UgjheRX7IyBqKQoCqcHyN2fmkLKr gAbNNBSEwCWcwPIS9ubXjdorKfenxdlUkclXT08alfrG+5FCZl/imTChBxYdUwJC/QWM OFtnfRD65/9YufzzHrUDlkYa1+OydtIRAqrFjM406reckDe28gr5PUU1+JygmMrAkLCU Sdvg== X-Gm-Message-State: AOJu0Ywvch+HhSO8B8LoKXQdO0nRBusmWyDqNryLB6oF+YzMjutHeZYk GTyYOvjocziBlgXaQkTN0+A9wBNqy09MWTtKkzUxe+67FFIRhQIaJzhEMIYv1KaOpUA9eF55giQ jC/p4QmVdvEYQ/+cxmpUvcx9RixmWKMjo X-Gm-Gg: ASbGncviZh6YQhxzFnijF9tv7ngPypeJaQZAEZaj+6knZRMcECqDwwelJBORZ3fqObw Qy0dgZ+iYbhmrcY2NmfMv+y6kt2mwWbNKOi7v1ICuxXWpCZvNzKp1Kb5RC+bTSWD8R7XQYIV/Jz EA+m7mYxeA7DgO3VTcbO+I6zuFxqmrqFIHivC0gUxcdHzA97WM9hAMuUtnWEWNgLBJUIDErFJUq sn+3jVLKg5U8sipE1Tt/Yd/MRl5MsAwKrBDk2LH/tJdnxOZvqtaIjVfjCIS5smJGtm/1+LWzx8A Sm6HVRNBwGnAO4fV2G/U8WDxBrFbe7DFVZUM6YAiuGlMfXeuAQ++GYBw6CY= X-Google-Smtp-Source: AGHT+IHMR1tIZ0n08C1KWXq7ZArbhzYLz3wWr6MtmgBPYhUG0uDFg/kMKJVKERIvGGK5sh+h+li4LUt1x3LD X-Received: by 2002:a05:6902:220f:b0:e73:1aeb:7bea with SMTP id 3f1490d57ef6-e7b3d4b7c80mr2921609276.2.1747212547731; Wed, 14 May 2025 01:49:07 -0700 (PDT) Received: from postal.iol.unh.edu (postal.iol.unh.edu. [132.177.123.84]) by smtp-relay.gmail.com with ESMTPS id 3f1490d57ef6-e78fd67f068sm697979276.28.2025.05.14.01.49.07 (version=TLS1_2 cipher=ECDHE-ECDSA-AES128-GCM-SHA256 bits=128/128); Wed, 14 May 2025 01:49:07 -0700 (PDT) X-Relaying-Domain: iol.unh.edu Date: Wed, 14 May 2025 01:49:07 -0700 (PDT) Message-ID: <68245903.250a0220.bdf78.5c0cSMTPIN_ADDED_MISSING@mx.google.com> Received: from [172.21.0.5] (unknown [172.18.0.240]) by postal.iol.unh.edu (Postfix) with ESMTP id 5F0AF6052471; Wed, 14 May 2025 04:49:07 -0400 (EDT) Subject: |SUCCESS| [GIT MASTER] 4401486b5e30d43a134f80f9802f60b5f43e74a8 From: dpdklab@iol.unh.edu To: Test Report Cc: dpdk-test-reports@iol.unh.edu, Xueming Li , Christian Ehrhardt , Kevin Traynor , Luca Boccassi Content-Type: text/plain X-BeenThere: test-report@dpdk.org X-Mailman-Version: 2.1.29 Precedence: list List-Id: automatic DPDK test reports List-Unsubscribe: , List-Archive: List-Post: List-Help: List-Subscribe: , Errors-To: test-report-bounces@dpdk.org _Testing PASS_ Branch: tags/v22.11 4401486b5e30d43a134f80f9802f60b5f43e74a8 --> testing pass Upstream job id: Generic-DPDK-Compile-Meson#387731 Test environment and result as below: +------------------------------------+--------------------+ | Environment | dpdk_meson_compile | +====================================+====================+ | Ubuntu 20.04 ARM SVE | PASS | +------------------------------------+--------------------+ | RHEL9 (ARM) | PASS | +------------------------------------+--------------------+ | Ubuntu 20.04 ARM GCC Cross Compile | PASS | +------------------------------------+--------------------+ | Debian 12 with MUSDK | PASS | +------------------------------------+--------------------+ | Fedora 41 (ARM Clang) | PASS | +------------------------------------+--------------------+ | Fedora 40 (ARM) | PASS | +------------------------------------+--------------------+ | Fedora 40 (ARM Clang) | PASS | +------------------------------------+--------------------+ | Ubuntu 20.04 (ARM) | PASS | +------------------------------------+--------------------+ | Fedora 41 (ARM) | PASS | +------------------------------------+--------------------+ | Ubuntu 22.04 (ARM) | PASS | +------------------------------------+--------------------+ | Ubuntu 24.04 (ARM) | PASS | +------------------------------------+--------------------+ | CentOS Stream 9 (ARM) | PASS | +------------------------------------+--------------------+ | CentOS Stream 10 (ARM) | PASS | +------------------------------------+--------------------+ | Debian 12 (arm) | PASS | +------------------------------------+--------------------+ Ubuntu 20.04 ARM SVE Kernel: Depends on container host Compiler: gcc (Ubuntu 10.5.0-1ubuntu1~20.04) 10.5.0 RHEL9 (ARM) Kernel: Depends on container host Compiler: gcc 11.5.0 20240719 (Red Hat 11.5.0-2) Ubuntu 20.04 ARM GCC Cross Compile Kernel: Depends on container host Compiler: aarch64-linux-gnu-gcc (Ubuntu 9.4.0-1ubuntu1~20.04.2) 9.4.0 Debian 12 with MUSDK Kernel: Depends on container host Compiler: gcc (Debian 12.2.0-14) 12.2.0 Fedora 41 (ARM Clang) Kernel: Depends on container host Compiler: clang 19.1.5 (Fedora 19.1.5-1.fc41) Fedora 40 (ARM) Kernel: Depends on container host Compiler: gcc 14.2.1 20240912 (Red Hat 14.2.1-3) Fedora 40 (ARM Clang) Kernel: Depends on container host Compiler: clang 18.1.8 (Fedora 18.1.8-1.fc40) Ubuntu 20.04 (ARM) Kernel: Depends on container host Compiler: gcc (Ubuntu 9.4.0-1ubuntu1~20.04.2) 9.4.0 Fedora 41 (ARM) Kernel: Depends on container host Compiler: gcc 14.2.1 20240912 (Red Hat 14.2.1-3) Ubuntu 22.04 (ARM) Kernel: Depends on container host Compiler: gcc (Ubuntu 11.4.0-1ubuntu1~22.04) 11.4.0 Ubuntu 24.04 (ARM) Kernel: Depends on container host Compiler: gcc (Ubuntu 13.3.0-6ubuntu2~24.04) 13.3.0 CentOS Stream 9 (ARM) Kernel: Depends on container host Compiler: gcc 11.5.0 20240719 (Red Hat 11.5.0-2) CentOS Stream 10 (ARM) Kernel: Depends on container host Compiler: gcc 14.2.1 20241104 (Red Hat 14.2.1-6) Debian 12 (arm) Kernel: Depends on container host Compiler: gcc (Debian 12.2.0-14) 12.2.0 To view detailed results, visit: https://lab.dpdk.org/results/dashboard/tarballs/33521/ UNH-IOL DPDK Community Lab To manage your email subscriptions, visit: https://lab.dpdk.org/results/dashboard/preferences/subscriptions/