From mboxrd@z Thu Jan 1 00:00:00 1970 Return-Path: Received: from mails.dpdk.org (mails.dpdk.org [217.70.189.124]) by inbox.dpdk.org (Postfix) with ESMTP id DBB3246744 for ; Wed, 14 May 2025 11:10:55 +0200 (CEST) Received: from mails.dpdk.org (localhost [127.0.0.1]) by mails.dpdk.org (Postfix) with ESMTP id B5B9F40650; Wed, 14 May 2025 11:10:55 +0200 (CEST) Received: from mail-io1-f100.google.com (mail-io1-f100.google.com [209.85.166.100]) by mails.dpdk.org (Postfix) with ESMTP id 10D974064F for ; Wed, 14 May 2025 11:10:54 +0200 (CEST) Received: by mail-io1-f100.google.com with SMTP id ca18e2360f4ac-861525e9b0aso627312339f.3 for ; Wed, 14 May 2025 02:10:53 -0700 (PDT) DKIM-Signature: v=1; a=rsa-sha256; c=relaxed/relaxed; d=iol.unh.edu; s=unh-iol; t=1747213853; x=1747818653; darn=dpdk.org; h=references:in-reply-to:cc:to:from:subject:message-id:date:from:to :cc:subject:date:message-id:reply-to; bh=FD85MbQkF6OJCtwlZlqFPTibpCrwW2Rjbg8pEtYEaeA=; b=eYTbWfjLlF045Mhli0SANoRkJ6ZPT+kET4vKwT2arqfYhNV3PAdSLglPX4qvxWcuuS rYbaTyZRVS4AZX+LhscgMz81RCgM0Vv7nSu+ewsFsLTimvaeEwvZWXXBqUPjVGqQ7Tf7 NAabUqP/M84FaDaEPLGJxoaHOlqXkyZFcLM1Y= X-Google-DKIM-Signature: v=1; a=rsa-sha256; c=relaxed/relaxed; d=1e100.net; s=20230601; t=1747213853; x=1747818653; h=references:in-reply-to:cc:to:from:subject:message-id:date :x-gm-message-state:from:to:cc:subject:date:message-id:reply-to; bh=FD85MbQkF6OJCtwlZlqFPTibpCrwW2Rjbg8pEtYEaeA=; b=hGm6i9RzsS9BLgKJHbmatAQXt5Sbu6UHf+iWnBy4xhlQZTqUdxDQ1btvgjhDWu9dLl dzsUd6G+kLDoOsUY3MMVoG+OlQ7rfQOR88XbMxMHMNuVtLBJgDaUTOVsqGUIxksuPctN 8PgfwryVX/rk2GjUJYDLMQaYPgZRPwmFTsnUuafrAY4943NMut2lDfG8kAu+G7SCtlzt KQClcLyS7YaxhWUfFh65gmT0qzd9FxyudYpOc5fqZ6lO6xTSZ8XyfqbbCBmSA0+6qz54 enRqYQrtNOcKxirr0eRm20uBfP5NJOF8Ha5paUBU13sqdEqQESubDfbq1JLXYYYR489g E8vw== X-Gm-Message-State: AOJu0YxebM8JE7tQl9fANcpXyjLjwf3r6HMqIBxnLpvn13eVFzqww/Zb LEfws9CibIMwQ35VHFiS8hEOfke0zqQHSgsaLLZCuilF/pU3775adNUKBdGjlMR6zhwK2DIRcg4 6huNPt6J5n6+nIqdvQ2feH/0ccQ13cCF9T1mb7IUx6cN0nbQMugvyJDjU X-Gm-Gg: ASbGnctYbQPbkqFVouYVteBEiHQZvYOddQwU2xoPdbjjjHUtdDbqR5nSO4Erl3mtBIM LFuQC3m49C2eEAh7I1fgVaAlIpPFQcn7MckASZunLThDEN0bHdKCJuTrJHKhPsmZmP15Dgl9pNo NXpyo3di7Rw5WaOVacIHlWhVo3yciGRyOYzaB7nBwkBjIpwRzEdRf85oiIfekUoatzYbMA4RuuB n7bN+oZSh/kYvxMtsgIAQYDLVOS75oNfYbFOgfy+AZKQz510NfqBOrAQ3R7+mOtzawzeeykaKwp sJWPDXVxdG/Aww/4M4gZKiAZbb3ipCrPq4U+ X-Google-Smtp-Source: AGHT+IEWJOE1RFW00JMsIrMX4kjVyAxgzE+SSbVm/EySvUfr7+xDbDmIq4g7Lb0qhNbtytdx2ROksyd4gLn0 X-Received: by 2002:a05:6e02:1785:b0:3d3:d00c:3602 with SMTP id e9e14a558f8ab-3db6f7a4048mr25432125ab.10.1747213853231; Wed, 14 May 2025 02:10:53 -0700 (PDT) Received: from postal.iol.unh.edu (postal.iol.unh.edu. [2606:4100:3880:1234::84]) by smtp-relay.gmail.com with ESMTPS id e9e14a558f8ab-3da7e115605sm7507465ab.41.2025.05.14.02.10.53 (version=TLS1_2 cipher=ECDHE-ECDSA-AES128-GCM-SHA256 bits=128/128); Wed, 14 May 2025 02:10:53 -0700 (PDT) X-Relaying-Domain: iol.unh.edu Date: Wed, 14 May 2025 02:10:53 -0700 (PDT) Message-ID: <68245e1d.920a0220.205e2a.7d71SMTPIN_ADDED_MISSING@mx.google.com> Received: from [172.17.0.2] (unknown [172.18.0.74]) by postal.iol.unh.edu (Postfix) with ESMTP id ABDF16052471; Wed, 14 May 2025 05:10:52 -0400 (EDT) Subject: |SUCCESS| pw153434 [PATCH] net/mlx5: fix mark action value in shared From: dpdklab@iol.unh.edu To: Test Report Cc: dpdk-test-reports@iol.unh.edu In-Reply-To: <20250514075018.67370-1-getelson@nvidia.com> References: <20250514075018.67370-1-getelson@nvidia.com> Content-Type: text/plain X-BeenThere: test-report@dpdk.org X-Mailman-Version: 2.1.29 Precedence: list List-Id: automatic DPDK test reports List-Unsubscribe: , List-Archive: List-Post: List-Help: List-Subscribe: , Errors-To: test-report-bounces@dpdk.org Test-Label: iol-abi-testing Test-Status: SUCCESS http://dpdk.org/patch/153434 _Testing PASS_ Submitter: Gregory Etelson Date: Wednesday, May 14 2025 07:50:18 DPDK git baseline: Repo:dpdk Branch: master CommitID:0c02b2799a521c45ed72c3f2f011b76d994ebc6a 153434 --> testing pass Upstream job id: Generic-DPDK-Compile-ABI#126303 Test environment and result as below: +-------------------+----------+ | Environment | abi_test | +===================+==========+ | CentOS Stream 9 | PASS | +-------------------+----------+ | CentOS Stream 10 | PASS | +-------------------+----------+ | Debian 12 | PASS | +-------------------+----------+ | Fedora 40 (Clang) | PASS | +-------------------+----------+ | Fedora 41 (Clang) | PASS | +-------------------+----------+ | Fedora 40 | PASS | +-------------------+----------+ | Fedora 41 | PASS | +-------------------+----------+ | openSUSE Leap 15 | PASS | +-------------------+----------+ | RHEL8 | PASS | +-------------------+----------+ | RHEL9 | PASS | +-------------------+----------+ | Ubuntu 22.04 | PASS | +-------------------+----------+ | Ubuntu 24.04 | PASS | +-------------------+----------+ CentOS Stream 9 Kernel: Depends on container host Compiler: gcc 11.5.0 20240719 (Red Hat 11.5.0-2) CentOS Stream 10 Kernel: Depends on container host Compiler: gcc 14.2.1 20241104 (Red Hat 14.2.1-6) Debian 12 Kernel: Depends on container host Compiler: gcc (Debian 12.2.0-14) 12.2.0 Fedora 40 (Clang) Kernel: Depends on container host Compiler: clang 18.1.8 (Fedora 18.1.8-1.fc40) Fedora 41 (Clang) Kernel: Depends on container host Compiler: clang 19.1.5 (Fedora 19.1.5-1.fc41) Fedora 40 Kernel: Depends on container host Compiler: gcc 14.2.1 20240912 (Red Hat 14.2.1-3) Fedora 41 Kernel: Depends on container host Compiler: gcc 14.2.1 20240912 (Red Hat 14.2.1-3) openSUSE Leap 15 Kernel: Depends on container host Compiler: gcc (SUSE Linux) 7.5.0 RHEL8 Kernel: Depends on container host Compiler: gcc 8.5.0 20210514 (Red Hat 8.5.0-22) RHEL9 Kernel: Depends on container host Compiler: gcc 11.5.0 20240719 (Red Hat 11.5.0-2) Ubuntu 22.04 Kernel: Depends on container host Compiler: gcc (Ubuntu 11.4.0-1ubuntu1~22.04) 11.4.0 Ubuntu 24.04 Kernel: Depends on container host Compiler: gcc (Ubuntu 13.3.0-6ubuntu2~24.04) 13.3.0 To view detailed results, visit: https://lab.dpdk.org/results/dashboard/patchsets/33166/ UNH-IOL DPDK Community Lab To manage your email subscriptions, visit: https://lab.dpdk.org/results/dashboard/preferences/subscriptions/