From mboxrd@z Thu Jan 1 00:00:00 1970 Return-Path: Received: from mails.dpdk.org (mails.dpdk.org [217.70.189.124]) by inbox.dpdk.org (Postfix) with ESMTP id 8BFB246744 for ; Wed, 14 May 2025 11:23:16 +0200 (CEST) Received: from mails.dpdk.org (localhost [127.0.0.1]) by mails.dpdk.org (Postfix) with ESMTP id 868D140661; Wed, 14 May 2025 11:23:16 +0200 (CEST) Received: from mail-il1-f228.google.com (mail-il1-f228.google.com [209.85.166.228]) by mails.dpdk.org (Postfix) with ESMTP id 596514065D for ; Wed, 14 May 2025 11:23:15 +0200 (CEST) Received: by mail-il1-f228.google.com with SMTP id e9e14a558f8ab-3d812103686so2721915ab.0 for ; Wed, 14 May 2025 02:23:15 -0700 (PDT) DKIM-Signature: v=1; a=rsa-sha256; c=relaxed/relaxed; d=iol.unh.edu; s=unh-iol; t=1747214594; x=1747819394; darn=dpdk.org; h=references:in-reply-to:cc:to:from:subject:message-id:date:from:to :cc:subject:date:message-id:reply-to; bh=1V+KVL0YGkyPGSF/und5rNeQwljByUrgeI5hDm9DM+c=; b=RnWBQkM7JkBm1ogEQUu2AMt5kyo2iH4lLar9MiybftdRgSN+5bBmr2epEC3r8ad95Z 7tdKXOsBYeovufurLHj5Oy7wcPrTrX1w+eDUC3kcLDcc4dE6Qs1/TOvoOvN0QaYOkv6p O3oDV37/PgyfpqAO8ONgrTf7iIzJ7GMIroQko= X-Google-DKIM-Signature: v=1; a=rsa-sha256; c=relaxed/relaxed; d=1e100.net; s=20230601; t=1747214594; x=1747819394; h=references:in-reply-to:cc:to:from:subject:message-id:date :x-gm-message-state:from:to:cc:subject:date:message-id:reply-to; bh=1V+KVL0YGkyPGSF/und5rNeQwljByUrgeI5hDm9DM+c=; b=SPnrBFRXCq7TLaJXWMsua6fKHyHhaPJIBaz2U3+fwbgUO7fx5JHsWvKc5hWYyvmBtG jp4Tt0gJTDb4oSutLpUA92spXQaqOhiSdQuFKkklzh0f3bO1PeBBj6vyIJkvugDB39QX LIeQNPbQd6fy5eJ3fgKR1rhlQ9x1AMm2BtKGkBTEronM35B0D20WS9TXviltYMXeBTgt WK4fmEBz9QolhsjipVqndC/rQTwx4IJUALF+utrw6m5J4JJB/hrhmkyt68MTDt0KSGzY lSjfjlEAR2SKougO9gAMGybZZ/AAh4nAQT30+u5Ovz0hqWQUpsgYnD2QNzoLmscKHTwG 50/A== X-Gm-Message-State: AOJu0Yyp+fdtEaoRPYE7t+/EAgW5SGlpihF8N22lTkgzOuH0BiDSrz16 l92WgTxWsgYQ7XoL9RtOKCbohG0NiO8vXNvLkNzU0RcyKM60/KTJyDYZlaWDnQ/lvGD9wWrRcpf ycF+O6lwRPgI2nh4JBV8F1jmVUDgnlGp4ioaakQqA X-Gm-Gg: ASbGncvsOs/01Qetqn3y30rECQRolhgxsBbEzH43oWA/gxLTcAfZKUB+TLYDhMw6LJr A/a+lKEJHDKIW0PWCF0OkLKUR4i6P36k8uoa3J658vr0CmQaCm7KlgywWdDIZ8U3LA4kYn8KChy LWN3f7EZR7X9LmJlfIYzviftbk3IZ+r0DVOYLweLWPpN7F0cJPVZdkwQdaQlEa1kS5zkKxRlM2x PCqZBpxkMw5czt1Dos7xrwCgqkDdnl8bNLECarZouVAD/toZ/fLah2/yDcUP52R9qxIwKxEBV7F GPOwZTxhEgfz3skphZaEsbyZHmHGsrfigO82GvaLV/79h9KrV54fE4VogCM= X-Google-Smtp-Source: AGHT+IGO+7oJYqLA4lyyTZo8zqnM9XyFUX+S26rNY6tFvfU/S00ZmWNc08+1jdGbup9EMAL7Y3MFnOLtI7FX X-Received: by 2002:a05:6e02:18cb:b0:3d4:2ea4:6b87 with SMTP id e9e14a558f8ab-3db6f5d5a42mr24917285ab.11.1747214594612; Wed, 14 May 2025 02:23:14 -0700 (PDT) Received: from postal.iol.unh.edu (postal.iol.unh.edu. [132.177.123.84]) by smtp-relay.gmail.com with ESMTPS id e9e14a558f8ab-3da7e15bc98sm7081625ab.51.2025.05.14.02.23.14 (version=TLS1_2 cipher=ECDHE-ECDSA-AES128-GCM-SHA256 bits=128/128); Wed, 14 May 2025 02:23:14 -0700 (PDT) X-Relaying-Domain: iol.unh.edu Date: Wed, 14 May 2025 02:23:14 -0700 (PDT) Message-ID: <68246102.050a0220.3b2150.5eb6SMTPIN_ADDED_MISSING@mx.google.com> Received: from [172.17.0.3] (unknown [172.18.0.76]) by postal.iol.unh.edu (Postfix) with ESMTP id 2116E6052471; Wed, 14 May 2025 05:23:14 -0400 (EDT) Subject: |SUCCESS| pw153434 [PATCH] net/mlx5: fix mark action value in shared From: dpdklab@iol.unh.edu To: Test Report Cc: dpdk-test-reports@iol.unh.edu In-Reply-To: <20250514075018.67370-1-getelson@nvidia.com> References: <20250514075018.67370-1-getelson@nvidia.com> Content-Type: text/plain X-BeenThere: test-report@dpdk.org X-Mailman-Version: 2.1.29 Precedence: list List-Id: automatic DPDK test reports List-Unsubscribe: , List-Archive: List-Post: List-Help: List-Subscribe: , Errors-To: test-report-bounces@dpdk.org Test-Label: iol-unit-amd64-testing Test-Status: SUCCESS http://dpdk.org/patch/153434 _Testing PASS_ Submitter: Gregory Etelson Date: Wednesday, May 14 2025 07:50:18 DPDK git baseline: Repo:dpdk Branch: master CommitID:0c02b2799a521c45ed72c3f2f011b76d994ebc6a 153434 --> testing pass Upstream job id: Generic-VM-Unit-Test-DPDK#28505 Test environment and result as below: +---------------------+----------------+ | Environment | dpdk_unit_test | +=====================+================+ | CentOS Stream 9 | PASS | +---------------------+----------------+ | CentOS Stream 10 | PASS | +---------------------+----------------+ | Debian 12 | PASS | +---------------------+----------------+ | RHEL9 | PASS | +---------------------+----------------+ | Fedora 41 | PASS | +---------------------+----------------+ | RHEL8 | PASS | +---------------------+----------------+ | Fedora 40 (Clang) | PASS | +---------------------+----------------+ | Fedora 40 | PASS | +---------------------+----------------+ | Fedora 41 (Clang) | PASS | +---------------------+----------------+ | Ubuntu 20.04 | PASS | +---------------------+----------------+ | Ubuntu 24.04 | PASS | +---------------------+----------------+ | Ubuntu 22.04 | PASS | +---------------------+----------------+ | Windows Server 2022 | PASS | +---------------------+----------------+ CentOS Stream 9 Kernel: Depends on container host Compiler: gcc 11.5.0 20240719 (Red Hat 11.5.0-2) CentOS Stream 10 Kernel: Depends on container host Compiler: gcc 14.2.1 20241104 (Red Hat 14.2.1-6) Debian 12 Kernel: Depends on container host Compiler: gcc (Debian 12.2.0-14) 12.2.0 RHEL9 Kernel: Depends on container host Compiler: gcc 11.5.0 20240719 (Red Hat 11.5.0-2) Fedora 41 Kernel: Depends on container host Compiler: gcc 14.2.1 20240912 (Red Hat 14.2.1-3) RHEL8 Kernel: Depends on container host Compiler: gcc 8.5.0 20210514 (Red Hat 8.5.0-22) Fedora 40 (Clang) Kernel: Depends on container host Compiler: clang 18.1.8 (Fedora 18.1.8-1.fc40) Fedora 40 Kernel: Depends on container host Compiler: gcc 14.2.1 20240912 (Red Hat 14.2.1-3) Fedora 41 (Clang) Kernel: Depends on container host Compiler: clang 19.1.5 (Fedora 19.1.5-1.fc41) Ubuntu 20.04 Kernel: Depends on container host Compiler: gcc (Ubuntu 9.4.0-1ubuntu1~20.04.2) 9.4.0 Ubuntu 24.04 Kernel: Depends on container host Compiler: gcc (Ubuntu 13.3.0-6ubuntu2~24.04) 13.3.0 Ubuntu 22.04 Kernel: Depends on container host Compiler: gcc (Ubuntu 11.4.0-1ubuntu1~22.04) 11.4.0 Windows Server 2022 Kernel: 10.0.20348.2031 Compiler: clang 15.0.7, gcc 14.1.0 (MinGW), and MSVC VS 19.39.33521 To view detailed results, visit: https://lab.dpdk.org/results/dashboard/patchsets/33166/ UNH-IOL DPDK Community Lab To manage your email subscriptions, visit: https://lab.dpdk.org/results/dashboard/preferences/subscriptions/