From mboxrd@z Thu Jan 1 00:00:00 1970 Return-Path: Received: from mails.dpdk.org (mails.dpdk.org [217.70.189.124]) by inbox.dpdk.org (Postfix) with ESMTP id 33DA446744 for ; Wed, 14 May 2025 11:32:13 +0200 (CEST) Received: from mails.dpdk.org (localhost [127.0.0.1]) by mails.dpdk.org (Postfix) with ESMTP id 305044064F; Wed, 14 May 2025 11:32:13 +0200 (CEST) Received: from mail-il1-f226.google.com (mail-il1-f226.google.com [209.85.166.226]) by mails.dpdk.org (Postfix) with ESMTP id 53B6A402C8 for ; Wed, 14 May 2025 11:32:12 +0200 (CEST) Received: by mail-il1-f226.google.com with SMTP id e9e14a558f8ab-3d90208e922so33215355ab.3 for ; Wed, 14 May 2025 02:32:12 -0700 (PDT) DKIM-Signature: v=1; a=rsa-sha256; c=relaxed/relaxed; d=iol.unh.edu; s=unh-iol; t=1747215131; x=1747819931; darn=dpdk.org; h=references:in-reply-to:cc:to:from:subject:message-id:date:from:to :cc:subject:date:message-id:reply-to; bh=8qsZpcbOWp9YQifmuo/w17cei50mnj/gOK2g0n14JiI=; b=jX/gESBNjsc4KN5vilKmAFcCeEtZooBaWNQJMkAlfnnuI0c/LOHuQ7/83FppFxLdh1 H9f0Z4kGC4JC8zH7dDeK8lvGP7Tgg4tDM6/gUbDPBS/UY7RZsQVZpYbBMvl+o9tdFmL5 PFmi4c37xpU6JPhx04grzsR1n8L9Z1yY23KhU= X-Google-DKIM-Signature: v=1; a=rsa-sha256; c=relaxed/relaxed; d=1e100.net; s=20230601; t=1747215131; x=1747819931; h=references:in-reply-to:cc:to:from:subject:message-id:date :x-gm-message-state:from:to:cc:subject:date:message-id:reply-to; bh=8qsZpcbOWp9YQifmuo/w17cei50mnj/gOK2g0n14JiI=; b=BHFyVUvda9jH4Nc6j98fhhGyp0vA/4oWcRdfkc3wpllAo2OzrC9zJRzu2yCncb2ZpF +H8opCbiCe4XsSIEG5vXp+Iu0u+ZcuvY9rDRzi/P3RC7yzgT4jUfPHOD+zDATHMSM8lX ChDkVlnxWEZX1vG4FfnK6gy0NwkocpoqZGMhKx40qmceVcKpXDdjBOZEjZnch2BybbJP hBoCCvs3LGbBKxJ1qyOeLISYkNnB4H8jCHdcHzGhKX5suU3IhwS7px5/rGAGhSLujPnk JN8QuKkiZpxZM//t/hUU1FkAETqR3noa6VgEZ+O4rXHXEiUnkHsFsi5Z7N/hHTyYOFp3 3QZg== X-Gm-Message-State: AOJu0YzP8rU0lYCXKnrnTm5xi48QbszUi9YKz5lc7Qk0ZnplQ6y0DCzt Q95hiZGA4w1g9f3bjffH9/Lu1mlqnV80B2jgIIrk6SaTubj8OM7mNl4Un9eq15TZFZr769MQ6Ao U11cg+sUOiNF85iWME2F3wpSXUnpvcrG/G/eDSJ/J7zGmc8dhSJAopXS7 X-Gm-Gg: ASbGncsxURb3OiMxf9rgAi7cIt6n+BXHWG18XS/nQkCHZfHl6bGZVycau/crSnxhBoh yc6tNIA4vqw3e0qZVz3gkkcageClcnwDr//gIx0KOMujFbbALVFQ+4pM7MhZtu1kmyygn/NhTpn Z0F039HYkfqhbV+9s1lbfkurF29IboEZnpqRQVuki993Ix1BLd/gfrJn6cX1Ec0CPBIXffA6Suf KUT9mJhzEh6/z2IBYCt/F9tNCDSULAgsyrJBa+6R/J8yWYLR/JwVfEi6YEfRnbm1om9IJvh5IRd RGNZBVAjoE+scsFU6V2DKn8pCGXv6yVSkD7I X-Google-Smtp-Source: AGHT+IE+V8YtNlTvTEr/QMp29lHJVZMo52qUyOucjSMf1EmJK8GvEVJZrc7eKNoHfYRVtDKodxr3a9irU7Uu X-Received: by 2002:a05:6e02:b46:b0:3d8:1d0e:5308 with SMTP id e9e14a558f8ab-3db6f7a270cmr27437225ab.6.1747215131603; Wed, 14 May 2025 02:32:11 -0700 (PDT) Received: from postal.iol.unh.edu (postal.iol.unh.edu. [2606:4100:3880:1234::84]) by smtp-relay.gmail.com with ESMTPS id e9e14a558f8ab-3da7e163732sm6967625ab.59.2025.05.14.02.32.11 (version=TLS1_2 cipher=ECDHE-ECDSA-AES128-GCM-SHA256 bits=128/128); Wed, 14 May 2025 02:32:11 -0700 (PDT) X-Relaying-Domain: iol.unh.edu Date: Wed, 14 May 2025 02:32:11 -0700 (PDT) Message-ID: <6824631b.050a0220.311d71.48afSMTPIN_ADDED_MISSING@mx.google.com> Received: from [172.17.0.3] (unknown [172.18.0.76]) by postal.iol.unh.edu (Postfix) with ESMTP id 297B26052471; Wed, 14 May 2025 05:32:11 -0400 (EDT) Subject: |SUCCESS| pw153434 [PATCH] net/mlx5: fix mark action value in shared From: dpdklab@iol.unh.edu To: Test Report Cc: dpdk-test-reports@iol.unh.edu In-Reply-To: <20250514075018.67370-1-getelson@nvidia.com> References: <20250514075018.67370-1-getelson@nvidia.com> Content-Type: text/plain X-BeenThere: test-report@dpdk.org X-Mailman-Version: 2.1.29 Precedence: list List-Id: automatic DPDK test reports List-Unsubscribe: , List-Archive: List-Post: List-Help: List-Subscribe: , Errors-To: test-report-bounces@dpdk.org Test-Label: iol-unit-amd64-testing Test-Status: SUCCESS http://dpdk.org/patch/153434 _Testing PASS_ Submitter: Gregory Etelson Date: Wednesday, May 14 2025 07:50:18 DPDK git baseline: Repo:dpdk Branch: master CommitID:0c02b2799a521c45ed72c3f2f011b76d994ebc6a 153434 --> testing pass Upstream job id: Generic-VM-Unit-Test-DPDK#28506 Test environment and result as below: +---------------------+----------------+ | Environment | dpdk_unit_test | +=====================+================+ | CentOS Stream 9 | PASS | +---------------------+----------------+ | CentOS Stream 10 | PASS | +---------------------+----------------+ | Debian 12 | PASS | +---------------------+----------------+ | RHEL9 | PASS | +---------------------+----------------+ | Fedora 41 | PASS | +---------------------+----------------+ | RHEL8 | PASS | +---------------------+----------------+ | Fedora 40 (Clang) | PASS | +---------------------+----------------+ | Fedora 40 | PASS | +---------------------+----------------+ | Fedora 41 (Clang) | PASS | +---------------------+----------------+ | Ubuntu 20.04 | PASS | +---------------------+----------------+ | Ubuntu 24.04 | PASS | +---------------------+----------------+ | Ubuntu 22.04 | PASS | +---------------------+----------------+ | Windows Server 2022 | PASS | +---------------------+----------------+ CentOS Stream 9 Kernel: Depends on container host Compiler: gcc 11.5.0 20240719 (Red Hat 11.5.0-2) CentOS Stream 10 Kernel: Depends on container host Compiler: gcc 14.2.1 20241104 (Red Hat 14.2.1-6) Debian 12 Kernel: Depends on container host Compiler: gcc (Debian 12.2.0-14) 12.2.0 RHEL9 Kernel: Depends on container host Compiler: gcc 11.5.0 20240719 (Red Hat 11.5.0-2) Fedora 41 Kernel: Depends on container host Compiler: gcc 14.2.1 20240912 (Red Hat 14.2.1-3) RHEL8 Kernel: Depends on container host Compiler: gcc 8.5.0 20210514 (Red Hat 8.5.0-22) Fedora 40 (Clang) Kernel: Depends on container host Compiler: clang 18.1.8 (Fedora 18.1.8-1.fc40) Fedora 40 Kernel: Depends on container host Compiler: gcc 14.2.1 20240912 (Red Hat 14.2.1-3) Fedora 41 (Clang) Kernel: Depends on container host Compiler: clang 19.1.5 (Fedora 19.1.5-1.fc41) Ubuntu 20.04 Kernel: Depends on container host Compiler: gcc (Ubuntu 9.4.0-1ubuntu1~20.04.2) 9.4.0 Ubuntu 24.04 Kernel: Depends on container host Compiler: gcc (Ubuntu 13.3.0-6ubuntu2~24.04) 13.3.0 Ubuntu 22.04 Kernel: Depends on container host Compiler: gcc (Ubuntu 11.4.0-1ubuntu1~22.04) 11.4.0 Windows Server 2022 Kernel: 10.0.20348.2031 Compiler: clang 15.0.7, gcc 14.1.0 (MinGW), and MSVC VS 19.39.33521 To view detailed results, visit: https://lab.dpdk.org/results/dashboard/patchsets/33166/ UNH-IOL DPDK Community Lab To manage your email subscriptions, visit: https://lab.dpdk.org/results/dashboard/preferences/subscriptions/