From mboxrd@z Thu Jan 1 00:00:00 1970 Return-Path: Received: from mails.dpdk.org (mails.dpdk.org [217.70.189.124]) by inbox.dpdk.org (Postfix) with ESMTP id C46EE46744 for ; Wed, 14 May 2025 11:37:26 +0200 (CEST) Received: from mails.dpdk.org (localhost [127.0.0.1]) by mails.dpdk.org (Postfix) with ESMTP id BD8304064F; Wed, 14 May 2025 11:37:26 +0200 (CEST) Received: from mail-pf1-f225.google.com (mail-pf1-f225.google.com [209.85.210.225]) by mails.dpdk.org (Postfix) with ESMTP id 74A5B402C8 for ; Wed, 14 May 2025 11:37:25 +0200 (CEST) Received: by mail-pf1-f225.google.com with SMTP id d2e1a72fcca58-7426c44e014so3176282b3a.3 for ; Wed, 14 May 2025 02:37:25 -0700 (PDT) DKIM-Signature: v=1; a=rsa-sha256; c=relaxed/relaxed; d=iol.unh.edu; s=unh-iol; t=1747215444; x=1747820244; darn=dpdk.org; h=references:in-reply-to:cc:to:from:subject:message-id:date:from:to :cc:subject:date:message-id:reply-to; bh=IOOB29bfjtpqkr8Vhlaf5PfIiVSPe53rVmbU5NveIOA=; b=M0ZkXgSwuvZSVEdmsYO2B/H5ayWgisETxZ2rxj2bZYi0GytPnDiEGsgrVVcWcH09DA inrG62GucmkF31LTkPkwubLAhyrptv+a+d4bXqvywfQA1QOxT+6r4y0DM22pYGVb82+1 J9/swv81DFHErTZBAipAqlwi/tQ9KS7zWd8As= X-Google-DKIM-Signature: v=1; a=rsa-sha256; c=relaxed/relaxed; d=1e100.net; s=20230601; t=1747215444; x=1747820244; h=references:in-reply-to:cc:to:from:subject:message-id:date :x-gm-message-state:from:to:cc:subject:date:message-id:reply-to; bh=IOOB29bfjtpqkr8Vhlaf5PfIiVSPe53rVmbU5NveIOA=; b=RM23DAXKvypQ41TP4j6fDv51GSWX1V5OOJNR347Zgep0kFO736K1TbcCPcxGINs2wx G1hf+ttMnBe4bCKko9uEb6acl4CnluXI2JCz9mkl69OqF3sPDzHrwRWi/Uw7CFABzo7l S3cYQ0Feb7lvj3+/dlBNpWp9TwYMdBuZwJeyK3X234+h1Jd5uBciWX70jiW30YIOEipf 2oQZvrDAUSQ3H5dvlhOb3TddxlFYg49om36aVWyY2RM6M+BWowFrKcRuQt2EmSdB+nXe HS7O+Vs+ob6QW6xRR5yrCdiyhv7Mqf6Nv7SR1ryxB4kHEI8QZaxFPC/Pso0Fi0fbQZ1h KftQ== X-Gm-Message-State: AOJu0YymjUNFf8ekVWjyQNbrb/LQ4xq1sEB++IYk/5v8bAh8fhgr+qak ln7P6MhqXvRan7ccgbG5J1r4PY1zSET5HEVRnoMt+n12QRNBp6hwA801iXAF6ofzA2PWgTnn7rU IGSyplUhpBnReCooXa3JWaMbVL9qJmS1pgU5nXdgSC0oMDlPkXD4y9dNV X-Gm-Gg: ASbGncu08k3hNGBI8unxKrFqYe1TOBlZkb6ap7Cu5Iv4bNp5UB3oFPpY+AgU7DEO5Wy chhCPTWeDFyiorTliEeMMzQEL1qmYS0bHidME2uza4D3gMS4SmCVT4Vq9oIxLbU9wI/VQozBHIf gZP34tsVobZzPKyxB/xuIYeO7c83rzzX0CUrLdiy0Rz50U8r5jDGiOeIWyegRjvb6mU7RgniLxb 4OIZWeCo5TkW60qQCo6KBKEVACRBT3LeZj2aM+S/P9DuOInXk2RE/uu/0T+OMgKm2lVJaorZwYw esgdIvlxTx7v/yQgt+ucKb0qjJMG/NYJPAm8 X-Google-Smtp-Source: AGHT+IGvPrEkvtEhBmH2ocsMylVTab9nZ/y0+gl18OoKRLORhTrkJUByX6IaRjWXqI3uhq7Fgzh91n7o02xH X-Received: by 2002:a05:6a00:22c7:b0:740:41e4:e761 with SMTP id d2e1a72fcca58-7428937863emr3760022b3a.22.1747215444364; Wed, 14 May 2025 02:37:24 -0700 (PDT) Received: from postal.iol.unh.edu (postal.iol.unh.edu. [2606:4100:3880:1234::84]) by smtp-relay.gmail.com with ESMTPS id d2e1a72fcca58-74237a375c4sm632352b3a.21.2025.05.14.02.37.24 (version=TLS1_2 cipher=ECDHE-ECDSA-AES128-GCM-SHA256 bits=128/128); Wed, 14 May 2025 02:37:24 -0700 (PDT) X-Relaying-Domain: iol.unh.edu Date: Wed, 14 May 2025 02:37:24 -0700 (PDT) Message-ID: <68246454.620a0220.1e8738.0c33SMTPIN_ADDED_MISSING@mx.google.com> Received: from [172.17.0.2] (unknown [172.18.0.76]) by postal.iol.unh.edu (Postfix) with ESMTP id C3CB96052471; Wed, 14 May 2025 05:37:23 -0400 (EDT) Subject: |SUCCESS| pw153434 [PATCH] net/mlx5: fix mark action value in shared From: dpdklab@iol.unh.edu To: Test Report Cc: dpdk-test-reports@iol.unh.edu In-Reply-To: <20250514075018.67370-1-getelson@nvidia.com> References: <20250514075018.67370-1-getelson@nvidia.com> Content-Type: text/plain X-BeenThere: test-report@dpdk.org X-Mailman-Version: 2.1.29 Precedence: list List-Id: automatic DPDK test reports List-Unsubscribe: , List-Archive: List-Post: List-Help: List-Subscribe: , Errors-To: test-report-bounces@dpdk.org Test-Label: iol-sample-apps-testing Test-Status: SUCCESS http://dpdk.org/patch/153434 _Testing PASS_ Submitter: Gregory Etelson Date: Wednesday, May 14 2025 07:50:18 DPDK git baseline: Repo:dpdk Branch: master CommitID:0c02b2799a521c45ed72c3f2f011b76d994ebc6a 153434 --> testing pass Upstream job id: ACVP-FIPS-testing#9803 Test environment and result as below: +--------------------+----------------------+----------------------+ | Environment | compressdev_zlib_pmd | dpdk_fips_validation | +====================+======================+======================+ | Ubuntu 22.04 (ARM) | PASS | SKIPPED | +--------------------+----------------------+----------------------+ | Ubuntu 22.04 | PASS | SKIPPED | +--------------------+----------------------+----------------------+ | Ubuntu 20.04 | SKIPPED | PASS | +--------------------+----------------------+----------------------+ Ubuntu 22.04 (ARM) Kernel: 5.15.0-97-generic Compiler: gcc gcc (Ubuntu 11.4.0-1ubuntu1~22.04) 11.4.0 Ubuntu 22.04 Kernel: 5.15.0-100-generic Compiler: gcc gcc (Ubuntu 11.4.0-1ubuntu1~22.04) 11.4.0 Ubuntu 20.04 Kernel: Depends on container host Compiler: gcc (Ubuntu 9.4.0-1ubuntu1~20.04.2) 9.4.0 To view detailed results, visit: https://lab.dpdk.org/results/dashboard/patchsets/33166/ UNH-IOL DPDK Community Lab To manage your email subscriptions, visit: https://lab.dpdk.org/results/dashboard/preferences/subscriptions/