From mboxrd@z Thu Jan 1 00:00:00 1970 Return-Path: Received: from mails.dpdk.org (mails.dpdk.org [217.70.189.124]) by inbox.dpdk.org (Postfix) with ESMTP id 1223346744 for ; Wed, 14 May 2025 11:52:26 +0200 (CEST) Received: from mails.dpdk.org (localhost [127.0.0.1]) by mails.dpdk.org (Postfix) with ESMTP id E52A84064F; Wed, 14 May 2025 11:52:25 +0200 (CEST) Received: from mail-oi1-f226.google.com (mail-oi1-f226.google.com [209.85.167.226]) by mails.dpdk.org (Postfix) with ESMTP id 00C5C402C8 for ; Wed, 14 May 2025 11:52:24 +0200 (CEST) Received: by mail-oi1-f226.google.com with SMTP id 5614622812f47-3fe83c8cbdbso1987744b6e.3 for ; Wed, 14 May 2025 02:52:24 -0700 (PDT) DKIM-Signature: v=1; a=rsa-sha256; c=relaxed/relaxed; d=iol.unh.edu; s=unh-iol; t=1747216344; x=1747821144; darn=dpdk.org; h=references:in-reply-to:cc:to:from:subject:message-id:date:from:to :cc:subject:date:message-id:reply-to; bh=RJkukuHGGfZF+7LyH8J5x8xCNxjvSsNEcOjn5MTF8Is=; b=JNC4ftiFCMaPh9OAkVq7mUZbEMdyyFtwnxI6noPdRhMT29VErysyxYJCr37ciWYk57 QyQabdQpgildNIvnDsjuX6+9Yf5amZUKPt5dtkhpym8wtNAKeDsgTV2rR+m0Qyib/7n+ /8XAScXegX6On6VlC48dnK0p8Fbt/q+WYaZlo= X-Google-DKIM-Signature: v=1; a=rsa-sha256; c=relaxed/relaxed; d=1e100.net; s=20230601; t=1747216344; x=1747821144; h=references:in-reply-to:cc:to:from:subject:message-id:date :x-gm-message-state:from:to:cc:subject:date:message-id:reply-to; bh=RJkukuHGGfZF+7LyH8J5x8xCNxjvSsNEcOjn5MTF8Is=; b=Zoziz+oFv+r/X+1O0QnJrGuEaGFau6i0y7Cs6pm8lgAEcNV9Qo6ZfFYzmjTfUBkYNR RGvkRmc97UUu9AbIAoMaEVHO1yUyaYo08bIaIuZGAd3CXNFET1iD4lP+QY8hjNLwfQqS wlOFxXHTbx18v5eFJ0TlRktkibIEsnL0N1miIRs+1GMRCsTrRceS0xyJ/95c28aHyNW5 CN6npeRyT1fqbovjPSCNuJDMSIrgHzGQoQAMhkSX7XAxIABAFW5bGEx13Qa4D129n9+I 3mGEhaYcpXAaugQMgvPuahlJdqghzjnlXlAmQ0WwSUvgcas/k5i/eoR87q8wwSNLgxn1 YnxA== X-Gm-Message-State: AOJu0YztIFb8JsZvfZH6afU3haviV4reyHrLj+W98SjJ1gWYM9dvUqh8 tlhaRk12l3+ChCy1Zo1Q23IgDEUFcifiTNyYQCfWcdQQG95vAgilAc4H2Un2+g2A0wYxyDKJQSA i3YmxICGfzA8621B0c/z6FxODQ1Xt7rorPt4oXUtx X-Gm-Gg: ASbGncsgJMYBqKN4HaYyp30Q29M8ZaeBRUozWcHobaeTau6YZMATxZK/kXVAWL0uOgr EdzUoqPdznjzLiICKfKYzMNe52uBpqPtiEzy0ntslXxAGAlA5qM+DM4N0yQMIseJeI+L0QvVJde y8irHAAQk+Je076z0bSAeF/ds8ZSpMUrXEEp4QwUpRROSjKOEedGXTuwBPAB+dEQd6K9+bHaKKo 8/tisqQxhQbMQMGZvOctBEQch8mEA8LBQ+iNf8kzq4Qs4vNzEGKsCcfeEZwqewGntR8BjBKJRc+ Nq0a7GRWYEoHRUEcqHYeU77dGhB5hrCIAVRJLs45fWZ/nty86aDrfEX/71M= X-Google-Smtp-Source: AGHT+IHykPrNIlRuxTOuZj5mynnWDMBTECmPCwCleZlj11py9W/cIJahn0mCqHWKFVgBfGhSgcR3/GHcQIk0 X-Received: by 2002:a05:6808:384d:b0:3f8:150b:f55e with SMTP id 5614622812f47-404c1fac800mr1715604b6e.4.1747216343920; Wed, 14 May 2025 02:52:23 -0700 (PDT) Received: from postal.iol.unh.edu (postal.iol.unh.edu. [132.177.123.84]) by smtp-relay.gmail.com with ESMTPS id 586e51a60fabf-2dba0620af1sm531538fac.5.2025.05.14.02.52.23 (version=TLS1_2 cipher=ECDHE-ECDSA-AES128-GCM-SHA256 bits=128/128); Wed, 14 May 2025 02:52:23 -0700 (PDT) X-Relaying-Domain: iol.unh.edu Date: Wed, 14 May 2025 02:52:23 -0700 (PDT) Message-ID: <682467d7.050a0220.279cc8.c39cSMTPIN_ADDED_MISSING@mx.google.com> Received: from [172.17.0.2] (unknown [172.18.0.76]) by postal.iol.unh.edu (Postfix) with ESMTP id 52C346052471; Wed, 14 May 2025 05:52:23 -0400 (EDT) Subject: |SUCCESS| pw153434 [PATCH] net/mlx5: fix mark action value in shared From: dpdklab@iol.unh.edu To: Test Report Cc: dpdk-test-reports@iol.unh.edu In-Reply-To: <20250514075018.67370-1-getelson@nvidia.com> References: <20250514075018.67370-1-getelson@nvidia.com> Content-Type: text/plain X-BeenThere: test-report@dpdk.org X-Mailman-Version: 2.1.29 Precedence: list List-Id: automatic DPDK test reports List-Unsubscribe: , List-Archive: List-Post: List-Help: List-Subscribe: , Errors-To: test-report-bounces@dpdk.org Test-Label: iol-unit-arm64-testing Test-Status: SUCCESS http://dpdk.org/patch/153434 _Testing PASS_ Submitter: Gregory Etelson Date: Wednesday, May 14 2025 07:50:18 DPDK git baseline: Repo:dpdk Branch: master CommitID:0c02b2799a521c45ed72c3f2f011b76d994ebc6a 153434 --> testing pass Upstream job id: Generic-Unit-Test-DPDK#337625 Test environment and result as below: +-----------------------------+--------------+---------------------------+------------------------------+----------------+ | Environment | lpm_autotest | cryptodev_sw_zuc_autotest | cryptodev_sw_snow3g_autotest | dpdk_unit_test | +=============================+==============+===========================+==============================+================+ | Ubuntu 20.04 ARM SVE | PASS | SKIPPED | SKIPPED | SKIPPED | +-----------------------------+--------------+---------------------------+------------------------------+----------------+ | Debian 12 (arm) | SKIPPED | PASS | PASS | PASS | +-----------------------------+--------------+---------------------------+------------------------------+----------------+ | CentOS Stream 9 (ARM) | SKIPPED | SKIPPED | SKIPPED | PASS | +-----------------------------+--------------+---------------------------+------------------------------+----------------+ | CentOS Stream 10 (ARM) | SKIPPED | SKIPPED | SKIPPED | PASS | +-----------------------------+--------------+---------------------------+------------------------------+----------------+ | Fedora 40 (ARM Clang) | SKIPPED | SKIPPED | SKIPPED | PASS | +-----------------------------+--------------+---------------------------+------------------------------+----------------+ | Fedora 40 (ARM) | SKIPPED | SKIPPED | SKIPPED | PASS | +-----------------------------+--------------+---------------------------+------------------------------+----------------+ | Fedora 41 (ARM Clang) | SKIPPED | SKIPPED | SKIPPED | PASS | +-----------------------------+--------------+---------------------------+------------------------------+----------------+ | Fedora 41 (ARM) | SKIPPED | SKIPPED | SKIPPED | PASS | +-----------------------------+--------------+---------------------------+------------------------------+----------------+ | RHEL9 (ARM) | SKIPPED | SKIPPED | SKIPPED | PASS | +-----------------------------+--------------+---------------------------+------------------------------+----------------+ | Ubuntu 20.04 (ARM) | SKIPPED | SKIPPED | SKIPPED | PASS | +-----------------------------+--------------+---------------------------+------------------------------+----------------+ | Ubuntu 24.04 (ARM) | SKIPPED | SKIPPED | SKIPPED | PASS | +-----------------------------+--------------+---------------------------+------------------------------+----------------+ | Ubuntu 22.04 (ARM) | SKIPPED | SKIPPED | SKIPPED | PASS | +-----------------------------+--------------+---------------------------+------------------------------+----------------+ | 32-bit Ubuntu 22.04.4 (ARM) | SKIPPED | SKIPPED | SKIPPED | PASS | +-----------------------------+--------------+---------------------------+------------------------------+----------------+ Ubuntu 20.04 ARM SVE Kernel: Depends on container host Compiler: gcc (Ubuntu 10.5.0-1ubuntu1~20.04) 10.5.0 Debian 12 (arm) Kernel: Depends on container host Compiler: gcc (Debian 12.2.0-14) 12.2.0 CentOS Stream 9 (ARM) Kernel: Depends on container host Compiler: gcc 11.5.0 20240719 (Red Hat 11.5.0-2) CentOS Stream 10 (ARM) Kernel: Depends on container host Compiler: gcc 14.2.1 20241104 (Red Hat 14.2.1-6) Fedora 40 (ARM Clang) Kernel: Depends on container host Compiler: clang 18.1.8 (Fedora 18.1.8-1.fc40) Fedora 40 (ARM) Kernel: Depends on container host Compiler: gcc 14.2.1 20240912 (Red Hat 14.2.1-3) Fedora 41 (ARM Clang) Kernel: Depends on container host Compiler: clang 19.1.5 (Fedora 19.1.5-1.fc41) Fedora 41 (ARM) Kernel: Depends on container host Compiler: gcc 14.2.1 20240912 (Red Hat 14.2.1-3) RHEL9 (ARM) Kernel: Depends on container host Compiler: gcc 11.5.0 20240719 (Red Hat 11.5.0-2) Ubuntu 20.04 (ARM) Kernel: Depends on container host Compiler: gcc (Ubuntu 9.4.0-1ubuntu1~20.04.2) 9.4.0 Ubuntu 24.04 (ARM) Kernel: Depends on container host Compiler: gcc (Ubuntu 13.3.0-6ubuntu2~24.04) 13.3.0 Ubuntu 22.04 (ARM) Kernel: Depends on container host Compiler: gcc (Ubuntu 11.4.0-1ubuntu1~22.04) 11.4.0 32-bit Ubuntu 22.04.4 (ARM) Kernel: 5.15.83+ aarch64 Compiler: gcc (Ubuntu 11.4.0-1ubuntu1~22.04) 11.4.0 To view detailed results, visit: https://lab.dpdk.org/results/dashboard/patchsets/33166/ UNH-IOL DPDK Community Lab To manage your email subscriptions, visit: https://lab.dpdk.org/results/dashboard/preferences/subscriptions/