From mboxrd@z Thu Jan 1 00:00:00 1970 Return-Path: Received: from mails.dpdk.org (mails.dpdk.org [217.70.189.124]) by inbox.dpdk.org (Postfix) with ESMTP id EB3D046745 for ; Wed, 14 May 2025 13:24:51 +0200 (CEST) Received: from mails.dpdk.org (localhost [127.0.0.1]) by mails.dpdk.org (Postfix) with ESMTP id C45B3402E5; Wed, 14 May 2025 13:24:51 +0200 (CEST) Received: from mail-pg1-f226.google.com (mail-pg1-f226.google.com [209.85.215.226]) by mails.dpdk.org (Postfix) with ESMTP id 01923402C8 for ; Wed, 14 May 2025 13:24:50 +0200 (CEST) Received: by mail-pg1-f226.google.com with SMTP id 41be03b00d2f7-879d2e419b9so6136317a12.2 for ; Wed, 14 May 2025 04:24:50 -0700 (PDT) DKIM-Signature: v=1; a=rsa-sha256; c=relaxed/relaxed; d=iol.unh.edu; s=unh-iol; t=1747221890; x=1747826690; darn=dpdk.org; h=references:in-reply-to:cc:to:from:subject:message-id:date:from:to :cc:subject:date:message-id:reply-to; bh=kFYwFWnlDyp7yCTf7nulEiQwFgVTZ/YQuzXitjdySq0=; b=DxLsFBS/dDT5cMXeO+0EvxzJh+0UhSHUXHdrzqfL+LD47tyYCm0w515DVByRLJpD0f YVMpwWLUntHCb9oHITS1JjKnXOhe/qATgLmp34LP2Z1s3PI+MNhE+shKbsq0AGbV7Fch lg8HHD3Lvrc/9dt+V4HYMmYeCd8DK3taONN1Q= X-Google-DKIM-Signature: v=1; a=rsa-sha256; c=relaxed/relaxed; d=1e100.net; s=20230601; t=1747221890; x=1747826690; h=references:in-reply-to:cc:to:from:subject:message-id:date :x-gm-message-state:from:to:cc:subject:date:message-id:reply-to; bh=kFYwFWnlDyp7yCTf7nulEiQwFgVTZ/YQuzXitjdySq0=; b=jb7EVzWsQmTy9sd9cc+R4OGcgl3T1REOX7nA8ciXjUZBEx+79R1mNDlnMraGJdGKIZ +B64y2jODWeZXFA17aZeyzG7PXNnpsv/VyfAbnec3PP43jUaPgsNpMh/eTtLEbrSKoLT 5WqzVWfgSfiHOvATNXuqZnfXPc47IUWZW9hrSHt+7TnVw31p4jNyN4HnK54zys5vMx01 PJCteqsX91aGL9Gs0s12kj3pOGNUvXmKoShmpr0BidPm52wxB+wU7fsEW0b51g4Uiu42 NdwHf5n/9DzIscnnN+VpT3WCpesw7x8jLfWR6dszleA3ijB1a6u1OCaRpTA1DCLpEtAP oo1g== X-Gm-Message-State: AOJu0YzbPHl1xl7WzAtsyAKBru8onPEXPeb2BKTwOoANaMxQNwTKfHzv msaPG8SbhOT6igrpv2f3r5N7ls/FHP4xb6PU2mJb7bUfnXK5CaHKYKu2/gPghOTkB2viu8ZCldm se+jtZSvuWUh38hsz1xDyNNVlFJv9XQWQyFMmE4ER X-Gm-Gg: ASbGncvPF8nVXb9sPQ8sO2ZSLBAru6JCyE/InX25jHpTmo0cwFopF5ESKgnNHcLOok2 EMUHWaa/keQvptOg51LjC7yFmb+iOUgBZWFo5ITphmhXs/dCGjAziEKYqpBtj2jeebHwmQp6xCf AJMyPXgw16J+TqZ4npiP+h7Z9o8f88P5QMKd4ABf6brfG9c99dn+LSbJgKK4BOn91HotDQsXWLJ CovgU+WYuJRPuLj5SvRDaLspkXynHSJGFWRD74DGyIKMeKQZvQcw13V/5sDjIqwyyflKnH3l1W6 zEmOvbw3QsBdDkVF8aFsEy/+qO7/c1FqzxzJ3KdiGUwvHL5KYb1AJa5waH4= X-Google-Smtp-Source: AGHT+IF6gyCJT0lqW9sjoeZDB8Tvcv9IYNGyvfyzM+EiP1/ywFUAz1ytb4Tz1fv2XPboXSVlq/ONYgwFYH6X X-Received: by 2002:a17:903:3bce:b0:21f:522b:690f with SMTP id d9443c01a7336-23198168238mr46852895ad.46.1747221889808; Wed, 14 May 2025 04:24:49 -0700 (PDT) Received: from postal.iol.unh.edu (postal.iol.unh.edu. [132.177.123.84]) by smtp-relay.gmail.com with ESMTPS id d9443c01a7336-22fc5a3e083sm5681065ad.53.2025.05.14.04.24.49 (version=TLS1_2 cipher=ECDHE-ECDSA-AES128-GCM-SHA256 bits=128/128); Wed, 14 May 2025 04:24:49 -0700 (PDT) X-Relaying-Domain: iol.unh.edu Date: Wed, 14 May 2025 04:24:49 -0700 (PDT) Message-ID: <68247d81.170a0220.461c7.e3f5SMTPIN_ADDED_MISSING@mx.google.com> Received: from [172.17.0.5] (unknown [172.18.0.74]) by postal.iol.unh.edu (Postfix) with ESMTP id EEE746052471; Wed, 14 May 2025 07:24:48 -0400 (EDT) Subject: |SUCCESS| pw153438 [PATCH] examples: remove check for old broken pkg From: dpdklab@iol.unh.edu To: Test Report Cc: dpdk-test-reports@iol.unh.edu In-Reply-To: <20250514100306.11717-1-bruce.richardson@intel.com> References: <20250514100306.11717-1-bruce.richardson@intel.com> Content-Type: text/plain X-BeenThere: test-report@dpdk.org X-Mailman-Version: 2.1.29 Precedence: list List-Id: automatic DPDK test reports List-Unsubscribe: , List-Archive: List-Post: List-Help: List-Subscribe: , Errors-To: test-report-bounces@dpdk.org Test-Label: iol-sample-apps-testing Test-Status: SUCCESS http://dpdk.org/patch/153438 _Testing PASS_ Submitter: Bruce Richardson Date: Wednesday, May 14 2025 10:03:06 DPDK git baseline: Repo:dpdk Branch: master CommitID:2bf836de46d36a81f9321f947fbfce52b3180782 153438 --> testing pass Upstream job id: ACVP-FIPS-testing#9804 Test environment and result as below: +--------------------+----------------------+----------------------+ | Environment | dpdk_fips_validation | compressdev_zlib_pmd | +====================+======================+======================+ | Ubuntu 20.04 | PASS | SKIPPED | +--------------------+----------------------+----------------------+ | Ubuntu 22.04 (ARM) | SKIPPED | PASS | +--------------------+----------------------+----------------------+ | Ubuntu 22.04 | SKIPPED | PASS | +--------------------+----------------------+----------------------+ Ubuntu 20.04 Kernel: Depends on container host Compiler: gcc (Ubuntu 9.4.0-1ubuntu1~20.04.2) 9.4.0 Ubuntu 22.04 (ARM) Kernel: 5.15.0-97-generic Compiler: gcc gcc (Ubuntu 11.4.0-1ubuntu1~22.04) 11.4.0 Ubuntu 22.04 Kernel: 5.15.0-100-generic Compiler: gcc gcc (Ubuntu 11.4.0-1ubuntu1~22.04) 11.4.0 To view detailed results, visit: https://lab.dpdk.org/results/dashboard/patchsets/33170/ UNH-IOL DPDK Community Lab To manage your email subscriptions, visit: https://lab.dpdk.org/results/dashboard/preferences/subscriptions/