From mboxrd@z Thu Jan 1 00:00:00 1970 Return-Path: Received: from mails.dpdk.org (mails.dpdk.org [217.70.189.124]) by inbox.dpdk.org (Postfix) with ESMTP id 7119646745 for ; Wed, 14 May 2025 13:29:54 +0200 (CEST) Received: from mails.dpdk.org (localhost [127.0.0.1]) by mails.dpdk.org (Postfix) with ESMTP id 54853402E5; Wed, 14 May 2025 13:29:54 +0200 (CEST) Received: from mail-il1-f225.google.com (mail-il1-f225.google.com [209.85.166.225]) by mails.dpdk.org (Postfix) with ESMTP id 05AEF402C8 for ; Wed, 14 May 2025 13:29:52 +0200 (CEST) Received: by mail-il1-f225.google.com with SMTP id e9e14a558f8ab-3d9189e9a06so27917225ab.2 for ; Wed, 14 May 2025 04:29:52 -0700 (PDT) DKIM-Signature: v=1; a=rsa-sha256; c=relaxed/relaxed; d=iol.unh.edu; s=unh-iol; t=1747222192; x=1747826992; darn=dpdk.org; h=references:in-reply-to:cc:to:from:subject:message-id:date:from:to :cc:subject:date:message-id:reply-to; bh=sfZTmetC3g4BLYA814Qpxgx/KhCQbMFyLTchTZNg3zk=; b=Ur3eOkuXsTClPDexWzIBbLcALsLVGLUZqXXN3VtCceU09zDWc2hEzLmOureKn47LF4 H5OUph3JoU/ta8iC3dTHqz/1GH3eIAoRnh36mbHFt3CYXj2WqP7arOiyoWrbfqy9YiN9 8dD5Z1VCGKMrmBA87wFrZrlH0h/HESmUDeNds= X-Google-DKIM-Signature: v=1; a=rsa-sha256; c=relaxed/relaxed; d=1e100.net; s=20230601; t=1747222192; x=1747826992; h=references:in-reply-to:cc:to:from:subject:message-id:date :x-gm-message-state:from:to:cc:subject:date:message-id:reply-to; bh=sfZTmetC3g4BLYA814Qpxgx/KhCQbMFyLTchTZNg3zk=; b=eCQjCVDQk+Q0LXZFg/cGtyUP6cpsP2c0mFUidh5wUbhI3yGinnp0hQgUZobUZrHFcs BW+O0hLdCJtSYgUyod5NqIupSBZrgArY6EsCG+xRDyg1QY4r6EkPfnvx7NHHCYmalxHH RWedIdUSDMyk1lb1yBSIg10M9WcqSUBLg6GCXXeKJbPZiqgDvsHyZ5f8sSabvj4UZMER IxH2dx9dVUg3qzgqsWDphrINz0kOkjsJRl14Ib2hD5kVfF7Xi0d/hPL/PSdbFO+uhrG0 ca2DHKVQKYEyDrrSflYIT4U6O6u0vW5z1nxjR3RP8vBmv+8drclfnBNIuhqmcZ9r8+9R GinQ== X-Gm-Message-State: AOJu0Yx27PaV2YAstGanA8FO19+m/6QENxIlJUhAAVYJydD/bYqHLmQB kCb5L6DGMIz7FNP93sB4xNGf94Krst1iWUEuwmV34gYLtXwJVBI6vNJIp5EzowanZySH7kxs5RT yBENX7PtNdVkLKmqoSMvuUDnR0HwUgHspGDIKk9xg X-Gm-Gg: ASbGncu++iP0Ycbclc0xdi29M04b3YyUvhGyl1W+PDE+L7tOFqBrVv/XpIjVsRbAWGt ZV47i9tHCHM2DINNJD9aQVY0IMx7lqL/XORzwm83m/NuuzW+LnLgDBLaIh22wlyEnWrEIHqS3/e VZAxYbCj2/KtCLCA8jOVr/aqaNXIEEufHK6oDOl4rpGfKu1QF7CL8floskCYWkzViRD2OE1KZVw 9SjbG3eKqF86dcM2UO8Fgpn/LMI5HtXsww7XxTCLX6qarldFmd484td21banPRKbebQ8gw2+TyP iHVooTd2ay8Sm/a+4esDtO9og+8GGivziAEn5zrbtVhZ281dfZT1SiBYU2A= X-Google-Smtp-Source: AGHT+IGhQ54j3g7BEGvi9neD72vojGl1bGN34lb06/opYmK6JF4McGe2jx1X33VN9ZW59WLiCdKeZQOg/rWK X-Received: by 2002:a05:6e02:220a:b0:3d8:975:b825 with SMTP id e9e14a558f8ab-3db6f7764a6mr32448435ab.5.1747222192217; Wed, 14 May 2025 04:29:52 -0700 (PDT) Received: from postal.iol.unh.edu (postal.iol.unh.edu. [132.177.123.84]) by smtp-relay.gmail.com with ESMTPS id 8926c6da1cb9f-4fa2262eaa6sm199115173.70.2025.05.14.04.29.52 (version=TLS1_2 cipher=ECDHE-ECDSA-AES128-GCM-SHA256 bits=128/128); Wed, 14 May 2025 04:29:52 -0700 (PDT) X-Relaying-Domain: iol.unh.edu Date: Wed, 14 May 2025 04:29:52 -0700 (PDT) Message-ID: <68247eb0.050a0220.21da20.a59bSMTPIN_ADDED_MISSING@mx.google.com> Received: from [172.17.0.2] (unknown [172.18.0.76]) by postal.iol.unh.edu (Postfix) with ESMTP id AD9846052471; Wed, 14 May 2025 07:29:51 -0400 (EDT) Subject: |SUCCESS| pw153438 [PATCH] examples: remove check for old broken pkg From: dpdklab@iol.unh.edu To: Test Report Cc: dpdk-test-reports@iol.unh.edu In-Reply-To: <20250514100306.11717-1-bruce.richardson@intel.com> References: <20250514100306.11717-1-bruce.richardson@intel.com> Content-Type: text/plain X-BeenThere: test-report@dpdk.org X-Mailman-Version: 2.1.29 Precedence: list List-Id: automatic DPDK test reports List-Unsubscribe: , List-Archive: List-Post: List-Help: List-Subscribe: , Errors-To: test-report-bounces@dpdk.org Test-Label: iol-abi-testing Test-Status: SUCCESS http://dpdk.org/patch/153438 _Testing PASS_ Submitter: Bruce Richardson Date: Wednesday, May 14 2025 10:03:06 DPDK git baseline: Repo:dpdk Branch: master CommitID:2bf836de46d36a81f9321f947fbfce52b3180782 153438 --> testing pass Upstream job id: Generic-DPDK-Compile-ABI#126315 Test environment and result as below: +-------------------+----------+ | Environment | abi_test | +===================+==========+ | CentOS Stream 9 | PASS | +-------------------+----------+ | CentOS Stream 10 | PASS | +-------------------+----------+ | Debian 12 | PASS | +-------------------+----------+ | Fedora 40 (Clang) | PASS | +-------------------+----------+ | Fedora 40 | PASS | +-------------------+----------+ | Fedora 41 | PASS | +-------------------+----------+ | Fedora 41 (Clang) | PASS | +-------------------+----------+ | openSUSE Leap 15 | PASS | +-------------------+----------+ | RHEL8 | PASS | +-------------------+----------+ | Ubuntu 22.04 | PASS | +-------------------+----------+ | RHEL9 | PASS | +-------------------+----------+ | Ubuntu 24.04 | PASS | +-------------------+----------+ CentOS Stream 9 Kernel: Depends on container host Compiler: gcc 11.5.0 20240719 (Red Hat 11.5.0-2) CentOS Stream 10 Kernel: Depends on container host Compiler: gcc 14.2.1 20241104 (Red Hat 14.2.1-6) Debian 12 Kernel: Depends on container host Compiler: gcc (Debian 12.2.0-14) 12.2.0 Fedora 40 (Clang) Kernel: Depends on container host Compiler: clang 18.1.8 (Fedora 18.1.8-1.fc40) Fedora 40 Kernel: Depends on container host Compiler: gcc 14.2.1 20240912 (Red Hat 14.2.1-3) Fedora 41 Kernel: Depends on container host Compiler: gcc 14.2.1 20240912 (Red Hat 14.2.1-3) Fedora 41 (Clang) Kernel: Depends on container host Compiler: clang 19.1.5 (Fedora 19.1.5-1.fc41) openSUSE Leap 15 Kernel: Depends on container host Compiler: gcc (SUSE Linux) 7.5.0 RHEL8 Kernel: Depends on container host Compiler: gcc 8.5.0 20210514 (Red Hat 8.5.0-22) Ubuntu 22.04 Kernel: Depends on container host Compiler: gcc (Ubuntu 11.4.0-1ubuntu1~22.04) 11.4.0 RHEL9 Kernel: Depends on container host Compiler: gcc 11.5.0 20240719 (Red Hat 11.5.0-2) Ubuntu 24.04 Kernel: Depends on container host Compiler: gcc (Ubuntu 13.3.0-6ubuntu2~24.04) 13.3.0 To view detailed results, visit: https://lab.dpdk.org/results/dashboard/patchsets/33170/ UNH-IOL DPDK Community Lab To manage your email subscriptions, visit: https://lab.dpdk.org/results/dashboard/preferences/subscriptions/