From mboxrd@z Thu Jan 1 00:00:00 1970 Return-Path: Received: from mails.dpdk.org (mails.dpdk.org [217.70.189.124]) by inbox.dpdk.org (Postfix) with ESMTP id AA8A146746 for ; Wed, 14 May 2025 14:03:13 +0200 (CEST) Received: from mails.dpdk.org (localhost [127.0.0.1]) by mails.dpdk.org (Postfix) with ESMTP id A22A4402E5; Wed, 14 May 2025 14:03:13 +0200 (CEST) Received: from mail-pf1-f225.google.com (mail-pf1-f225.google.com [209.85.210.225]) by mails.dpdk.org (Postfix) with ESMTP id 63AFB402C8 for ; Wed, 14 May 2025 14:03:11 +0200 (CEST) Received: by mail-pf1-f225.google.com with SMTP id d2e1a72fcca58-7426159273fso3374397b3a.3 for ; Wed, 14 May 2025 05:03:11 -0700 (PDT) DKIM-Signature: v=1; a=rsa-sha256; c=relaxed/relaxed; d=iol.unh.edu; s=unh-iol; t=1747224190; x=1747828990; darn=dpdk.org; h=references:in-reply-to:cc:to:from:subject:message-id:date:from:to :cc:subject:date:message-id:reply-to; bh=xjmNmaqW0zr8mKxadhhZzH8sfsC5PH36ljODd+Tfc8w=; b=HK2yO5nj1bzjyLeiwg5itPfD/Ir5xhOK2jlevvxnJFpO1vEEO7KT1OkUpAvcEMO1wl hwni8q8nytDEGMXekubmk0k6X8fqQeCEYDqgFWXlPKn2HPkDmTGe3cWmvk9i+nozucrS oLdmbcMMPO6BJ8rZr6QcP9KMsCQggcnjswsPg= X-Google-DKIM-Signature: v=1; a=rsa-sha256; c=relaxed/relaxed; d=1e100.net; s=20230601; t=1747224190; x=1747828990; h=references:in-reply-to:cc:to:from:subject:message-id:date :x-gm-message-state:from:to:cc:subject:date:message-id:reply-to; bh=xjmNmaqW0zr8mKxadhhZzH8sfsC5PH36ljODd+Tfc8w=; b=fExVBt/bFNAtA1lNHnHuu6Up97zqO7WKBeHkcDZhDnPB7RQKG4PLm/aI3Xi9z1R4OM 50A/AU5AZg4mQn6UOoWG7OjaKr0uk4VuFpYrd9lJ57XOncTZXH64UP5eoT5qQQxJA9c0 GWBI3+Yn4p17DUfGLjB1RoetBr1ookq8EEsCDHlg7mpjOCL0wiHhl0hAYJiHYB9J/LLn 3iYJrRC9Y9QoKuKvJdoJSRePeLh7aNZt53Ea/PD1LMHyblhsCKVy061OJm4AdygxYA93 A+uamKGJ3gmUtly4e8s0doa3v06yn+BnwKVP9aza7Va+2e5UajU1BYdWvTSN0m/iBitZ BJKA== X-Gm-Message-State: AOJu0Yx9Fj0Uf/nczKYQFqNArpFHZVvMaPMd7kCSGKFKUMrL5l4g7+5b X5bv5hFNvyvZUygSrooul9k5g68x1ic4IbZfCJO3XjekbAbEkPShSgxq9L8Om3rQrR1XDjXhIRv TaI0wYYTar063ktrJ7aF338l9OchJ5fD89uSt2JkwWEQp2xWcDEddZFkH X-Gm-Gg: ASbGncvmkyINAV0ZT4Q5G47QiMvei//Ls6pvmjMraFx+j/wzS9XoHqiS6H+ASUvxhpF JBRMTjlA+6Q3CvQzgJC4XxEU1ZXBaQpsRw8uSJs7U1DEIpC4r8kbtp415MlHlDzaUqRWSJKUhWn NWDojyhvP04Dtob1gUUDy1C9LVyTrXtSMedsv7MK2hkkV1KV3eq2tqHvwau5FxhZsDZ+Xg9y/GB eA1M75drtTKspdFDzZRBPGJqQo/MvHYZyUh/178j4mg3fhdwM1e1pS1nX/5H1Kfa6YCJffD0EH1 gRQA1hvCnP1p2BbYJDnVK/LgjYyhVgIJMvJG X-Google-Smtp-Source: AGHT+IEEHiPxI2evFuJoZPO6D1nZslzYE9xZUnj1xI8TWTNvUNd6+x/V5psZ7WJ4Cf5YHQSp2E9CtHZu5OhY X-Received: by 2002:a17:902:ccc9:b0:223:54e5:bf4b with SMTP id d9443c01a7336-23198154f5dmr49456995ad.25.1747224189952; Wed, 14 May 2025 05:03:09 -0700 (PDT) Received: from postal.iol.unh.edu (postal.iol.unh.edu. [2606:4100:3880:1234::84]) by smtp-relay.gmail.com with ESMTPS id d9443c01a7336-22fc6f11756sm6501865ad.94.2025.05.14.05.03.09 (version=TLS1_2 cipher=ECDHE-ECDSA-AES128-GCM-SHA256 bits=128/128); Wed, 14 May 2025 05:03:09 -0700 (PDT) X-Relaying-Domain: iol.unh.edu Date: Wed, 14 May 2025 05:03:09 -0700 (PDT) Message-ID: <6824867d.170a0220.1f5cf3.21bdSMTPIN_ADDED_MISSING@mx.google.com> Received: from [172.17.0.5] (unknown [172.18.0.74]) by postal.iol.unh.edu (Postfix) with ESMTP id 234A86052471; Wed, 14 May 2025 08:03:09 -0400 (EDT) Subject: |SUCCESS| pw153434 [PATCH] net/mlx5: fix mark action value in shared From: dpdklab@iol.unh.edu To: Test Report Cc: dpdk-test-reports@iol.unh.edu In-Reply-To: <20250514075018.67370-1-getelson@nvidia.com> References: <20250514075018.67370-1-getelson@nvidia.com> Content-Type: text/plain X-BeenThere: test-report@dpdk.org X-Mailman-Version: 2.1.29 Precedence: list List-Id: automatic DPDK test reports List-Unsubscribe: , List-Archive: List-Post: List-Help: List-Subscribe: , Errors-To: test-report-bounces@dpdk.org Test-Label: iol-compile-arm64-testing Test-Status: SUCCESS http://dpdk.org/patch/153434 _Testing PASS_ Submitter: Gregory Etelson Date: Wednesday, May 14 2025 07:50:18 DPDK git baseline: Repo:dpdk Branch: master CommitID:0c02b2799a521c45ed72c3f2f011b76d994ebc6a 153434 --> testing pass Upstream job id: Generic-DPDK-Compile-Meson#387787 Test environment and result as below: +----------------------------------------+--------------------+ | Environment | dpdk_meson_compile | +========================================+====================+ | RHEL9 (ARM) | PASS | +----------------------------------------+--------------------+ | Ubuntu 20.04 ARM GCC Cross Compile | PASS | +----------------------------------------+--------------------+ | Ubuntu 20.04 ARM SVE | PASS | +----------------------------------------+--------------------+ | Debian 12 with MUSDK | PASS | +----------------------------------------+--------------------+ | Fedora 41 (ARM Clang) | PASS | +----------------------------------------+--------------------+ | Fedora 41 (ARM) | PASS | +----------------------------------------+--------------------+ | Fedora 40 (ARM) | PASS | +----------------------------------------+--------------------+ | Ubuntu 20.04 (ARM) | PASS | +----------------------------------------+--------------------+ | Fedora 40 (ARM Clang) | PASS | +----------------------------------------+--------------------+ | Ubuntu 24.04 (ARM) | PASS | +----------------------------------------+--------------------+ | Ubuntu 22.04 (ARM) | PASS | +----------------------------------------+--------------------+ | CentOS Stream 9 (ARM) | PASS | +----------------------------------------+--------------------+ | Ubuntu 20.04 aarch32 GCC Cross Compile | PASS | +----------------------------------------+--------------------+ | Ubuntu 20.04 ARM Clang Cross Compile | PASS | +----------------------------------------+--------------------+ | CentOS Stream 10 (ARM) | PASS | +----------------------------------------+--------------------+ | Debian 12 (arm) | PASS | +----------------------------------------+--------------------+ RHEL9 (ARM) Kernel: Depends on container host Compiler: gcc 11.5.0 20240719 (Red Hat 11.5.0-2) Ubuntu 20.04 ARM GCC Cross Compile Kernel: Depends on container host Compiler: aarch64-linux-gnu-gcc (Ubuntu 9.4.0-1ubuntu1~20.04.2) 9.4.0 Ubuntu 20.04 ARM SVE Kernel: Depends on container host Compiler: gcc (Ubuntu 10.5.0-1ubuntu1~20.04) 10.5.0 Debian 12 with MUSDK Kernel: Depends on container host Compiler: gcc (Debian 12.2.0-14) 12.2.0 Fedora 41 (ARM Clang) Kernel: Depends on container host Compiler: clang 19.1.5 (Fedora 19.1.5-1.fc41) Fedora 41 (ARM) Kernel: Depends on container host Compiler: gcc 14.2.1 20240912 (Red Hat 14.2.1-3) Fedora 40 (ARM) Kernel: Depends on container host Compiler: gcc 14.2.1 20240912 (Red Hat 14.2.1-3) Ubuntu 20.04 (ARM) Kernel: Depends on container host Compiler: gcc (Ubuntu 9.4.0-1ubuntu1~20.04.2) 9.4.0 Fedora 40 (ARM Clang) Kernel: Depends on container host Compiler: clang 18.1.8 (Fedora 18.1.8-1.fc40) Ubuntu 24.04 (ARM) Kernel: Depends on container host Compiler: gcc (Ubuntu 13.3.0-6ubuntu2~24.04) 13.3.0 Ubuntu 22.04 (ARM) Kernel: Depends on container host Compiler: gcc (Ubuntu 11.4.0-1ubuntu1~22.04) 11.4.0 CentOS Stream 9 (ARM) Kernel: Depends on container host Compiler: gcc 11.5.0 20240719 (Red Hat 11.5.0-2) Ubuntu 20.04 aarch32 GCC Cross Compile Kernel: Depends on container host Compiler: gcc 9.4.0 Ubuntu 20.04 ARM Clang Cross Compile Kernel: Depends on container host Compiler: clang 10.0.0-4ubuntu1 CentOS Stream 10 (ARM) Kernel: Depends on container host Compiler: gcc 14.2.1 20241104 (Red Hat 14.2.1-6) Debian 12 (arm) Kernel: Depends on container host Compiler: gcc (Debian 12.2.0-14) 12.2.0 To view detailed results, visit: https://lab.dpdk.org/results/dashboard/patchsets/33166/ UNH-IOL DPDK Community Lab To manage your email subscriptions, visit: https://lab.dpdk.org/results/dashboard/preferences/subscriptions/