From mboxrd@z Thu Jan 1 00:00:00 1970 Return-Path: Received: from mails.dpdk.org (mails.dpdk.org [217.70.189.124]) by inbox.dpdk.org (Postfix) with ESMTP id 6E01646746 for ; Wed, 14 May 2025 14:35:24 +0200 (CEST) Received: from mails.dpdk.org (localhost [127.0.0.1]) by mails.dpdk.org (Postfix) with ESMTP id 4CA4F402E5; Wed, 14 May 2025 14:35:24 +0200 (CEST) Received: from mail-pl1-f227.google.com (mail-pl1-f227.google.com [209.85.214.227]) by mails.dpdk.org (Postfix) with ESMTP id D7079402C8 for ; Wed, 14 May 2025 14:35:22 +0200 (CEST) Received: by mail-pl1-f227.google.com with SMTP id d9443c01a7336-22e70a9c6bdso93995195ad.3 for ; Wed, 14 May 2025 05:35:22 -0700 (PDT) DKIM-Signature: v=1; a=rsa-sha256; c=relaxed/relaxed; d=iol.unh.edu; s=unh-iol; t=1747226122; x=1747830922; darn=dpdk.org; h=references:in-reply-to:cc:to:from:subject:message-id:date:from:to :cc:subject:date:message-id:reply-to; bh=mmC63i/PtnEdQqkI/c1hy/g2LlB/j+iOuvyXLn6QDyg=; b=QbCBqTJz11ilx3+plk97yDvWQJW9QKEEFSzdD+UF8GWnvUKlGyFywuWTkN8qF0QtJj 6NjaR7VorqTS4YHsqtvCGBGos/sQ4RL8MzBaCIhhY/4zQfiA9TrwmcYfEwm7KJZJz9qT 6pw2qMp1h3kdFv6xvH3kipWU5WsafKMplVBB0= X-Google-DKIM-Signature: v=1; a=rsa-sha256; c=relaxed/relaxed; d=1e100.net; s=20230601; t=1747226122; x=1747830922; h=references:in-reply-to:cc:to:from:subject:message-id:date :x-gm-message-state:from:to:cc:subject:date:message-id:reply-to; bh=mmC63i/PtnEdQqkI/c1hy/g2LlB/j+iOuvyXLn6QDyg=; b=xFf2iVBiQ0wEkAEZsp/JN7OIxOOVv8Yw7aDUBgfkp8fCdGwULmyd/JlUQxvvkqUSTm ODa8s/lUIY85qqywyNapCJUAcD6zRZxgudVxt1BeicFsPv8ZvhKYON80kajDNuVJZDNx mV4vG3MmVEJS3heCesBzgzoRPJyVAq/xGoGyDl+WjBS9xGziU/px3B5AMtacH8bk0GKz xecQ4Eu0H7E0MNw9YEAZD9wBXvL8Xihx9EEVNuCXkhfZZ879jHjTliIV9aWKQ0QEOdmg j4+PSE2SuN4fVEeoVSq98DMR+TbzHpZQ8am5ocxuVhH7yMQlZLtm5U16bMmU6LVM5MDr +Sbw== X-Gm-Message-State: AOJu0YyFxuMiP3A/yt5L5zLS10cpqEQjkWBoWV4AEduX+dLnQtFBJlBm zkllZnTXhiB/r60NGLItf/WNSA48NB6avnvWOacLvdPJwARy/4S7KcSP23DCOhCI6ifLvX+ZXav E9DmuBTOmfxTONYYcNiQedXTdLK0g4Q9yegSq66Dm X-Gm-Gg: ASbGncsd572aKeRNNNXkfM4iObX1mpS0iUMHlJdQ5+WbCMYipbmeUV3D/XkLVUV2lvs YcjOrP5W0vHNrAX/E2zk18PKPzLj7YHae+lNCgESbPKFMN7MdK2GwoVZw3NczSbKBQG5t7CRvUd f0oPi7e9M+W9/MqKDcSgLldVf57nte+eBOif6tmCRzLnMGhMTMOP4MCFqwEb4ua02bp1nfFIxQq gM0mRk6nkSvhN1cCA3NQBM3mM9XO88TP+XtyDPiiOkVqjTlrYYw4vJmfYLsf6aZcYYQK8gO+kFF VX6tQkAXILZN/ENdVsksDW0C6o9di9S5puTpwW5aGFMgblAha9RXSjfG62g= X-Google-Smtp-Source: AGHT+IEPh6fVu0NON2bJ9rRLqa3M5uARGw6oCReaQcUwP6dWv78WZKc/2xpnD8Be5Q38Mmf/hvvGVihRpWrW X-Received: by 2002:a17:903:2f85:b0:223:5ca8:5ecb with SMTP id d9443c01a7336-23198143b9bmr43057165ad.42.1747226121666; Wed, 14 May 2025 05:35:21 -0700 (PDT) Received: from postal.iol.unh.edu (postal.iol.unh.edu. [132.177.123.84]) by smtp-relay.gmail.com with ESMTPS id d9443c01a7336-22fc581de94sm6422315ad.9.2025.05.14.05.35.21 (version=TLS1_2 cipher=ECDHE-ECDSA-AES128-GCM-SHA256 bits=128/128); Wed, 14 May 2025 05:35:21 -0700 (PDT) X-Relaying-Domain: iol.unh.edu Date: Wed, 14 May 2025 05:35:21 -0700 (PDT) Message-ID: <68248e09.170a0220.5d65a.25d5SMTPIN_ADDED_MISSING@mx.google.com> Received: from [172.17.0.3] (unknown [172.18.0.74]) by postal.iol.unh.edu (Postfix) with ESMTP id 2C2106052471; Wed, 14 May 2025 08:35:21 -0400 (EDT) Subject: |SUCCESS| pw153437 [PATCH] [v2] test/crypto: increment dequeue timeo From: dpdklab@iol.unh.edu To: Test Report Cc: dpdk-test-reports@iol.unh.edu In-Reply-To: <20250514092941.1558-1-gmuthukrishn@marvell.com> References: <20250514092941.1558-1-gmuthukrishn@marvell.com> Content-Type: text/plain X-BeenThere: test-report@dpdk.org X-Mailman-Version: 2.1.29 Precedence: list List-Id: automatic DPDK test reports List-Unsubscribe: , List-Archive: List-Post: List-Help: List-Subscribe: , Errors-To: test-report-bounces@dpdk.org Test-Label: iol-abi-testing Test-Status: SUCCESS http://dpdk.org/patch/153437 _Testing PASS_ Submitter: Gowrishankar Muthukrishnan Date: Wednesday, May 14 2025 09:29:38 DPDK git baseline: Repo:dpdk Branch: master CommitID:ca1690ebd224f148268285b15b97441ccdbdd07e 153437 --> testing pass Upstream job id: Generic-DPDK-Compile-ABI#126322 Test environment and result as below: +-------------------+----------+ | Environment | abi_test | +===================+==========+ | CentOS Stream 9 | PASS | +-------------------+----------+ | CentOS Stream 10 | PASS | +-------------------+----------+ | Debian 12 | PASS | +-------------------+----------+ | Fedora 41 (Clang) | PASS | +-------------------+----------+ | Fedora 40 (Clang) | PASS | +-------------------+----------+ | Fedora 40 | PASS | +-------------------+----------+ | Fedora 41 | PASS | +-------------------+----------+ | openSUSE Leap 15 | PASS | +-------------------+----------+ | RHEL9 | PASS | +-------------------+----------+ | RHEL8 | PASS | +-------------------+----------+ | Ubuntu 24.04 | PASS | +-------------------+----------+ | Ubuntu 22.04 | PASS | +-------------------+----------+ CentOS Stream 9 Kernel: Depends on container host Compiler: gcc 11.5.0 20240719 (Red Hat 11.5.0-2) CentOS Stream 10 Kernel: Depends on container host Compiler: gcc 14.2.1 20241104 (Red Hat 14.2.1-6) Debian 12 Kernel: Depends on container host Compiler: gcc (Debian 12.2.0-14) 12.2.0 Fedora 41 (Clang) Kernel: Depends on container host Compiler: clang 19.1.5 (Fedora 19.1.5-1.fc41) Fedora 40 (Clang) Kernel: Depends on container host Compiler: clang 18.1.8 (Fedora 18.1.8-1.fc40) Fedora 40 Kernel: Depends on container host Compiler: gcc 14.2.1 20240912 (Red Hat 14.2.1-3) Fedora 41 Kernel: Depends on container host Compiler: gcc 14.2.1 20240912 (Red Hat 14.2.1-3) openSUSE Leap 15 Kernel: Depends on container host Compiler: gcc (SUSE Linux) 7.5.0 RHEL9 Kernel: Depends on container host Compiler: gcc 11.5.0 20240719 (Red Hat 11.5.0-2) RHEL8 Kernel: Depends on container host Compiler: gcc 8.5.0 20210514 (Red Hat 8.5.0-22) Ubuntu 24.04 Kernel: Depends on container host Compiler: gcc (Ubuntu 13.3.0-6ubuntu2~24.04) 13.3.0 Ubuntu 22.04 Kernel: Depends on container host Compiler: gcc (Ubuntu 11.4.0-1ubuntu1~22.04) 11.4.0 To view detailed results, visit: https://lab.dpdk.org/results/dashboard/patchsets/33169/ UNH-IOL DPDK Community Lab To manage your email subscriptions, visit: https://lab.dpdk.org/results/dashboard/preferences/subscriptions/