From mboxrd@z Thu Jan 1 00:00:00 1970 Return-Path: Received: from mails.dpdk.org (mails.dpdk.org [217.70.189.124]) by inbox.dpdk.org (Postfix) with ESMTP id 5CF0E46746 for ; Wed, 14 May 2025 14:44:31 +0200 (CEST) Received: from mails.dpdk.org (localhost [127.0.0.1]) by mails.dpdk.org (Postfix) with ESMTP id 56E40402E5; Wed, 14 May 2025 14:44:31 +0200 (CEST) Received: from mail-io1-f97.google.com (mail-io1-f97.google.com [209.85.166.97]) by mails.dpdk.org (Postfix) with ESMTP id 29748402C8 for ; Wed, 14 May 2025 14:44:30 +0200 (CEST) Received: by mail-io1-f97.google.com with SMTP id ca18e2360f4ac-85b4170f1f5so238154639f.3 for ; Wed, 14 May 2025 05:44:30 -0700 (PDT) DKIM-Signature: v=1; a=rsa-sha256; c=relaxed/relaxed; d=iol.unh.edu; s=unh-iol; t=1747226669; x=1747831469; darn=dpdk.org; h=references:in-reply-to:cc:to:from:subject:message-id:date:from:to :cc:subject:date:message-id:reply-to; bh=Fq9TEIJXcC10Vbp53jUdn1mrLYNSgyDX9H4hG2Foh6Y=; b=LdRIWLkOeVFLo+kDBjnv2VCWNu3BUkliU/WVzbGAotx1DzA7rZwVadRv3G5cyXtNnv aECjBnHnFSL5/eRfBz+yy4Vjpb6aKAs/UQamhPnHnPOR8PzedwUJS1cblPMFJsk+X2HR qm+/CxCcH1SjOt9JA1lnzToL3iyhAI2sulvs4= X-Google-DKIM-Signature: v=1; a=rsa-sha256; c=relaxed/relaxed; d=1e100.net; s=20230601; t=1747226669; x=1747831469; h=references:in-reply-to:cc:to:from:subject:message-id:date :x-gm-message-state:from:to:cc:subject:date:message-id:reply-to; bh=Fq9TEIJXcC10Vbp53jUdn1mrLYNSgyDX9H4hG2Foh6Y=; b=KQvKExlSf3UWR+5GrVuxbspBunYKBU1ug+jlYe3Ds3wfmXBl3gljCpEtcvkcch9nmx KyHp4ChjAZ3YsCT9dXP3rudhDEwSPKTUP4egiFrUTA2VeJlBt6V3zElGGFP11lLlzti+ npMBrGHWx4CTQniLckX+/iDb8S5ybQ4mpYHODZ1/W+oX7WGHm92nf9A5W7+hXj113XW1 Nz/w6p2noHJR0MAK98s9IsMsr1o0Us0/NPTS7Yq2t6aix0CL5UEj2ErpZF0Elv9RzUIV OFQEbHTYm351BoUcnrQ5vq5SE2rmgnibogKCzFzl8B+QkR77erLe09e0MhyOwucwTLzQ PLvQ== X-Gm-Message-State: AOJu0YxawZlYlN920T1+NqY3wXK6Wt+T9dktwCam8kkg0xpBdVcVK4Xe sUAlMBWQD7zS7xJO7j5vL7rduAJfghMJniNomysvHjLB2jqvD49/ppL/R8c8/k5o414VKTI6yK9 YeRhfMkKb4CFjFPjuqdhilOid6j1rRr5UyNcjiiAJ X-Gm-Gg: ASbGncsU5A6OGbkO3KhwXxNGUX/QvJIbOijPh5vg5wP6xfbgo7zfwrCVci48sssTX9g EMLzDWjxvDHjLhbqHtAQm4Hh6f6SHzaOZVGxKuCGa0pGGHdo3/Hn0DTwp5NzE82aAfeI3T74CHY xPgRpLQ7z7Ouhad/pARl0g3paOatOzZlnQizHQI8Ff07jNeZIcIH3uSGZcBQ1z5K3TUVFjGN8Gd JJCEPxsIlY+0k7V62af9IOhDxQnYW5QkLp0X3R8VLHhDdWkinM9DfSVsN4iK3uVacHKCcQ0lYB+ h5rYsIIcF4iS6gzJbfxFIZgQqakw29r6hCfyG+YnZEXCINR350pVeG0uYlM= X-Google-Smtp-Source: AGHT+IFTrm5BM2GjpcLgKei9UafL4p6xInqcgB2br4vjmqCZut2eLkzDiCUJhtcAWa8TxTpWYNh1ti+ICkGC X-Received: by 2002:a05:6e02:2186:b0:3db:75e6:80d5 with SMTP id e9e14a558f8ab-3db75e68272mr4857595ab.14.1747226669092; Wed, 14 May 2025 05:44:29 -0700 (PDT) Received: from postal.iol.unh.edu (postal.iol.unh.edu. [132.177.123.84]) by smtp-relay.gmail.com with ESMTPS id 8926c6da1cb9f-4fa2262eba5sm201986173.62.2025.05.14.05.44.28 (version=TLS1_2 cipher=ECDHE-ECDSA-AES128-GCM-SHA256 bits=128/128); Wed, 14 May 2025 05:44:29 -0700 (PDT) X-Relaying-Domain: iol.unh.edu Date: Wed, 14 May 2025 05:44:29 -0700 (PDT) Message-ID: <6824902d.050a0220.3a5de.a64eSMTPIN_ADDED_MISSING@mx.google.com> Received: from [172.17.0.3] (unknown [172.18.0.74]) by postal.iol.unh.edu (Postfix) with ESMTP id 8DA176052471; Wed, 14 May 2025 08:44:28 -0400 (EDT) Subject: |SUCCESS| pw153438 [PATCH] examples: remove check for old broken pkg From: dpdklab@iol.unh.edu To: Test Report Cc: dpdk-test-reports@iol.unh.edu In-Reply-To: <20250514100306.11717-1-bruce.richardson@intel.com> References: <20250514100306.11717-1-bruce.richardson@intel.com> Content-Type: text/plain X-BeenThere: test-report@dpdk.org X-Mailman-Version: 2.1.29 Precedence: list List-Id: automatic DPDK test reports List-Unsubscribe: , List-Archive: List-Post: List-Help: List-Subscribe: , Errors-To: test-report-bounces@dpdk.org Test-Label: iol-compile-amd64-testing Test-Status: SUCCESS http://dpdk.org/patch/153438 _Testing PASS_ Submitter: Bruce Richardson Date: Wednesday, May 14 2025 10:03:06 DPDK git baseline: Repo:dpdk Branch: master CommitID:2bf836de46d36a81f9321f947fbfce52b3180782 153438 --> testing pass Upstream job id: Generic-DPDK-Compile-Meson#387818 Test environment and result as below: +-----------------------------------+--------------------+-------------------+------------------+-------------------------+-------------------+----------------------+ | Environment | dpdk_meson_compile | dpdk_compile_spdk | dpdk_compile_ovs | dpdk_llvm_clang_compile | dpdk_msvc_compile | dpdk_mingw64_compile | +===================================+====================+===================+==================+=========================+===================+======================+ | CentOS Stream 9 | PASS | PASS | SKIPPED | SKIPPED | SKIPPED | SKIPPED | +-----------------------------------+--------------------+-------------------+------------------+-------------------------+-------------------+----------------------+ | CentOS Stream 10 | PASS | SKIPPED | SKIPPED | SKIPPED | SKIPPED | SKIPPED | +-----------------------------------+--------------------+-------------------+------------------+-------------------------+-------------------+----------------------+ | Debian 12 | PASS | PASS | SKIPPED | SKIPPED | SKIPPED | SKIPPED | +-----------------------------------+--------------------+-------------------+------------------+-------------------------+-------------------+----------------------+ | Fedora 40 (Clang) | PASS | PASS | SKIPPED | SKIPPED | SKIPPED | SKIPPED | +-----------------------------------+--------------------+-------------------+------------------+-------------------------+-------------------+----------------------+ | Fedora 40 | PASS | PASS | SKIPPED | SKIPPED | SKIPPED | SKIPPED | +-----------------------------------+--------------------+-------------------+------------------+-------------------------+-------------------+----------------------+ | Fedora 41 (Clang) | PASS | PASS | PASS | SKIPPED | SKIPPED | SKIPPED | +-----------------------------------+--------------------+-------------------+------------------+-------------------------+-------------------+----------------------+ | openSUSE Leap 15 | PASS | SKIPPED | SKIPPED | SKIPPED | SKIPPED | SKIPPED | +-----------------------------------+--------------------+-------------------+------------------+-------------------------+-------------------+----------------------+ | RHEL8 | PASS | SKIPPED | SKIPPED | SKIPPED | SKIPPED | SKIPPED | +-----------------------------------+--------------------+-------------------+------------------+-------------------------+-------------------+----------------------+ | RHEL9 | PASS | SKIPPED | SKIPPED | SKIPPED | SKIPPED | SKIPPED | +-----------------------------------+--------------------+-------------------+------------------+-------------------------+-------------------+----------------------+ | Ubuntu 20.04 | PASS | SKIPPED | SKIPPED | SKIPPED | SKIPPED | SKIPPED | +-----------------------------------+--------------------+-------------------+------------------+-------------------------+-------------------+----------------------+ | Ubuntu 22.04 | PASS | PASS | SKIPPED | SKIPPED | SKIPPED | SKIPPED | +-----------------------------------+--------------------+-------------------+------------------+-------------------------+-------------------+----------------------+ | Ubuntu 24.04 | PASS | PASS | PASS | SKIPPED | SKIPPED | SKIPPED | +-----------------------------------+--------------------+-------------------+------------------+-------------------------+-------------------+----------------------+ | Alpine | PASS | SKIPPED | SKIPPED | SKIPPED | SKIPPED | SKIPPED | +-----------------------------------+--------------------+-------------------+------------------+-------------------------+-------------------+----------------------+ | FreeBSD 13.5 | PASS | SKIPPED | SKIPPED | SKIPPED | SKIPPED | SKIPPED | +-----------------------------------+--------------------+-------------------+------------------+-------------------------+-------------------+----------------------+ | FreeBSD 14.2 | PASS | SKIPPED | SKIPPED | SKIPPED | SKIPPED | SKIPPED | +-----------------------------------+--------------------+-------------------+------------------+-------------------------+-------------------+----------------------+ | Ubuntu 24.04 32 Bit Cross Compile | PASS | SKIPPED | SKIPPED | SKIPPED | SKIPPED | SKIPPED | +-----------------------------------+--------------------+-------------------+------------------+-------------------------+-------------------+----------------------+ | Fedora 41 | PASS | PASS | PASS | SKIPPED | SKIPPED | SKIPPED | +-----------------------------------+--------------------+-------------------+------------------+-------------------------+-------------------+----------------------+ | Windows Server 2022 | SKIPPED | SKIPPED | SKIPPED | PASS | PASS | PASS | +-----------------------------------+--------------------+-------------------+------------------+-------------------------+-------------------+----------------------+ CentOS Stream 9 Kernel: Depends on container host Compiler: gcc 11.5.0 20240719 (Red Hat 11.5.0-2) CentOS Stream 10 Kernel: Depends on container host Compiler: gcc 14.2.1 20241104 (Red Hat 14.2.1-6) Debian 12 Kernel: Depends on container host Compiler: gcc (Debian 12.2.0-14) 12.2.0 Fedora 40 (Clang) Kernel: Depends on container host Compiler: clang 18.1.8 (Fedora 18.1.8-1.fc40) Fedora 40 Kernel: Depends on container host Compiler: gcc 14.2.1 20240912 (Red Hat 14.2.1-3) Fedora 41 (Clang) Kernel: Depends on container host Compiler: clang 19.1.5 (Fedora 19.1.5-1.fc41) openSUSE Leap 15 Kernel: Depends on container host Compiler: gcc (SUSE Linux) 7.5.0 RHEL8 Kernel: Depends on container host Compiler: gcc 8.5.0 20210514 (Red Hat 8.5.0-22) RHEL9 Kernel: Depends on container host Compiler: gcc 11.5.0 20240719 (Red Hat 11.5.0-2) Ubuntu 20.04 Kernel: 4.19.325-0419325-generic Compiler: gcc (Ubuntu 9.4.0-1ubuntu1~20.04.2) 9.4.0 Ubuntu 22.04 Kernel: Depends on container host Compiler: gcc (Ubuntu 11.4.0-1ubuntu1~22.04) 11.4.0 Ubuntu 24.04 Kernel: Depends on container host Compiler: gcc (Ubuntu 13.3.0-6ubuntu2~24.04) 13.3.0 Alpine Kernel: Depends on container host Compiler: gcc (Alpine 14.2.0) 14.2.0 FreeBSD 13.5 Kernel: 13.5-RELEASE Compiler: clang 19.1.7 FreeBSD 14.2 Kernel: 14.2-RELEASE Compiler: clang 18.1.6 Ubuntu 24.04 32 Bit Cross Compile Kernel: Depends on container host Compiler: gcc (Ubuntu 13.3.0-6ubuntu2~24.04) 13.3.0 Fedora 41 Kernel: Depends on container host Compiler: gcc 14.2.1 20240912 (Red Hat 14.2.1-3) Windows Server 2022 Kernel: 10.0.20348.2031 Compiler: clang 15.0.7, gcc 14.1.0 (MinGW), and MSVC VS 19.39.33521 To view detailed results, visit: https://lab.dpdk.org/results/dashboard/patchsets/33170/ UNH-IOL DPDK Community Lab To manage your email subscriptions, visit: https://lab.dpdk.org/results/dashboard/preferences/subscriptions/