From mboxrd@z Thu Jan 1 00:00:00 1970 Return-Path: Received: from mails.dpdk.org (mails.dpdk.org [217.70.189.124]) by inbox.dpdk.org (Postfix) with ESMTP id CE23346746 for ; Wed, 14 May 2025 15:41:05 +0200 (CEST) Received: from mails.dpdk.org (localhost [127.0.0.1]) by mails.dpdk.org (Postfix) with ESMTP id BAA3E402E5; Wed, 14 May 2025 15:41:05 +0200 (CEST) Received: from mail-pf1-f226.google.com (mail-pf1-f226.google.com [209.85.210.226]) by mails.dpdk.org (Postfix) with ESMTP id 23739402C8 for ; Wed, 14 May 2025 15:41:04 +0200 (CEST) Received: by mail-pf1-f226.google.com with SMTP id d2e1a72fcca58-736c277331eso781673b3a.1 for ; Wed, 14 May 2025 06:41:04 -0700 (PDT) DKIM-Signature: v=1; a=rsa-sha256; c=relaxed/relaxed; d=iol.unh.edu; s=unh-iol; t=1747230063; x=1747834863; darn=dpdk.org; h=references:in-reply-to:cc:to:from:subject:message-id:date:from:to :cc:subject:date:message-id:reply-to; bh=rfSISPbLugxr2Pq88w0jR6WqWET4k1h487/zEwv2B1Y=; b=TtcQcKY01NJ7sk12OXnAZTeyuKOs7KKCZpfu7vgrKyN+cQiFSc5BwyOL30Tke4PGd8 fm4t0y2ngYXh7C9RfVPiXnF8cbLw07VuAKMT3jL+Bixm5GIo99PurA8DaSkw0P5th8CY 8UgRLrPHK9xR9r5AAo1JWRMrEQjcrk/uIcSy4= X-Google-DKIM-Signature: v=1; a=rsa-sha256; c=relaxed/relaxed; d=1e100.net; s=20230601; t=1747230063; x=1747834863; h=references:in-reply-to:cc:to:from:subject:message-id:date :x-gm-message-state:from:to:cc:subject:date:message-id:reply-to; bh=rfSISPbLugxr2Pq88w0jR6WqWET4k1h487/zEwv2B1Y=; b=iDYHtf9u6Y2U02JYdd/w+yORu0/OZVeyuRdxxVMOib3Gs6fAgycCMh+bUSU6SqCfcO 38QUoyCdwSLT3V7VORxsP5cEKRf7YXh3dp8iMjZsmrk1bK0gyTIhCNl29kU53rGI39kr zv0sxKJqYMKuW0AFXeznjClzetFoB5L9ww7qUopSTe3zZCh6JMXIT7Ycx1HgOWB5uweq VGDmeymMdcOBa8Tfh6eNU7igAbFlUVhmWopwOZNQaiax+WOVNxquXey5Fge2xt4lO4ZS 58k6uMfc9vyHwtvAaXeN8fO2dN4yLIE/r0vzWBmv/EqrPGPvepQ3RNrtWU3dNda1t6wa QI1w== X-Gm-Message-State: AOJu0YzAurtTwzpOt6AV5IizoFsBSpbrYZyo54suHs9kE1BIyBtem+p1 cFXFSslsVKGhcWBi+TvYh7hgNcJJm0iBNhynaHR2DwoI7NeOu2AVk7Q3GKAElHiGgbCa7/AT4y3 AOF8990Z+vpHPUuJaBGAtp/+aVw0HFhaa9TSZAcRsoXajhgfAqZ4o6EBW X-Gm-Gg: ASbGncvZ43sZ4aFaqwCM0vL0xAli4I64i8nmt2Q6E346R7L+sCPYSXEnbaX3ldldVgO y4ZyzyYankXO9BKnLiZkwKEMWZFz7Vx1KW8HaX8QUfWK95YK7mkgQ432tIXPaU6EOQbMA2RMXXj zgUDynP8hkZEVFaJ5atxp2CxrxTGFVMDe2eOHTuwRk6mOBprqgDCi8mNvHvnH1t/2ustrizuIhu mqTUL4FaNDLn5cmdMQnuCcoYpsRH3oQYm7gQFtvzz8yTEOmsVlJ/E7u+6iX+RpDOSjZ+G1Tdq0d iy7coUHG9gGgk18lUZan8YTgpFK11F6AYlRH X-Google-Smtp-Source: AGHT+IGaYSUAl4yIEJlfr/aBKjiUPJyS8Nx6QONDq3f8WQCksq1+aF9oy+CxrWFeJ3m40oWvP8DLTuuxetbr X-Received: by 2002:a05:6a21:48a:b0:1f0:e2d0:fb65 with SMTP id adf61e73a8af0-215fda718eamr5556103637.2.1747230063029; Wed, 14 May 2025 06:41:03 -0700 (PDT) Received: from postal.iol.unh.edu (postal.iol.unh.edu. [2606:4100:3880:1234::84]) by smtp-relay.gmail.com with ESMTPS id d2e1a72fcca58-7423772679asm659955b3a.8.2025.05.14.06.41.02 (version=TLS1_2 cipher=ECDHE-ECDSA-AES128-GCM-SHA256 bits=128/128); Wed, 14 May 2025 06:41:03 -0700 (PDT) X-Relaying-Domain: iol.unh.edu Date: Wed, 14 May 2025 06:41:03 -0700 (PDT) Message-ID: <68249d6f.050a0220.18eb99.32a2SMTPIN_ADDED_MISSING@mx.google.com> Received: from [172.21.0.5] (unknown [172.18.0.240]) by postal.iol.unh.edu (Postfix) with ESMTP id 3CB636052471; Wed, 14 May 2025 09:41:02 -0400 (EDT) Subject: |SUCCESS| pw153437 [PATCH] [v2] test/crypto: increment dequeue timeo From: dpdklab@iol.unh.edu To: Test Report Cc: dpdk-test-reports@iol.unh.edu In-Reply-To: <20250514092941.1558-1-gmuthukrishn@marvell.com> References: <20250514092941.1558-1-gmuthukrishn@marvell.com> Content-Type: text/plain X-BeenThere: test-report@dpdk.org X-Mailman-Version: 2.1.29 Precedence: list List-Id: automatic DPDK test reports List-Unsubscribe: , List-Archive: List-Post: List-Help: List-Subscribe: , Errors-To: test-report-bounces@dpdk.org Test-Label: iol-sample-apps-testing Test-Status: SUCCESS http://dpdk.org/patch/153437 _Testing PASS_ Submitter: Gowrishankar Muthukrishnan Date: Wednesday, May 14 2025 09:29:38 DPDK git baseline: Repo:dpdk Branch: master CommitID:ca1690ebd224f148268285b15b97441ccdbdd07e 153437 --> testing pass Upstream job id: ACVP-FIPS-testing#9805 Test environment and result as below: +--------------------+----------------------+----------------------+ | Environment | compressdev_zlib_pmd | dpdk_fips_validation | +====================+======================+======================+ | Ubuntu 22.04 (ARM) | PASS | SKIPPED | +--------------------+----------------------+----------------------+ | Ubuntu 22.04 | PASS | SKIPPED | +--------------------+----------------------+----------------------+ | Ubuntu 20.04 | SKIPPED | PASS | +--------------------+----------------------+----------------------+ Ubuntu 22.04 (ARM) Kernel: 5.15.0-97-generic Compiler: gcc gcc (Ubuntu 11.4.0-1ubuntu1~22.04) 11.4.0 Ubuntu 22.04 Kernel: 5.15.0-100-generic Compiler: gcc gcc (Ubuntu 11.4.0-1ubuntu1~22.04) 11.4.0 Ubuntu 20.04 Kernel: Depends on container host Compiler: gcc (Ubuntu 9.4.0-1ubuntu1~20.04.2) 9.4.0 To view detailed results, visit: https://lab.dpdk.org/results/dashboard/patchsets/33169/ UNH-IOL DPDK Community Lab To manage your email subscriptions, visit: https://lab.dpdk.org/results/dashboard/preferences/subscriptions/